| lamb1 | 
Linux (SUSE 10.1) / x86_64  |  |  |  | 
| wilson2 | 
Linux (openSUSE 10.3) / x86_64  |  |  |  | 
| wellington | 
Linux (openSUSE 10.3) / i686  |  |  |  | 
| liverpool | 
Windows Server 2003 R2 (32-bit) / x64  |  |  |  | 
| pelham | 
Mac OS X Leopard (10.5.1) / i386  |  |  |  | 
 | 
| A [A] B  C  D  E  F  G  H  I  J  K  L  M  N  O  P  Q  R  S  T  U  V  W  X  Y  Z  | 
ABarray 1.7.2 Yongming Andrew Sun
 | Last Changed Rev: 30292 / Revision: 30951 |  | Last Changed Date: 2008-02-29 09:20:06 -0800 |  
  | lamb1  | Linux (SUSE 10.1) / x86_64  |  OK  |  OK  |  | 
| wilson2  | Linux (openSUSE 10.3) / x86_64  |  OK  |  OK  |  | 
| wellington  | Linux (openSUSE 10.3) / i686  |  OK  |  OK  |  | 
| liverpool  | Windows Server 2003 R2 (32-bit) / x64  |  OK  |  OK  |  OK  | 
| pelham  | Mac OS X Leopard (10.5.1) / i386  |  OK  |  OK  |  OK  | 
aCGH 1.13.0 Jane Fridlyand
 | Last Changed Rev: 28557 / Revision: 30951 |  | Last Changed Date: 2007-11-07 23:00:31 -0800 |  
  | lamb1  | Linux (SUSE 10.1) / x86_64  |  OK  |  WARNINGS  |  | 
| wilson2  | Linux (openSUSE 10.3) / x86_64  |  OK  |  WARNINGS  |  | 
| wellington  | Linux (openSUSE 10.3) / i686  |  OK  |  WARNINGS  |  | 
| liverpool  | Windows Server 2003 R2 (32-bit) / x64  |  OK  |  WARNINGS  |  OK  | 
| pelham  | Mac OS X Leopard (10.5.1) / i386  |  OK  |  WARNINGS  |  OK  | 
ACME 1.5.0 Sean Davis
 | Last Changed Rev: 28557 / Revision: 30951 |  | Last Changed Date: 2007-11-07 23:00:31 -0800 |  
  | lamb1  | Linux (SUSE 10.1) / x86_64  |  OK  |  OK  |  | 
| wilson2  | Linux (openSUSE 10.3) / x86_64  |  OK  |  OK  |  | 
| wellington  | Linux (openSUSE 10.3) / i686  |  OK  |  OK  |  | 
| liverpool  | Windows Server 2003 R2 (32-bit) / x64  |  OK  |  OK  |  OK  | 
| pelham  | Mac OS X Leopard (10.5.1) / i386  |  OK  |  OK  |  OK  | 
adSplit 1.9.2 Claudio Lottaz
 | Last Changed Rev: 30502 / Revision: 30951 |  | Last Changed Date: 2008-03-13 12:53:52 -0700 |  
  | lamb1  | Linux (SUSE 10.1) / x86_64  |  OK  |  OK  |  | 
| wilson2  | Linux (openSUSE 10.3) / x86_64  |  OK  |  OK  |  | 
| wellington  | Linux (openSUSE 10.3) / i686  |  OK  |  OK  |  | 
| liverpool  | Windows Server 2003 R2 (32-bit) / x64  |  OK  |  OK  |  OK  | 
| pelham  | Mac OS X Leopard (10.5.1) / i386  |  OK  |  OK  |  OK  | 
affxparser 1.11.8 Kasper Daniel Hansen
 | Last Changed Rev: 30951 / Revision: 30951 |  | Last Changed Date: 2008-04-08 23:34:01 -0700 |  
  | lamb1  | Linux (SUSE 10.1) / x86_64  |  OK  |  WARNINGS  |  | 
| wilson2  | Linux (openSUSE 10.3) / x86_64  |  OK  |  WARNINGS  |  | 
| wellington  | Linux (openSUSE 10.3) / i686  |  OK  |  WARNINGS  |  | 
| liverpool  | Windows Server 2003 R2 (32-bit) / x64  |  OK  |  WARNINGS  |  OK  | 
| pelham  | Mac OS X Leopard (10.5.1) / i386  |  OK  |  WARNINGS  |  OK  | 
affy 1.17.12 Rafael A. Irizarry
 | Last Changed Rev: 30775 / Revision: 30951 |  | Last Changed Date: 2008-04-01 06:53:48 -0700 |  
  | lamb1  | Linux (SUSE 10.1) / x86_64  |  OK  |  OK  |  | 
| wilson2  | Linux (openSUSE 10.3) / x86_64  |  OK  |  OK  |  | 
| wellington  | Linux (openSUSE 10.3) / i686  |  OK  |  OK  |  | 
| liverpool  | Windows Server 2003 R2 (32-bit) / x64  |  OK  |  OK  |  OK  | 
| pelham  | Mac OS X Leopard (10.5.1) / i386  |  OK  |  OK  |  OK  | 
affycomp 1.15.2 Rafael A. Irizarry
 | Last Changed Rev: 30293 / Revision: 30951 |  | Last Changed Date: 2008-02-29 09:39:23 -0800 |  
  | lamb1  | Linux (SUSE 10.1) / x86_64  |  OK  |  OK  |  | 
| wilson2  | Linux (openSUSE 10.3) / x86_64  |  OK  |  OK  |  | 
| wellington  | Linux (openSUSE 10.3) / i686  |  OK  |  OK  |  | 
| liverpool  | Windows Server 2003 R2 (32-bit) / x64  |  OK  |  OK  |  OK  | 
| pelham  | Mac OS X Leopard (10.5.1) / i386  |  OK  |  OK  |  OK  | 
affycoretools 1.11.4 James W. MacDonald
 | Last Changed Rev: 30232 / Revision: 30951 |  | Last Changed Date: 2008-02-27 10:23:07 -0800 |  
  | lamb1  | Linux (SUSE 10.1) / x86_64  |  OK  |  ERROR  |  | 
| wilson2  | Linux (openSUSE 10.3) / x86_64  |  OK  |  ERROR  |  | 
| wellington  | Linux (openSUSE 10.3) / i686  |  OK  |  ERROR  |  | 
| liverpool  | Windows Server 2003 R2 (32-bit) / x64  |  OK  |  OK  |  OK  | 
| pelham  | Mac OS X Leopard (10.5.1) / i386  |  OK  |  ERROR  |  OK  | 
AffyExpress 1.5.2 Xuejun Arthur Li
 | Last Changed Rev: 30207 / Revision: 30951 |  | Last Changed Date: 2008-02-26 11:37:47 -0800 |  
  | lamb1  | Linux (SUSE 10.1) / x86_64  |  OK  |  OK  |  | 
| wilson2  | Linux (openSUSE 10.3) / x86_64  |  OK  |  OK  |  | 
| wellington  | Linux (openSUSE 10.3) / i686  |  OK  |  OK  |  | 
| liverpool  | Windows Server 2003 R2 (32-bit) / x64  |  OK  |  OK  |  OK  | 
| pelham  | Mac OS X Leopard (10.5.1) / i386  |  OK  |  OK  |  OK  | 
affyio 1.7.17 Benjamin Milo Bolstad
 | Last Changed Rev: 30574 / Revision: 30951 |  | Last Changed Date: 2008-03-18 20:23:24 -0700 |  
  | lamb1  | Linux (SUSE 10.1) / x86_64  |  OK  |  OK  |  | 
| wilson2  | Linux (openSUSE 10.3) / x86_64  |  OK  |  OK  |  | 
| wellington  | Linux (openSUSE 10.3) / i686  |  OK  |  OK  |  | 
| liverpool  | Windows Server 2003 R2 (32-bit) / x64  |  OK  |  OK  |  OK  | 
| pelham  | Mac OS X Leopard (10.5.1) / i386  |  OK  |  OK  |  OK  | 
affylmGUI 1.13.1 Keith Satterley
 | Last Changed Rev: 30376 / Revision: 30951 |  | Last Changed Date: 2008-03-05 10:21:42 -0800 |  
  | lamb1  | Linux (SUSE 10.1) / x86_64  |  OK  |  OK  |  | 
| wilson2  | Linux (openSUSE 10.3) / x86_64  |  OK  |  OK  |  | 
| wellington  | Linux (openSUSE 10.3) / i686  |  OK  |  OK  |  | 
| liverpool  | Windows Server 2003 R2 (32-bit) / x64  |  OK  |  OK  |  OK  | 
| pelham  | Mac OS X Leopard (10.5.1) / i386  |  OK  |  OK  |  OK  | 
affyPara 0.99.3 Markus Schmidberger
 | Last Changed Rev: 30718 / Revision: 30951 |  | Last Changed Date: 2008-03-27 16:47:48 -0700 |  
  | lamb1  | Linux (SUSE 10.1) / x86_64  |  OK  |  OK  |  | 
| wilson2  | Linux (openSUSE 10.3) / x86_64  |  OK  |  OK  |  | 
| wellington  | Linux (openSUSE 10.3) / i686  |  OK  |  OK  |  | 
| liverpool  | Windows Server 2003 R2 (32-bit) / x64  |  OK  |  OK  |  OK  | 
| pelham  | Mac OS X Leopard (10.5.1) / i386  |  OK  |  OK  |  OK  | 
affypdnn 1.13.3 Laurent Gautier
 | Last Changed Rev: 30377 / Revision: 30951 |  | Last Changed Date: 2008-03-05 11:28:20 -0800 |  
  | lamb1  | Linux (SUSE 10.1) / x86_64  |  OK  |  OK  |  | 
| wilson2  | Linux (openSUSE 10.3) / x86_64  |  OK  |  OK  |  | 
| wellington  | Linux (openSUSE 10.3) / i686  |  OK  |  TIMEOUT  |  | 
| liverpool  | Windows Server 2003 R2 (32-bit) / x64  |  OK  |  OK  |  OK  | 
| pelham  | Mac OS X Leopard (10.5.1) / i386  |  OK  |  OK  |  OK  | 
affyPLM 1.15.10 Ben Bolstad
 | Last Changed Rev: 30774 / Revision: 30951 |  | Last Changed Date: 2008-04-01 06:11:17 -0700 |  
  | lamb1  | Linux (SUSE 10.1) / x86_64  |  OK  |  OK  |  | 
| wilson2  | Linux (openSUSE 10.3) / x86_64  |  OK  |  OK  |  | 
| wellington  | Linux (openSUSE 10.3) / i686  |  OK  |  OK  |  | 
| liverpool  | Windows Server 2003 R2 (32-bit) / x64  |  ERROR  |  skipped  |  skipped  | 
| pelham  | Mac OS X Leopard (10.5.1) / i386  |  OK  |  OK  |  OK  | 
affyQCReport 1.17.0 Craig Parman
 | Last Changed Rev: 27716 / Revision: 30951 |  | Last Changed Date: 2007-10-02 18:16:39 -0700 |  
  | lamb1  | Linux (SUSE 10.1) / x86_64  |  OK  |  OK  |  | 
| wilson2  | Linux (openSUSE 10.3) / x86_64  |  OK  |  OK  |  | 
| wellington  | Linux (openSUSE 10.3) / i686  |  OK  |  OK  |  | 
| liverpool  | Windows Server 2003 R2 (32-bit) / x64  |  OK  |  OK  |  OK  | 
| pelham  | Mac OS X Leopard (10.5.1) / i386  |  OK  |  OK  |  OK  | 
altcdfenvs 2.0.1 Laurent Gautier
 | Last Changed Rev: 30871 / Revision: 30951 |  | Last Changed Date: 2008-04-06 06:27:13 -0700 |  
  | lamb1  | Linux (SUSE 10.1) / x86_64  |  ERROR  |  skipped  |  | 
| wilson2  | Linux (openSUSE 10.3) / x86_64  |  ERROR  |  skipped  |  | 
| wellington  | Linux (openSUSE 10.3) / i686  |  ERROR  |  skipped  |  | 
| liverpool  | Windows Server 2003 R2 (32-bit) / x64  |  ERROR  |  skipped  |  skipped  | 
| pelham  | Mac OS X Leopard (10.5.1) / i386  |  ERROR  |  skipped  |  skipped  | 
annaffy 1.11.5 Colin A. Smith
 | Last Changed Rev: 30441 / Revision: 30951 |  | Last Changed Date: 2008-03-10 12:38:14 -0700 |  
  | lamb1  | Linux (SUSE 10.1) / x86_64  |  OK  |  OK  |  | 
| wilson2  | Linux (openSUSE 10.3) / x86_64  |  OK  |  OK  |  | 
| wellington  | Linux (openSUSE 10.3) / i686  |  OK  |  OK  |  | 
| liverpool  | Windows Server 2003 R2 (32-bit) / x64  |  OK  |  OK  |  OK  | 
| pelham  | Mac OS X Leopard (10.5.1) / i386  |  OK  |  OK  |  OK  | 
AnnBuilder 1.17.0 J. Zhang
 | Last Changed Rev: 27716 / Revision: 30951 |  | Last Changed Date: 2007-10-02 18:16:39 -0700 |  
  | lamb1  | Linux (SUSE 10.1) / x86_64  |  OK  |  OK  |  | 
| wilson2  | Linux (openSUSE 10.3) / x86_64  |  OK  |  OK  |  | 
| wellington  | Linux (openSUSE 10.3) / i686  |  OK  |  OK  |  | 
| liverpool  | Windows Server 2003 R2 (32-bit) / x64  |  OK  |  OK  |  OK  | 
| pelham  | Mac OS X Leopard (10.5.1) / i386  |  OK  |  OK  |  OK  | 
annotate 1.17.12 Biocore Team c/o BioC user list
 | Last Changed Rev: 30740 / Revision: 30951 |  | Last Changed Date: 2008-03-28 16:16:50 -0700 |  
  | lamb1  | Linux (SUSE 10.1) / x86_64  |  OK  |  WARNINGS  |  | 
| wilson2  | Linux (openSUSE 10.3) / x86_64  |  OK  |  WARNINGS  |  | 
| wellington  | Linux (openSUSE 10.3) / i686  |  OK  |  WARNINGS  |  | 
| liverpool  | Windows Server 2003 R2 (32-bit) / x64  |  OK  |  WARNINGS  |  OK  | 
| pelham  | Mac OS X Leopard (10.5.1) / i386  |  OK  |  WARNINGS  |  OK  | 
AnnotationDbi 1.1.30 Biocore Team c/o BioC user list
 | Last Changed Rev: 30784 / Revision: 30951 |  | Last Changed Date: 2008-04-01 16:01:37 -0700 |  
  | lamb1  | Linux (SUSE 10.1) / x86_64  |  OK  |  OK  |  | 
| wilson2  | Linux (openSUSE 10.3) / x86_64  |  OK  |  OK  |  | 
| wellington  | Linux (openSUSE 10.3) / i686  |  OK  |  OK  |  | 
| liverpool  | Windows Server 2003 R2 (32-bit) / x64  |  OK  |  OK  |  OK  | 
| pelham  | Mac OS X Leopard (10.5.1) / i386  |  OK  |  OK  |  OK  | 
annotationTools 1.9.1 Alexandre Kuhn
 | Last Changed Rev: 29976 / Revision: 30951 |  | Last Changed Date: 2008-02-13 01:55:58 -0800 |  
  | lamb1  | Linux (SUSE 10.1) / x86_64  |  OK  |  OK  |  | 
| wilson2  | Linux (openSUSE 10.3) / x86_64  |  OK  |  OK  |  | 
| wellington  | Linux (openSUSE 10.3) / i686  |  OK  |  OK  |  | 
| liverpool  | Windows Server 2003 R2 (32-bit) / x64  |  OK  |  OK  |  OK  | 
| pelham  | Mac OS X Leopard (10.5.1) / i386  |  OK  |  OK  |  OK  | 
apComplex 2.5.1 Denise Scholtens
 | Last Changed Rev: 30885 / Revision: 30951 |  | Last Changed Date: 2008-04-07 13:45:02 -0700 |  
  | lamb1  | Linux (SUSE 10.1) / x86_64  |  OK  |  OK  |  | 
| wilson2  | Linux (openSUSE 10.3) / x86_64  |  OK  |  OK  |  | 
| wellington  | Linux (openSUSE 10.3) / i686  |  OK  |  OK  |  | 
| liverpool  | Windows Server 2003 R2 (32-bit) / x64  |  OK  |  OK  |  OK  | 
| pelham  | Mac OS X Leopard (10.5.1) / i386  |  OK  |  OK  |  OK  | 
aroma.light 1.7.1 Henrik Bengtsson
 | Last Changed Rev: 28959 / Revision: 30951 |  | Last Changed Date: 2007-11-28 14:54:24 -0800 |  
  | lamb1  | Linux (SUSE 10.1) / x86_64  |  OK  |  OK  |  | 
| wilson2  | Linux (openSUSE 10.3) / x86_64  |  OK  |  OK  |  | 
| wellington  | Linux (openSUSE 10.3) / i686  |  OK  |  OK  |  | 
| liverpool  | Windows Server 2003 R2 (32-bit) / x64  |  OK  |  OK  |  OK  | 
| pelham  | Mac OS X Leopard (10.5.1) / i386  |  OK  |  OK  |  OK  | 
arrayMagic 1.17.3 Andreas Buness
 | Last Changed Rev: 29331 / Revision: 30951 |  | Last Changed Date: 2007-12-27 13:57:27 -0800 |  
  | lamb1  | Linux (SUSE 10.1) / x86_64  |  ERROR  |  skipped  |  | 
| wilson2  | Linux (openSUSE 10.3) / x86_64  |  ERROR  |  skipped  |  | 
| wellington  | Linux (openSUSE 10.3) / i686  |  ERROR  |  skipped  |  | 
| liverpool  | Windows Server 2003 R2 (32-bit) / x64  |  ERROR  |  skipped  |  skipped  | 
| pelham  | Mac OS X Leopard (10.5.1) / i386  |  ERROR  |  skipped  |  skipped  | 
arrayQuality 1.16.2 Agnes Paquet
 | Last Changed Rev: 30932 / Revision: 30951 |  | Last Changed Date: 2008-04-08 15:09:13 -0700 |  
  | lamb1  | Linux (SUSE 10.1) / x86_64  |  OK  |  WARNINGS  |  | 
| wilson2  | Linux (openSUSE 10.3) / x86_64  |  OK  |  WARNINGS  |  | 
| wellington  | Linux (openSUSE 10.3) / i686  |  OK  |  WARNINGS  |  | 
| liverpool  | Windows Server 2003 R2 (32-bit) / x64  |  OK  |  WARNINGS  |  OK  | 
| pelham  | Mac OS X Leopard (10.5.1) / i386  |  OK  |  WARNINGS  |  OK  | 
arrayQualityMetrics 1.4.18 Audrey Kauffmann
 | Last Changed Rev: 30842 / Revision: 30951 |  | Last Changed Date: 2008-04-04 08:35:54 -0700 |  
  | lamb1  | Linux (SUSE 10.1) / x86_64  |  OK  |  OK  |  | 
| wilson2  | Linux (openSUSE 10.3) / x86_64  |  OK  |  OK  |  | 
| wellington  | Linux (openSUSE 10.3) / i686  |  OK  |  OK  |  | 
| liverpool  | Windows Server 2003 R2 (32-bit) / x64  |  OK  |  OK  |  OK  | 
| pelham  | Mac OS X Leopard (10.5.1) / i386  |  OK  |  OK  |  OK  | 
 | 
| B  A [B] C  D  E  F  G  H  I  J  K  L  M  N  O  P  Q  R  S  T  U  V  W  X  Y  Z  | 
BAC 0.99.0 Raphael Gottardo
 | Last Changed Rev: 30895 / Revision: 30951 |  | Last Changed Date: 2008-04-07 16:03:03 -0700 |  
  | lamb1  | Linux (SUSE 10.1) / x86_64  |  OK  |  OK  |  | 
| wilson2  | Linux (openSUSE 10.3) / x86_64  |  OK  |  OK  |  | 
| wellington  | Linux (openSUSE 10.3) / i686  |  OK  |  OK  |  | 
| liverpool  | Windows Server 2003 R2 (32-bit) / x64  |  OK  |  OK  |  OK  | 
| pelham  | Mac OS X Leopard (10.5.1) / i386  |  OK  |  OK  |  OK  | 
BCRANK 1.0.5 Adam Ameur
 | Last Changed Rev: 30682 / Revision: 30951 |  | Last Changed Date: 2008-03-26 08:18:07 -0700 |  
  | lamb1  | Linux (SUSE 10.1) / x86_64  |  OK  |  OK  |  | 
| wilson2  | Linux (openSUSE 10.3) / x86_64  |  OK  |  OK  |  | 
| wellington  | Linux (openSUSE 10.3) / i686  |  OK  |  OK  |  | 
| liverpool  | Windows Server 2003 R2 (32-bit) / x64  |  OK  |  OK  |  OK  | 
| pelham  | Mac OS X Leopard (10.5.1) / i386  |  OK  |  OK  |  OK  | 
beadarray 1.7.9 Mark Dunning
 | Last Changed Rev: 30925 / Revision: 30951 |  | Last Changed Date: 2008-04-08 11:19:33 -0700 |  
  | lamb1  | Linux (SUSE 10.1) / x86_64  |  OK  |  OK  |  | 
| wilson2  | Linux (openSUSE 10.3) / x86_64  |  OK  |  OK  |  | 
| wellington  | Linux (openSUSE 10.3) / i686  |  OK  |  OK  |  | 
| liverpool  | Windows Server 2003 R2 (32-bit) / x64  |  OK  |  OK  |  OK  | 
| pelham  | Mac OS X Leopard (10.5.1) / i386  |  OK  |  OK  |  OK  | 
beadarraySNP 1.5.7 Jan Oosting
 | Last Changed Rev: 30821 / Revision: 30951 |  | Last Changed Date: 2008-04-03 08:26:56 -0700 |  
  | lamb1  | Linux (SUSE 10.1) / x86_64  |  OK  |  WARNINGS  |  | 
| wilson2  | Linux (openSUSE 10.3) / x86_64  |  OK  |  WARNINGS  |  | 
| wellington  | Linux (openSUSE 10.3) / i686  |  OK  |  WARNINGS  |  | 
| liverpool  | Windows Server 2003 R2 (32-bit) / x64  |  OK  |  WARNINGS  |  OK  | 
| pelham  | Mac OS X Leopard (10.5.1) / i386  |  OK  |  WARNINGS  |  OK  | 
BeadExplorer 1.5.0 Gareth Elvidge
 | Last Changed Rev: 27716 / Revision: 30951 |  | Last Changed Date: 2007-10-02 18:16:39 -0700 |  
  | lamb1  | Linux (SUSE 10.1) / x86_64  |  OK  |  ERROR  |  | 
| wilson2  | Linux (openSUSE 10.3) / x86_64  |  OK  |  ERROR  |  | 
| wellington  | Linux (openSUSE 10.3) / i686  |  OK  |  ERROR  |  | 
| liverpool  | Windows Server 2003 R2 (32-bit) / x64  |  OK  |  ERROR  |  OK  | 
| pelham  | Mac OS X Leopard (10.5.1) / i386  |  OK  |  ERROR  |  OK  | 
bgafun 1.1.0 Iain Wallace
 | Last Changed Rev: 29581 / Revision: 30951 |  | Last Changed Date: 2008-01-17 19:59:13 -0800 |  
  | lamb1  | Linux (SUSE 10.1) / x86_64  |  OK  |  OK  |  | 
| wilson2  | Linux (openSUSE 10.3) / x86_64  |  OK  |  OK  |  | 
| wellington  | Linux (openSUSE 10.3) / i686  |  OK  |  OK  |  | 
| liverpool  | Windows Server 2003 R2 (32-bit) / x64  |  OK  |  OK  |  OK  | 
| pelham  | Mac OS X Leopard (10.5.1) / i386  |  OK  |  OK  |  OK  | 
BGmix 0.9.0 Alex Lewin
 | Last Changed Rev: 29137 / Revision: 30951 |  | Last Changed Date: 2007-12-10 18:44:31 -0800 |  
  | lamb1  | Linux (SUSE 10.1) / x86_64  |  OK  |  OK  |  | 
| wilson2  | Linux (openSUSE 10.3) / x86_64  |  OK  |  OK  |  | 
| wellington  | Linux (openSUSE 10.3) / i686  |  OK  |  OK  |  | 
| liverpool  | Windows Server 2003 R2 (32-bit) / x64  | N O T   S U P P O R T E D | 
| pelham  | Mac OS X Leopard (10.5.1) / i386  |  OK  |  OK  |  OK  | 
bgx 1.3.0 Ernest Turro
 | Last Changed Rev: 30639 / Revision: 30951 |  | Last Changed Date: 2008-03-24 10:46:05 -0700 |  
  | lamb1  | Linux (SUSE 10.1) / x86_64  |  OK  |  OK  |  | 
| wilson2  | Linux (openSUSE 10.3) / x86_64  |  OK  |  OK  |  | 
| wellington  | Linux (openSUSE 10.3) / i686  |  OK  |  OK  |  | 
| liverpool  | Windows Server 2003 R2 (32-bit) / x64  |  OK  |  OK  |  OK  | 
| pelham  | Mac OS X Leopard (10.5.1) / i386  |  OK  |  OK  |  OK  | 
Biobase 1.99.7 Biocore Team c/o BioC user list
 | Last Changed Rev: 30949 / Revision: 30951 |  | Last Changed Date: 2008-04-08 22:54:21 -0700 |  
  | lamb1  | Linux (SUSE 10.1) / x86_64  |  OK  |  OK  |  | 
| wilson2  | Linux (openSUSE 10.3) / x86_64  |  OK  |  OK  |  | 
| wellington  | Linux (openSUSE 10.3) / i686  |  OK  |  OK  |  | 
| liverpool  | Windows Server 2003 R2 (32-bit) / x64  |  OK  |  OK  |  OK  | 
| pelham  | Mac OS X Leopard (10.5.1) / i386  |  OK  |  OK  |  OK  | 
BiocCaseStudies 1.1.4 Biocore Team c/o BioC user list
 | Last Changed Rev: 30142 / Revision: 30951 |  | Last Changed Date: 2008-02-24 20:28:59 -0800 |  
  | lamb1  | Linux (SUSE 10.1) / x86_64  |  OK  |  OK  |  | 
| wilson2  | Linux (openSUSE 10.3) / x86_64  |  OK  |  OK  |  | 
| wellington  | Linux (openSUSE 10.3) / i686  |  OK  |  OK  |  | 
| liverpool  | Windows Server 2003 R2 (32-bit) / x64  |  OK  |  OK  |  OK  | 
| pelham  | Mac OS X Leopard (10.5.1) / i386  |  OK  |  OK  |  OK  | 
biocGraph 1.1.1 Li Long
 | Last Changed Rev: 28360 / Revision: 30951 |  | Last Changed Date: 2007-10-31 17:26:28 -0700 |  
  | lamb1  | Linux (SUSE 10.1) / x86_64  |  OK  |  OK  |  | 
| wilson2  | Linux (openSUSE 10.3) / x86_64  |  OK  |  OK  |  | 
| wellington  | Linux (openSUSE 10.3) / i686  |  OK  |  OK  |  | 
| liverpool  | Windows Server 2003 R2 (32-bit) / x64  |  OK  |  OK  |  OK  | 
| pelham  | Mac OS X Leopard (10.5.1) / i386  |  OK  |  OK  |  OK  | 
biocViews 1.7.3 Biocore Team c/o BioC user list
 | Last Changed Rev: 30113 / Revision: 30951 |  | Last Changed Date: 2008-02-22 11:20:07 -0800 |  
  | lamb1  | Linux (SUSE 10.1) / x86_64  |  OK  |  OK  |  | 
| wilson2  | Linux (openSUSE 10.3) / x86_64  |  OK  |  OK  |  | 
| wellington  | Linux (openSUSE 10.3) / i686  |  OK  |  OK  |  | 
| liverpool  | Windows Server 2003 R2 (32-bit) / x64  |  OK  |  OK  |  OK  | 
| pelham  | Mac OS X Leopard (10.5.1) / i386  |  OK  |  OK  |  OK  | 
bioDist 1.11.6 Biocore Team c/o BioC user list
 | Last Changed Rev: 30115 / Revision: 30951 |  | Last Changed Date: 2008-02-22 16:45:29 -0800 |  
  | lamb1  | Linux (SUSE 10.1) / x86_64  |  OK  |  OK  |  | 
| wilson2  | Linux (openSUSE 10.3) / x86_64  |  OK  |  OK  |  | 
| wellington  | Linux (openSUSE 10.3) / i686  |  OK  |  OK  |  | 
| liverpool  | Windows Server 2003 R2 (32-bit) / x64  |  OK  |  OK  |  OK  | 
| pelham  | Mac OS X Leopard (10.5.1) / i386  |  OK  |  OK  |  OK  | 
biomaRt 1.13.10 Steffen Durinck
 | Last Changed Rev: 30604 / Revision: 30951 |  | Last Changed Date: 2008-03-20 19:35:56 -0700 |  
  | lamb1  | Linux (SUSE 10.1) / x86_64  |  OK  |  OK  |  | 
| wilson2  | Linux (openSUSE 10.3) / x86_64  |  OK  |  OK  |  | 
| wellington  | Linux (openSUSE 10.3) / i686  |  OK  |  OK  |  | 
| liverpool  | Windows Server 2003 R2 (32-bit) / x64  |  OK  |  WARNINGS  |  OK  | 
| pelham  | Mac OS X Leopard (10.5.1) / i386  |  OK  |  OK  |  OK  | 
BioMVCClass 1.7.0 Elizabeth Whalen
 | Last Changed Rev: 30093 / Revision: 30951 |  | Last Changed Date: 2008-02-21 12:44:12 -0800 |  
  | lamb1  | Linux (SUSE 10.1) / x86_64  |  OK  |  OK  |  | 
| wilson2  | Linux (openSUSE 10.3) / x86_64  |  OK  |  OK  |  | 
| wellington  | Linux (openSUSE 10.3) / i686  |  OK  |  OK  |  | 
| liverpool  | Windows Server 2003 R2 (32-bit) / x64  |  OK  |  OK  |  OK  | 
| pelham  | Mac OS X Leopard (10.5.1) / i386  |  OK  |  OK  |  OK  | 
Biostrings 2.7.44 H. Pages
 | Last Changed Rev: 30943 / Revision: 30951 |  | Last Changed Date: 2008-04-08 20:04:16 -0700 |  
  | lamb1  | Linux (SUSE 10.1) / x86_64  |  OK  |  WARNINGS  |  | 
| wilson2  | Linux (openSUSE 10.3) / x86_64  |  OK  |  WARNINGS  |  | 
| wellington  | Linux (openSUSE 10.3) / i686  |  OK  |  WARNINGS  |  | 
| liverpool  | Windows Server 2003 R2 (32-bit) / x64  |  OK  |  WARNINGS  |  OK  | 
| pelham  | Mac OS X Leopard (10.5.1) / i386  |  OK  |  WARNINGS  |  OK  | 
BiostringsCinterfaceDemo 0.1.2 H. Pages
 | Last Changed Rev: 30788 / Revision: 30951 |  | Last Changed Date: 2008-04-01 16:41:29 -0700 |  
  | lamb1  | Linux (SUSE 10.1) / x86_64  |  OK  |  WARNINGS  |  | 
| wilson2  | Linux (openSUSE 10.3) / x86_64  |  OK  |  WARNINGS  |  | 
| wellington  | Linux (openSUSE 10.3) / i686  |  OK  |  WARNINGS  |  | 
| liverpool  | Windows Server 2003 R2 (32-bit) / x64  |  OK  |  WARNINGS  |  OK  | 
| pelham  | Mac OS X Leopard (10.5.1) / i386  |  OK  |  WARNINGS  |  OK  | 
bridge 1.2.0 Raphael Gottardo
 | Last Changed Rev: 30324 / Revision: 30951 |  | Last Changed Date: 2008-03-02 12:59:28 -0800 |  
  | lamb1  | Linux (SUSE 10.1) / x86_64  |  OK  |  OK  |  | 
| wilson2  | Linux (openSUSE 10.3) / x86_64  |  OK  |  OK  |  | 
| wellington  | Linux (openSUSE 10.3) / i686  |  OK  |  OK  |  | 
| liverpool  | Windows Server 2003 R2 (32-bit) / x64  |  OK  |  OK  |  OK  | 
| pelham  | Mac OS X Leopard (10.5.1) / i386  |  OK  |  OK  |  OK  | 
BSgenome 1.7.7 H. Pages
 | Last Changed Rev: 30778 / Revision: 30951 |  | Last Changed Date: 2008-04-01 10:15:10 -0700 |  
  | lamb1  | Linux (SUSE 10.1) / x86_64  |  OK  |  WARNINGS  |  | 
| wilson2  | Linux (openSUSE 10.3) / x86_64  |  OK  |  WARNINGS  |  | 
| wellington  | Linux (openSUSE 10.3) / i686  |  OK  |  WARNINGS  |  | 
| liverpool  | Windows Server 2003 R2 (32-bit) / x64  |  OK  |  WARNINGS  |  OK  | 
| pelham  | Mac OS X Leopard (10.5.1) / i386  |  OK  |  WARNINGS  |  OK  | 
BufferedMatrix 1.3.1 Benjamin Milo Bolstad
 | Last Changed Rev: 30503 / Revision: 30951 |  | Last Changed Date: 2008-03-13 13:29:30 -0700 |  
  | lamb1  | Linux (SUSE 10.1) / x86_64  |  OK  |  OK  |  | 
| wilson2  | Linux (openSUSE 10.3) / x86_64  |  OK  |  OK  |  | 
| wellington  | Linux (openSUSE 10.3) / i686  |  OK  |  OK  |  | 
| liverpool  | Windows Server 2003 R2 (32-bit) / x64  |  OK  |  OK  |  OK  | 
| pelham  | Mac OS X Leopard (10.5.1) / i386  |  OK  |  OK  |  OK  | 
BufferedMatrixMethods 1.3.5 B. M. Bolstad
 | Last Changed Rev: 30309 / Revision: 30951 |  | Last Changed Date: 2008-03-01 07:13:01 -0800 |  
  | lamb1  | Linux (SUSE 10.1) / x86_64  |  OK  |  OK  |  | 
| wilson2  | Linux (openSUSE 10.3) / x86_64  |  OK  |  OK  |  | 
| wellington  | Linux (openSUSE 10.3) / i686  |  OK  |  OK  |  | 
| liverpool  | Windows Server 2003 R2 (32-bit) / x64  |  OK  |  OK  |  OK  | 
| pelham  | Mac OS X Leopard (10.5.1) / i386  |  OK  |  OK  |  OK  | 
 | 
| C  A  B [C] D  E  F  G  H  I  J  K  L  M  N  O  P  Q  R  S  T  U  V  W  X  Y  Z  | 
CALIB 1.5.0 Hui Zhao
 | Last Changed Rev: 27716 / Revision: 30951 |  | Last Changed Date: 2007-10-02 18:16:39 -0700 |  
  | lamb1  | Linux (SUSE 10.1) / x86_64  |  OK  |  OK  |  | 
| wilson2  | Linux (openSUSE 10.3) / x86_64  |  OK  |  OK  |  | 
| wellington  | Linux (openSUSE 10.3) / i686  |  OK  |  OK  |  | 
| liverpool  | Windows Server 2003 R2 (32-bit) / x64  |  OK  |  OK  |  OK  | 
| pelham  | Mac OS X Leopard (10.5.1) / i386  |  OK  |  OK  |  OK  | 
Category 2.5.10 Robert Gentleman
 | Last Changed Rev: 30915 / Revision: 30951 |  | Last Changed Date: 2008-04-08 08:58:50 -0700 |  
  | lamb1  | Linux (SUSE 10.1) / x86_64  |  OK  |  WARNINGS  |  | 
| wilson2  | Linux (openSUSE 10.3) / x86_64  |  OK  |  WARNINGS  |  | 
| wellington  | Linux (openSUSE 10.3) / i686  |  OK  |  WARNINGS  |  | 
| liverpool  | Windows Server 2003 R2 (32-bit) / x64  |  OK  |  WARNINGS  |  OK  | 
| pelham  | Mac OS X Leopard (10.5.1) / i386  |  OK  |  WARNINGS  |  OK  | 
cellHTS 1.9.2 Ligia Bras
 | Last Changed Rev: 29122 / Revision: 30951 |  | Last Changed Date: 2007-12-10 08:21:44 -0800 |  
  | lamb1  | Linux (SUSE 10.1) / x86_64  |  OK  |  OK  |  | 
| wilson2  | Linux (openSUSE 10.3) / x86_64  |  OK  |  OK  |  | 
| wellington  | Linux (openSUSE 10.3) / i686  |  OK  |  OK  |  | 
| liverpool  | Windows Server 2003 R2 (32-bit) / x64  |  OK  |  OK  |  OK  | 
| pelham  | Mac OS X Leopard (10.5.1) / i386  |  OK  |  OK  |  OK  | 
cellHTS2 2.3.25 Gregoire Pau
 | Last Changed Rev: 30850 / Revision: 30951 |  | Last Changed Date: 2008-04-04 12:24:35 -0700 |  
  | lamb1  | Linux (SUSE 10.1) / x86_64  |  OK  |  OK  |  | 
| wilson2  | Linux (openSUSE 10.3) / x86_64  |  OK  |  OK  |  | 
| wellington  | Linux (openSUSE 10.3) / i686  |  OK  |  OK  |  | 
| liverpool  | Windows Server 2003 R2 (32-bit) / x64  |  OK  |  OK  |  OK  | 
| pelham  | Mac OS X Leopard (10.5.1) / i386  |  OK  |  OK  |  OK  | 
CGHcall 1.1.9 Sjoerd Vosse
 | Last Changed Rev: 29480 / Revision: 30951 |  | Last Changed Date: 2008-01-10 02:56:48 -0800 |  
  | lamb1  | Linux (SUSE 10.1) / x86_64  |  OK  |  OK  |  | 
| wilson2  | Linux (openSUSE 10.3) / x86_64  |  OK  |  OK  |  | 
| wellington  | Linux (openSUSE 10.3) / i686  |  OK  |  OK  |  | 
| liverpool  | Windows Server 2003 R2 (32-bit) / x64  |  OK  |  OK  |  OK  | 
| pelham  | Mac OS X Leopard (10.5.1) / i386  |  OK  |  OK  |  OK  | 
cghMCR 1.9.0 J. Zhang
 | Last Changed Rev: 27716 / Revision: 30951 |  | Last Changed Date: 2007-10-02 18:16:39 -0700 |  
  | lamb1  | Linux (SUSE 10.1) / x86_64  |  OK  |  OK  |  | 
| wilson2  | Linux (openSUSE 10.3) / x86_64  |  OK  |  OK  |  | 
| wellington  | Linux (openSUSE 10.3) / i686  |  OK  |  OK  |  | 
| liverpool  | Windows Server 2003 R2 (32-bit) / x64  |  OK  |  OK  |  OK  | 
| pelham  | Mac OS X Leopard (10.5.1) / i386  |  OK  |  OK  |  OK  | 
clusterStab 1.11.1 James W. MacDonald
 | Last Changed Rev: 30189 / Revision: 30951 |  | Last Changed Date: 2008-02-26 09:32:03 -0800 |  
  | lamb1  | Linux (SUSE 10.1) / x86_64  |  OK  |  OK  |  | 
| wilson2  | Linux (openSUSE 10.3) / x86_64  |  OK  |  OK  |  | 
| wellington  | Linux (openSUSE 10.3) / i686  |  OK  |  OK  |  | 
| liverpool  | Windows Server 2003 R2 (32-bit) / x64  |  OK  |  OK  |  OK  | 
| pelham  | Mac OS X Leopard (10.5.1) / i386  |  OK  |  OK  |  OK  | 
CoCiteStats 1.11.0 R. Gentleman
 | Last Changed Rev: 27716 / Revision: 30951 |  | Last Changed Date: 2007-10-02 18:16:39 -0700 |  
  | lamb1  | Linux (SUSE 10.1) / x86_64  |  OK  |  OK  |  | 
| wilson2  | Linux (openSUSE 10.3) / x86_64  |  OK  |  OK  |  | 
| wellington  | Linux (openSUSE 10.3) / i686  |  OK  |  OK  |  | 
| liverpool  | Windows Server 2003 R2 (32-bit) / x64  |  OK  |  OK  |  OK  | 
| pelham  | Mac OS X Leopard (10.5.1) / i386  |  OK  |  OK  |  OK  | 
codelink 1.7.5 Diego Diez
 | Last Changed Rev: 30905 / Revision: 30951 |  | Last Changed Date: 2008-04-07 23:03:31 -0700 |  
  | lamb1  | Linux (SUSE 10.1) / x86_64  |  OK  |  OK  |  | 
| wilson2  | Linux (openSUSE 10.3) / x86_64  |  OK  |  OK  |  | 
| wellington  | Linux (openSUSE 10.3) / i686  |  OK  |  OK  |  | 
| liverpool  | Windows Server 2003 R2 (32-bit) / x64  |  OK  |  OK  |  OK  | 
| pelham  | Mac OS X Leopard (10.5.1) / i386  |  OK  |  OK  |  OK  | 
convert 1.15.1 Yee Hwa (Jean) Yang
 | Last Changed Rev: 30235 / Revision: 30951 |  | Last Changed Date: 2008-02-27 11:46:09 -0800 |  
  | lamb1  | Linux (SUSE 10.1) / x86_64  |  OK  |  OK  |  | 
| wilson2  | Linux (openSUSE 10.3) / x86_64  |  OK  |  OK  |  | 
| wellington  | Linux (openSUSE 10.3) / i686  |  OK  |  OK  |  | 
| liverpool  | Windows Server 2003 R2 (32-bit) / x64  |  OK  |  OK  |  OK  | 
| pelham  | Mac OS X Leopard (10.5.1) / i386  |  OK  |  OK  |  OK  | 
copa 1.7.1 James W. MacDonald
 | Last Changed Rev: 30190 / Revision: 30951 |  | Last Changed Date: 2008-02-26 09:38:38 -0800 |  
  | lamb1  | Linux (SUSE 10.1) / x86_64  |  OK  |  OK  |  | 
| wilson2  | Linux (openSUSE 10.3) / x86_64  |  OK  |  OK  |  | 
| wellington  | Linux (openSUSE 10.3) / i686  |  OK  |  OK  |  | 
| liverpool  | Windows Server 2003 R2 (32-bit) / x64  |  OK  |  OK  |  OK  | 
| pelham  | Mac OS X Leopard (10.5.1) / i386  |  OK  |  OK  |  OK  | 
CORREP 1.5.0 Dongxiao Zhu
 | Last Changed Rev: 27716 / Revision: 30951 |  | Last Changed Date: 2007-10-02 18:16:39 -0700 |  
  | lamb1  | Linux (SUSE 10.1) / x86_64  |  OK  |  OK  |  | 
| wilson2  | Linux (openSUSE 10.3) / x86_64  |  OK  |  OK  |  | 
| wellington  | Linux (openSUSE 10.3) / i686  |  OK  |  OK  |  | 
| liverpool  | Windows Server 2003 R2 (32-bit) / x64  |  OK  |  OK  |  OK  | 
| pelham  | Mac OS X Leopard (10.5.1) / i386  |  OK  |  OK  |  OK  | 
cosmo 1.5.0 Oliver Bembom
 | Last Changed Rev: 28471 / Revision: 30951 |  | Last Changed Date: 2007-11-05 11:15:13 -0800 |  
  | lamb1  | Linux (SUSE 10.1) / x86_64  |  OK  |  OK  |  | 
| wilson2  | Linux (openSUSE 10.3) / x86_64  |  OK  |  OK  |  | 
| wellington  | Linux (openSUSE 10.3) / i686  |  OK  |  OK  |  | 
| liverpool  | Windows Server 2003 R2 (32-bit) / x64  |  OK  |  OK  |  OK  | 
| pelham  | Mac OS X Leopard (10.5.1) / i386  |  OK  |  OK  |  OK  | 
cosmoGUI 1.5.0 Oliver Bembom
 | Last Changed Rev: 28472 / Revision: 30951 |  | Last Changed Date: 2007-11-05 11:16:37 -0800 |  
  | lamb1  | Linux (SUSE 10.1) / x86_64  |  OK  |  OK  |  | 
| wilson2  | Linux (openSUSE 10.3) / x86_64  |  OK  |  OK  |  | 
| wellington  | Linux (openSUSE 10.3) / i686  |  OK  |  OK  |  | 
| liverpool  | Windows Server 2003 R2 (32-bit) / x64  |  OK  |  OK  |  OK  | 
| pelham  | Mac OS X Leopard (10.5.1) / i386  |  OK  |  OK  |  OK  | 
ctc 1.13.0 Antoine Lucas
 | Last Changed Rev: 30639 / Revision: 30951 |  | Last Changed Date: 2008-03-24 10:46:05 -0700 |  
  | lamb1  | Linux (SUSE 10.1) / x86_64  |  OK  |  OK  |  | 
| wilson2  | Linux (openSUSE 10.3) / x86_64  |  OK  |  OK  |  | 
| wellington  | Linux (openSUSE 10.3) / i686  |  OK  |  OK  |  | 
| liverpool  | Windows Server 2003 R2 (32-bit) / x64  |  OK  |  OK  |  OK  | 
| pelham  | Mac OS X Leopard (10.5.1) / i386  |  OK  |  OK  |  OK  | 
 | 
| D  A  B  C [D] E  F  G  H  I  J  K  L  M  N  O  P  Q  R  S  T  U  V  W  X  Y  Z  | 
daMA 1.11.0 Jobst Landgrebe
 | Last Changed Rev: 30639 / Revision: 30951 |  | Last Changed Date: 2008-03-24 10:46:05 -0700 |  
  | lamb1  | Linux (SUSE 10.1) / x86_64  |  OK  |  OK  |  | 
| wilson2  | Linux (openSUSE 10.3) / x86_64  |  OK  |  OK  |  | 
| wellington  | Linux (openSUSE 10.3) / i686  |  OK  |  OK  |  | 
| liverpool  | Windows Server 2003 R2 (32-bit) / x64  |  OK  |  OK  |  OK  | 
| pelham  | Mac OS X Leopard (10.5.1) / i386  |  OK  |  OK  |  OK  | 
DEDS 1.13.1 Yuanyuan Xiao
 | Last Changed Rev: 30593 / Revision: 30951 |  | Last Changed Date: 2008-03-19 19:56:06 -0700 |  
  | lamb1  | Linux (SUSE 10.1) / x86_64  |  OK  |  OK  |  | 
| wilson2  | Linux (openSUSE 10.3) / x86_64  |  OK  |  OK  |  | 
| wellington  | Linux (openSUSE 10.3) / i686  |  OK  |  OK  |  | 
| liverpool  | Windows Server 2003 R2 (32-bit) / x64  |  OK  |  OK  |  OK  | 
| pelham  | Mac OS X Leopard (10.5.1) / i386  |  OK  |  OK  |  OK  | 
diffGeneAnalysis 1.21.0 Choudary Jagarlamudi
 | Last Changed Rev: 27716 / Revision: 30951 |  | Last Changed Date: 2007-10-02 18:16:39 -0700 |  
  | lamb1  | Linux (SUSE 10.1) / x86_64  |  OK  |  OK  |  | 
| wilson2  | Linux (openSUSE 10.3) / x86_64  |  OK  |  OK  |  | 
| wellington  | Linux (openSUSE 10.3) / i686  |  OK  |  OK  |  | 
| liverpool  | Windows Server 2003 R2 (32-bit) / x64  |  OK  |  OK  |  OK  | 
| pelham  | Mac OS X Leopard (10.5.1) / i386  |  OK  |  OK  |  OK  | 
DNAcopy 1.13.3 Venkatraman E. Seshan
 | Last Changed Rev: 30639 / Revision: 30951 |  | Last Changed Date: 2008-03-24 10:46:05 -0700 |  
  | lamb1  | Linux (SUSE 10.1) / x86_64  |  OK  |  OK  |  | 
| wilson2  | Linux (openSUSE 10.3) / x86_64  |  OK  |  OK  |  | 
| wellington  | Linux (openSUSE 10.3) / i686  |  OK  |  OK  |  | 
| liverpool  | Windows Server 2003 R2 (32-bit) / x64  |  OK  |  OK  |  OK  | 
| pelham  | Mac OS X Leopard (10.5.1) / i386  |  OK  |  OK  |  OK  | 
DynDoc 1.17.0 Biocore Team c/o BioC user list
 | Last Changed Rev: 29752 / Revision: 30951 |  | Last Changed Date: 2008-01-30 09:55:56 -0800 |  
  | lamb1  | Linux (SUSE 10.1) / x86_64  |  OK  |  OK  |  | 
| wilson2  | Linux (openSUSE 10.3) / x86_64  |  OK  |  OK  |  | 
| wellington  | Linux (openSUSE 10.3) / i686  |  OK  |  OK  |  | 
| liverpool  | Windows Server 2003 R2 (32-bit) / x64  |  OK  |  OK  |  OK  | 
| pelham  | Mac OS X Leopard (10.5.1) / i386  |  OK  |  OK  |  OK  | 
 | 
| E  A  B  C  D [E] F  G  H  I  J  K  L  M  N  O  P  Q  R  S  T  U  V  W  X  Y  Z  | 
EBarrays 2.3.1 Ming Yuan
 | Last Changed Rev: 30639 / Revision: 30951 |  | Last Changed Date: 2008-03-24 10:46:05 -0700 |  
  | lamb1  | Linux (SUSE 10.1) / x86_64  |  OK  |  OK  |  | 
| wilson2  | Linux (openSUSE 10.3) / x86_64  |  OK  |  OK  |  | 
| wellington  | Linux (openSUSE 10.3) / i686  |  OK  |  OK  |  | 
| liverpool  | Windows Server 2003 R2 (32-bit) / x64  |  OK  |  OK  |  OK  | 
| pelham  | Mac OS X Leopard (10.5.1) / i386  |  OK  |  OK  |  OK  | 
EBImage 2.3.17 Oleg Sklyar
 | Last Changed Rev: 30688 / Revision: 30951 |  | Last Changed Date: 2008-03-26 13:46:32 -0700 |  
  | lamb1  | Linux (SUSE 10.1) / x86_64  |  OK  |  OK  |  | 
| wilson2  | Linux (openSUSE 10.3) / x86_64  |  OK  |  OK  |  | 
| wellington  | Linux (openSUSE 10.3) / i686  |  OK  |  OK  |  | 
| liverpool  | Windows Server 2003 R2 (32-bit) / x64  |  OK  |  WARNINGS  |  OK  | 
| pelham  | Mac OS X Leopard (10.5.1) / i386  |  OK  |  OK  |  OK  | 
ecolitk 1.11.2 Laurent
 | Last Changed Rev: 30639 / Revision: 30951 |  | Last Changed Date: 2008-03-24 10:46:05 -0700 |  
  | lamb1  | Linux (SUSE 10.1) / x86_64  |  OK  |  OK  |  | 
| wilson2  | Linux (openSUSE 10.3) / x86_64  |  OK  |  OK  |  | 
| wellington  | Linux (openSUSE 10.3) / i686  |  OK  |  OK  |  | 
| liverpool  | Windows Server 2003 R2 (32-bit) / x64  |  OK  |  OK  |  OK  | 
| pelham  | Mac OS X Leopard (10.5.1) / i386  |  OK  |  OK  |  OK  | 
edd 1.17.2 Vince Carey
 | Last Changed Rev: 30362 / Revision: 30951 |  | Last Changed Date: 2008-03-04 12:55:46 -0800 |  
  | lamb1  | Linux (SUSE 10.1) / x86_64  |  OK  |  OK  |  | 
| wilson2  | Linux (openSUSE 10.3) / x86_64  |  OK  |  OK  |  | 
| wellington  | Linux (openSUSE 10.3) / i686  |  OK  |  OK  |  | 
| liverpool  | Windows Server 2003 R2 (32-bit) / x64  |  OK  |  OK  |  OK  | 
| pelham  | Mac OS X Leopard (10.5.1) / i386  |  OK  |  OK  |  OK  | 
exonmap 1.5.4 Crispin Miller
 | Last Changed Rev: 30208 / Revision: 30951 |  | Last Changed Date: 2008-02-26 11:58:14 -0800 |  
  | lamb1  | Linux (SUSE 10.1) / x86_64  |  OK  |  WARNINGS  |  | 
| wilson2  | Linux (openSUSE 10.3) / x86_64  |  OK  |  WARNINGS  |  | 
| wellington  | Linux (openSUSE 10.3) / i686  |  OK  |  WARNINGS  |  | 
| liverpool  | Windows Server 2003 R2 (32-bit) / x64  |  OK  |  WARNINGS  |  OK  | 
| pelham  | Mac OS X Leopard (10.5.1) / i386  |  OK  |  WARNINGS  |  OK  | 
explorase 1.3.6 Michael Lawrence
 | Last Changed Rev: 30664 / Revision: 30951 |  | Last Changed Date: 2008-03-25 10:40:39 -0700 |  
  | lamb1  | Linux (SUSE 10.1) / x86_64  |  OK  |  OK  |  | 
| wilson2  | Linux (openSUSE 10.3) / x86_64  |  OK  |  OK  |  | 
| wellington  | Linux (openSUSE 10.3) / i686  |  OK  |  OK  |  | 
| liverpool  | Windows Server 2003 R2 (32-bit) / x64  |  OK  |  OK  |  OK  | 
| pelham  | Mac OS X Leopard (10.5.1) / i386  |  ERROR  |  skipped  |  skipped  | 
externalVector 1.5.4 Biocore Team c/o BioC user list
 | Last Changed Rev: 30566 / Revision: 30951 |  | Last Changed Date: 2008-03-18 11:35:39 -0700 |  
  | lamb1  | Linux (SUSE 10.1) / x86_64  |  OK  |  OK  |  | 
| wilson2  | Linux (openSUSE 10.3) / x86_64  |  OK  |  OK  |  | 
| wellington  | Linux (openSUSE 10.3) / i686  |  OK  |  OK  |  | 
| liverpool  | Windows Server 2003 R2 (32-bit) / x64  |  OK  |  OK  |  OK  | 
| pelham  | Mac OS X Leopard (10.5.1) / i386  |  OK  |  OK  |  OK  | 
 | 
| F  A  B  C  D  E [F] G  H  I  J  K  L  M  N  O  P  Q  R  S  T  U  V  W  X  Y  Z  | 
factDesign 1.13.1 Denise Scholtens
 | Last Changed Rev: 30639 / Revision: 30951 |  | Last Changed Date: 2008-03-24 10:46:05 -0700 |  
  | lamb1  | Linux (SUSE 10.1) / x86_64  |  OK  |  OK  |  | 
| wilson2  | Linux (openSUSE 10.3) / x86_64  |  OK  |  OK  |  | 
| wellington  | Linux (openSUSE 10.3) / i686  |  OK  |  OK  |  | 
| liverpool  | Windows Server 2003 R2 (32-bit) / x64  |  OK  |  OK  |  OK  | 
| pelham  | Mac OS X Leopard (10.5.1) / i386  |  OK  |  OK  |  OK  | 
fbat 1.3.0 Weiliang Qiu
 | Last Changed Rev: 27716 / Revision: 30951 |  | Last Changed Date: 2007-10-02 18:16:39 -0700 |  
  | lamb1  | Linux (SUSE 10.1) / x86_64  |  OK  |  OK  |  | 
| wilson2  | Linux (openSUSE 10.3) / x86_64  |  OK  |  OK  |  | 
| wellington  | Linux (openSUSE 10.3) / i686  |  OK  |  OK  |  | 
| liverpool  | Windows Server 2003 R2 (32-bit) / x64  |  OK  |  OK  |  OK  | 
| pelham  | Mac OS X Leopard (10.5.1) / i386  |  OK  |  OK  |  OK  | 
fdrame 1.11.1 Effi Kenigsberg
 | Last Changed Rev: 30486 / Revision: 30951 |  | Last Changed Date: 2008-03-12 18:18:29 -0700 |  
  | lamb1  | Linux (SUSE 10.1) / x86_64  |  OK  |  OK  |  | 
| wilson2  | Linux (openSUSE 10.3) / x86_64  |  OK  |  OK  |  | 
| wellington  | Linux (openSUSE 10.3) / i686  |  OK  |  OK  |  | 
| liverpool  | Windows Server 2003 R2 (32-bit) / x64  |  OK  |  OK  |  OK  | 
| pelham  | Mac OS X Leopard (10.5.1) / i386  |  OK  |  OK  |  OK  | 
flowClust 1.0.0 Raphael Gottardo
 | Last Changed Rev: 30947 / Revision: 30951 |  | Last Changed Date: 2008-04-08 22:34:40 -0700 |  
  | lamb1  | Linux (SUSE 10.1) / x86_64  |  OK  |  WARNINGS  |  | 
| wilson2  | Linux (openSUSE 10.3) / x86_64  |  OK  |  WARNINGS  |  | 
| wellington  | Linux (openSUSE 10.3) / i686  |  OK  |  WARNINGS  |  | 
| liverpool  | Windows Server 2003 R2 (32-bit) / x64  |  ERROR  |  skipped  |  skipped  | 
| pelham  | Mac OS X Leopard (10.5.1) / i386  |  OK  |  WARNINGS  |  OK  | 
flowCore 1.5.16 Nolwenn Le Meur
 | Last Changed Rev: 30924 / Revision: 30951 |  | Last Changed Date: 2008-04-08 11:17:46 -0700 |  
  | lamb1  | Linux (SUSE 10.1) / x86_64  |  OK  |  OK  |  | 
| wilson2  | Linux (openSUSE 10.3) / x86_64  |  OK  |  OK  |  | 
| wellington  | Linux (openSUSE 10.3) / i686  |  OK  |  OK  |  | 
| liverpool  | Windows Server 2003 R2 (32-bit) / x64  |  OK  |  ERROR  |  ERROR  | 
| pelham  | Mac OS X Leopard (10.5.1) / i386  |  OK  |  OK  |  OK  | 
flowQ 0.99.1 N. Le Meur
 | Last Changed Rev: 30942 / Revision: 30951 |  | Last Changed Date: 2008-04-08 18:13:53 -0700 |  
  | lamb1  | Linux (SUSE 10.1) / x86_64  |  OK  |  OK  |  | 
| wilson2  | Linux (openSUSE 10.3) / x86_64  |  OK  |  OK  |  | 
| wellington  | Linux (openSUSE 10.3) / i686  |  OK  |  OK  |  | 
| liverpool  | Windows Server 2003 R2 (32-bit) / x64  |  OK  |  WARNINGS  |  OK  | 
| pelham  | Mac OS X Leopard (10.5.1) / i386  |  OK  |  OK  |  OK  | 
flowUtils 0.99.1 Florian Hahne
 | Last Changed Rev: 30941 / Revision: 30951 |  | Last Changed Date: 2008-04-08 18:13:19 -0700 |  
  | lamb1  | Linux (SUSE 10.1) / x86_64  |  OK  |  OK  |  | 
| wilson2  | Linux (openSUSE 10.3) / x86_64  |  OK  |  OK  |  | 
| wellington  | Linux (openSUSE 10.3) / i686  |  OK  |  OK  |  | 
| liverpool  | Windows Server 2003 R2 (32-bit) / x64  |  OK  |  WARNINGS  |  OK  | 
| pelham  | Mac OS X Leopard (10.5.1) / i386  |  OK  |  OK  |  OK  | 
flowViz 1.3.4 Florian Hahne
 | Last Changed Rev: 30792 / Revision: 30951 |  | Last Changed Date: 2008-04-01 18:50:29 -0700 |  
  | lamb1  | Linux (SUSE 10.1) / x86_64  |  OK  |  WARNINGS  |  | 
| wilson2  | Linux (openSUSE 10.3) / x86_64  |  OK  |  WARNINGS  |  | 
| wellington  | Linux (openSUSE 10.3) / i686  |  OK  |  WARNINGS  |  | 
| liverpool  | Windows Server 2003 R2 (32-bit) / x64  |  OK  |  WARNINGS  |  OK  | 
| pelham  | Mac OS X Leopard (10.5.1) / i386  |  OK  |  WARNINGS  |  OK  | 
 | 
| G  A  B  C  D  E  F [G] H  I  J  K  L  M  N  O  P  Q  R  S  T  U  V  W  X  Y  Z  | 
gaga 0.0.1 David Rossell
 | Last Changed Rev: 30639 / Revision: 30951 |  | Last Changed Date: 2008-03-24 10:46:05 -0700 |  
  | lamb1  | Linux (SUSE 10.1) / x86_64  |  OK  |  WARNINGS  |  | 
| wilson2  | Linux (openSUSE 10.3) / x86_64  |  OK  |  WARNINGS  |  | 
| wellington  | Linux (openSUSE 10.3) / i686  |  OK  |  WARNINGS  |  | 
| liverpool  | Windows Server 2003 R2 (32-bit) / x64  |  OK  |  WARNINGS  |  OK  | 
| pelham  | Mac OS X Leopard (10.5.1) / i386  |  OK  |  WARNINGS  |  OK  | 
gaggle 1.7.1 Dan Tenenbaum
 | Last Changed Rev: 30513 / Revision: 30951 |  | Last Changed Date: 2008-03-13 16:47:36 -0700 |  
  | lamb1  | Linux (SUSE 10.1) / x86_64  |  OK  |  OK  |  | 
| wilson2  | Linux (openSUSE 10.3) / x86_64  |  OK  |  OK  |  | 
| wellington  | Linux (openSUSE 10.3) / i686  |  OK  |  OK  |  | 
| liverpool  | Windows Server 2003 R2 (32-bit) / x64  |  OK  |  OK  |  OK  | 
| pelham  | Mac OS X Leopard (10.5.1) / i386  |  OK  |  OK  |  OK  | 
gcrma 2.11.4 Z. Wu
 | Last Changed Rev: 30639 / Revision: 30951 |  | Last Changed Date: 2008-03-24 10:46:05 -0700 |  
  | lamb1  | Linux (SUSE 10.1) / x86_64  |  OK  |  OK  |  | 
| wilson2  | Linux (openSUSE 10.3) / x86_64  |  OK  |  OK  |  | 
| wellington  | Linux (openSUSE 10.3) / i686  |  OK  |  OK  |  | 
| liverpool  | Windows Server 2003 R2 (32-bit) / x64  |  OK  |  OK  |  OK  | 
| pelham  | Mac OS X Leopard (10.5.1) / i386  |  OK  |  OK  |  OK  | 
genArise 1.15.0 IFC Development Team
 | Last Changed Rev: 30639 / Revision: 30951 |  | Last Changed Date: 2008-03-24 10:46:05 -0700 |  
  | lamb1  | Linux (SUSE 10.1) / x86_64  |  OK  |  OK  |  | 
| wilson2  | Linux (openSUSE 10.3) / x86_64  |  OK  |  OK  |  | 
| wellington  | Linux (openSUSE 10.3) / i686  |  OK  |  OK  |  | 
| liverpool  | Windows Server 2003 R2 (32-bit) / x64  |  OK  |  OK  |  OK  | 
| pelham  | Mac OS X Leopard (10.5.1) / i386  |  OK  |  OK  |  OK  | 
genefilter 1.17.12 Biocore Team c/o BioC user list
 | Last Changed Rev: 30894 / Revision: 30951 |  | Last Changed Date: 2008-04-07 15:55:38 -0700 |  
  | lamb1  | Linux (SUSE 10.1) / x86_64  |  OK  |  WARNINGS  |  | 
| wilson2  | Linux (openSUSE 10.3) / x86_64  |  OK  |  WARNINGS  |  | 
| wellington  | Linux (openSUSE 10.3) / i686  |  OK  |  WARNINGS  |  | 
| liverpool  | Windows Server 2003 R2 (32-bit) / x64  |  OK  |  WARNINGS  |  OK  | 
| pelham  | Mac OS X Leopard (10.5.1) / i386  |  OK  |  WARNINGS  |  OK  | 
GeneMeta 1.11.1 Biocore Team c/o BioC user list
 | Last Changed Rev: 30157 / Revision: 30951 |  | Last Changed Date: 2008-02-25 15:58:57 -0800 |  
  | lamb1  | Linux (SUSE 10.1) / x86_64  |  OK  |  OK  |  | 
| wilson2  | Linux (openSUSE 10.3) / x86_64  |  OK  |  OK  |  | 
| wellington  | Linux (openSUSE 10.3) / i686  |  OK  |  OK  |  | 
| liverpool  | Windows Server 2003 R2 (32-bit) / x64  |  OK  |  OK  |  OK  | 
| pelham  | Mac OS X Leopard (10.5.1) / i386  |  OK  |  OK  |  OK  | 
geneplotter 1.17.7 Biocore Team c/o BioC user list
 | Last Changed Rev: 30220 / Revision: 30951 |  | Last Changed Date: 2008-02-26 16:30:27 -0800 |  
  | lamb1  | Linux (SUSE 10.1) / x86_64  |  OK  |  OK  |  | 
| wilson2  | Linux (openSUSE 10.3) / x86_64  |  OK  |  OK  |  | 
| wellington  | Linux (openSUSE 10.3) / i686  |  OK  |  OK  |  | 
| liverpool  | Windows Server 2003 R2 (32-bit) / x64  |  OK  |  OK  |  OK  | 
| pelham  | Mac OS X Leopard (10.5.1) / i386  |  OK  |  OK  |  OK  | 
GeneR 2.9.1 Y. d'Aubenton-Carafa
 | Last Changed Rev: 30639 / Revision: 30951 |  | Last Changed Date: 2008-03-24 10:46:05 -0700 |  
  | lamb1  | Linux (SUSE 10.1) / x86_64  |  OK  |  OK  |  | 
| wilson2  | Linux (openSUSE 10.3) / x86_64  |  OK  |  OK  |  | 
| wellington  | Linux (openSUSE 10.3) / i686  |  OK  |  OK  |  | 
| liverpool  | Windows Server 2003 R2 (32-bit) / x64  |  OK  |  OK  |  OK  | 
| pelham  | Mac OS X Leopard (10.5.1) / i386  |  OK  |  OK  |  OK  | 
geneRecommender 1.11.1 Greg Hather
 | Last Changed Rev: 30209 / Revision: 30951 |  | Last Changed Date: 2008-02-26 12:15:13 -0800 |  
  | lamb1  | Linux (SUSE 10.1) / x86_64  |  OK  |  OK  |  | 
| wilson2  | Linux (openSUSE 10.3) / x86_64  |  OK  |  OK  |  | 
| wellington  | Linux (openSUSE 10.3) / i686  |  OK  |  OK  |  | 
| liverpool  | Windows Server 2003 R2 (32-bit) / x64  |  OK  |  OK  |  OK  | 
| pelham  | Mac OS X Leopard (10.5.1) / i386  |  OK  |  OK  |  OK  | 
GeneRfold 0.1.4 Antoine Lucas
 | Last Changed Rev: 30639 / Revision: 30951 |  | Last Changed Date: 2008-03-24 10:46:05 -0700 |  
  | lamb1  | Linux (SUSE 10.1) / x86_64  |  OK  |  OK  |  | 
| wilson2  | Linux (openSUSE 10.3) / x86_64  |  OK  |  OK  |  | 
| wellington  | Linux (openSUSE 10.3) / i686  |  OK  |  OK  |  | 
| liverpool  | Windows Server 2003 R2 (32-bit) / x64  | N O T   S U P P O R T E D | 
| pelham  | Mac OS X Leopard (10.5.1) / i386  |  OK  |  OK  |  OK  | 
GeneSelector 0.9.5 Martin Slawski
 | Last Changed Rev: 30804 / Revision: 30951 |  | Last Changed Date: 2008-04-02 09:58:36 -0700 |  
  | lamb1  | Linux (SUSE 10.1) / x86_64  |  ERROR  |  skipped  |  | 
| wilson2  | Linux (openSUSE 10.3) / x86_64  |  ERROR  |  skipped  |  | 
| wellington  | Linux (openSUSE 10.3) / i686  |  ERROR  |  skipped  |  | 
| liverpool  | Windows Server 2003 R2 (32-bit) / x64  |  TIMEOUT  |  skipped  |  skipped  | 
| pelham  | Mac OS X Leopard (10.5.1) / i386  |  OK  |  OK  |  OK  | 
GeneSpring 2.13.1 Thon de Boer
 | Last Changed Rev: 30375 / Revision: 30951 |  | Last Changed Date: 2008-03-05 09:59:19 -0800 |  
  | lamb1  | Linux (SUSE 10.1) / x86_64  |  OK  |  OK  |  | 
| wilson2  | Linux (openSUSE 10.3) / x86_64  |  OK  |  OK  |  | 
| wellington  | Linux (openSUSE 10.3) / i686  |  OK  |  OK  |  | 
| liverpool  | Windows Server 2003 R2 (32-bit) / x64  |  OK  |  OK  |  OK  | 
| pelham  | Mac OS X Leopard (10.5.1) / i386  |  OK  |  OK  |  OK  | 
GeneticsBase 1.3.2 Gregory Warnes
 | Last Changed Rev: 30521 / Revision: 30951 |  | Last Changed Date: 2008-03-14 10:49:30 -0700 |  
  | lamb1  | Linux (SUSE 10.1) / x86_64  |  ERROR  |  skipped  |  | 
| wilson2  | Linux (openSUSE 10.3) / x86_64  |  ERROR  |  skipped  |  | 
| wellington  | Linux (openSUSE 10.3) / i686  |  ERROR  |  skipped  |  | 
| liverpool  | Windows Server 2003 R2 (32-bit) / x64  |  ERROR  |  skipped  |  skipped  | 
| pelham  | Mac OS X Leopard (10.5.1) / i386  |  ERROR  |  skipped  |  skipped  | 
GeneticsDesign 1.5.0 Weiliang Qiu
 | Last Changed Rev: 29703 / Revision: 30951 |  | Last Changed Date: 2008-01-25 12:40:16 -0800 |  
  | lamb1  | Linux (SUSE 10.1) / x86_64  |  OK  |  ERROR  |  | 
| wilson2  | Linux (openSUSE 10.3) / x86_64  |  OK  |  ERROR  |  | 
| wellington  | Linux (openSUSE 10.3) / i686  |  OK  |  ERROR  |  | 
| liverpool  | Windows Server 2003 R2 (32-bit) / x64  |  OK  |  ERROR  |  OK  | 
| pelham  | Mac OS X Leopard (10.5.1) / i386  |  OK  |  ERROR  |  OK  | 
GeneticsPed 1.1.0 Gregor Gorjanc
 | Last Changed Rev: 29346 / Revision: 30951 |  | Last Changed Date: 2007-12-28 12:30:41 -0800 |  
  | lamb1  | Linux (SUSE 10.1) / x86_64  |  OK  |  OK  |  | 
| wilson2  | Linux (openSUSE 10.3) / x86_64  |  OK  |  OK  |  | 
| wellington  | Linux (openSUSE 10.3) / i686  |  OK  |  OK  |  | 
| liverpool  | Windows Server 2003 R2 (32-bit) / x64  |  OK  |  OK  |  OK  | 
| pelham  | Mac OS X Leopard (10.5.1) / i386  |  OK  |  OK  |  OK  | 
GeneTraffic 1.11.1 Daniel Iordan
 | Last Changed Rev: 30639 / Revision: 30951 |  | Last Changed Date: 2008-03-24 10:46:05 -0700 |  
  | lamb1  | Linux (SUSE 10.1) / x86_64  |  OK  |  OK  |  | 
| wilson2  | Linux (openSUSE 10.3) / x86_64  |  OK  |  OK  |  | 
| wellington  | Linux (openSUSE 10.3) / i686  |  OK  |  OK  |  | 
| liverpool  | Windows Server 2003 R2 (32-bit) / x64  |  OK  |  OK  |  OK  | 
| pelham  | Mac OS X Leopard (10.5.1) / i386  |  OK  |  OK  |  OK  | 
GenomeGraphs 0.99.1 Steffen Durinck
 | Last Changed Rev: 30849 / Revision: 30951 |  | Last Changed Date: 2008-04-04 12:23:11 -0700 |  
  | lamb1  | Linux (SUSE 10.1) / x86_64  |  ERROR  |  skipped  |  | 
| wilson2  | Linux (openSUSE 10.3) / x86_64  |  ERROR  |  skipped  |  | 
| wellington  | Linux (openSUSE 10.3) / i686  |  OK  |  OK  |  | 
| liverpool  | Windows Server 2003 R2 (32-bit) / x64  |  ERROR  |  skipped  |  skipped  | 
| pelham  | Mac OS X Leopard (10.5.1) / i386  |  ERROR  |  skipped  |  skipped  | 
GEOmetadb 0.99.0 Jack Zhu
 | Last Changed Rev: 30896 / Revision: 30951 |  | Last Changed Date: 2008-04-07 16:18:38 -0700 |  
  | lamb1  | Linux (SUSE 10.1) / x86_64  |  OK  |  OK  |  | 
| wilson2  | Linux (openSUSE 10.3) / x86_64  |  OK  |  OK  |  | 
| wellington  | Linux (openSUSE 10.3) / i686  |  OK  |  OK  |  | 
| liverpool  | Windows Server 2003 R2 (32-bit) / x64  |  OK  |  OK  |  OK  | 
| pelham  | Mac OS X Leopard (10.5.1) / i386  |  OK  |  OK  |  OK  | 
GEOquery 2.3.6 Sean Davis
 | Last Changed Rev: 30711 / Revision: 30951 |  | Last Changed Date: 2008-03-27 13:28:12 -0700 |  
  | lamb1  | Linux (SUSE 10.1) / x86_64  |  OK  |  OK  |  | 
| wilson2  | Linux (openSUSE 10.3) / x86_64  |  OK  |  OK  |  | 
| wellington  | Linux (openSUSE 10.3) / i686  |  OK  |  OK  |  | 
| liverpool  | Windows Server 2003 R2 (32-bit) / x64  |  OK  |  OK  |  OK  | 
| pelham  | Mac OS X Leopard (10.5.1) / i386  |  OK  |  OK  |  OK  | 
GGtools 1.7.29 Vince Carey
 | Last Changed Rev: 30882 / Revision: 30951 |  | Last Changed Date: 2008-04-07 08:50:40 -0700 |  
  | lamb1  | Linux (SUSE 10.1) / x86_64  |  ERROR  |  skipped  |  | 
| wilson2  | Linux (openSUSE 10.3) / x86_64  |  ERROR  |  skipped  |  | 
| wellington  | Linux (openSUSE 10.3) / i686  |  ERROR  |  skipped  |  | 
| liverpool  | Windows Server 2003 R2 (32-bit) / x64  |  ERROR  |  skipped  |  skipped  | 
| pelham  | Mac OS X Leopard (10.5.1) / i386  |  ERROR  |  skipped  |  skipped  | 
GLAD 1.15.1 Philippe Hupe
 | Last Changed Rev: 30662 / Revision: 30951 |  | Last Changed Date: 2008-03-25 10:34:11 -0700 |  
  | lamb1  | Linux (SUSE 10.1) / x86_64  |  OK  |  OK  |  | 
| wilson2  | Linux (openSUSE 10.3) / x86_64  |  OK  |  OK  |  | 
| wellington  | Linux (openSUSE 10.3) / i686  |  OK  |  OK  |  | 
| liverpool  | Windows Server 2003 R2 (32-bit) / x64  |  OK  |  OK  |  OK  | 
| pelham  | Mac OS X Leopard (10.5.1) / i386  |  OK  |  OK  |  OK  | 
GlobalAncova 3.5.1 R. Meister
 | Last Changed Rev: 30738 / Revision: 30951 |  | Last Changed Date: 2008-03-28 13:11:36 -0700 |  
  | lamb1  | Linux (SUSE 10.1) / x86_64  |  OK  |  OK  |  | 
| wilson2  | Linux (openSUSE 10.3) / x86_64  |  OK  |  OK  |  | 
| wellington  | Linux (openSUSE 10.3) / i686  |  OK  |  OK  |  | 
| liverpool  | Windows Server 2003 R2 (32-bit) / x64  |  OK  |  OK  |  OK  | 
| pelham  | Mac OS X Leopard (10.5.1) / i386  |  OK  |  OK  |  OK  | 
globaltest 4.9.1 Jelle Goeman
 | Last Changed Rev: 30249 / Revision: 30951 |  | Last Changed Date: 2008-02-27 19:45:20 -0800 |  
  | lamb1  | Linux (SUSE 10.1) / x86_64  |  OK  |  OK  |  | 
| wilson2  | Linux (openSUSE 10.3) / x86_64  |  OK  |  OK  |  | 
| wellington  | Linux (openSUSE 10.3) / i686  |  OK  |  OK  |  | 
| liverpool  | Windows Server 2003 R2 (32-bit) / x64  |  OK  |  OK  |  OK  | 
| pelham  | Mac OS X Leopard (10.5.1) / i386  |  OK  |  OK  |  OK  | 
GOstats 2.5.2 Robert Gentleman
 | Last Changed Rev: 30342 / Revision: 30951 |  | Last Changed Date: 2008-03-03 15:32:41 -0800 |  
  | lamb1  | Linux (SUSE 10.1) / x86_64  |  OK  |  OK  |  | 
| wilson2  | Linux (openSUSE 10.3) / x86_64  |  OK  |  OK  |  | 
| wellington  | Linux (openSUSE 10.3) / i686  |  OK  |  OK  |  | 
| liverpool  | Windows Server 2003 R2 (32-bit) / x64  |  OK  |  OK  |  OK  | 
| pelham  | Mac OS X Leopard (10.5.1) / i386  |  OK  |  OK  |  OK  | 
goTools 1.11.1 Agnes Paquet
 | Last Changed Rev: 30669 / Revision: 30951 |  | Last Changed Date: 2008-03-25 14:23:48 -0700 |  
  | lamb1  | Linux (SUSE 10.1) / x86_64  |  OK  |  OK  |  | 
| wilson2  | Linux (openSUSE 10.3) / x86_64  |  OK  |  OK  |  | 
| wellington  | Linux (openSUSE 10.3) / i686  |  OK  |  OK  |  | 
| liverpool  | Windows Server 2003 R2 (32-bit) / x64  |  OK  |  OK  |  OK  | 
| pelham  | Mac OS X Leopard (10.5.1) / i386  |  OK  |  OK  |  OK  | 
gpls 1.11.1 Biocore Team c/o BioC user list
 | Last Changed Rev: 30639 / Revision: 30951 |  | Last Changed Date: 2008-03-24 10:46:05 -0700 |  
  | lamb1  | Linux (SUSE 10.1) / x86_64  |  OK  |  OK  |  | 
| wilson2  | Linux (openSUSE 10.3) / x86_64  |  OK  |  OK  |  | 
| wellington  | Linux (openSUSE 10.3) / i686  |  OK  |  OK  |  | 
| liverpool  | Windows Server 2003 R2 (32-bit) / x64  |  OK  |  OK  |  OK  | 
| pelham  | Mac OS X Leopard (10.5.1) / i386  |  OK  |  OK  |  OK  | 
graph 1.17.17 Robert Gentleman
 | Last Changed Rev: 30294 / Revision: 30951 |  | Last Changed Date: 2008-02-29 10:34:40 -0800 |  
  | lamb1  | Linux (SUSE 10.1) / x86_64  |  OK  |  OK  |  | 
| wilson2  | Linux (openSUSE 10.3) / x86_64  |  OK  |  OK  |  | 
| wellington  | Linux (openSUSE 10.3) / i686  |  OK  |  OK  |  | 
| liverpool  | Windows Server 2003 R2 (32-bit) / x64  |  OK  |  OK  |  OK  | 
| pelham  | Mac OS X Leopard (10.5.1) / i386  |  OK  |  OK  |  OK  | 
GraphAlignment 1.0.0 Joern P. Meier
 | Last Changed Rev: 30219 / Revision: 30951 |  | Last Changed Date: 2008-02-26 14:58:58 -0800 |  
  | lamb1  | Linux (SUSE 10.1) / x86_64  |  OK  |  OK  |  | 
| wilson2  | Linux (openSUSE 10.3) / x86_64  |  OK  |  OK  |  | 
| wellington  | Linux (openSUSE 10.3) / i686  |  OK  |  OK  |  | 
| liverpool  | Windows Server 2003 R2 (32-bit) / x64  |  OK  |  OK  |  OK  | 
| pelham  | Mac OS X Leopard (10.5.1) / i386  |  OK  |  OK  |  OK  | 
GraphAT 1.11.2 Thomas LaFramboise
 | Last Changed Rev: 30598 / Revision: 30951 |  | Last Changed Date: 2008-03-20 10:56:14 -0700 |  
  | lamb1  | Linux (SUSE 10.1) / x86_64  |  OK  |  OK  |  | 
| wilson2  | Linux (openSUSE 10.3) / x86_64  |  OK  |  OK  |  | 
| wellington  | Linux (openSUSE 10.3) / i686  |  OK  |  OK  |  | 
| liverpool  | Windows Server 2003 R2 (32-bit) / x64  |  OK  |  OK  |  OK  | 
| pelham  | Mac OS X Leopard (10.5.1) / i386  |  OK  |  OK  |  OK  | 
GSEABase 1.1.27 Biocore Team c/o BioC user list
 | Last Changed Rev: 30705 / Revision: 30951 |  | Last Changed Date: 2008-03-27 09:32:47 -0700 |  
  | lamb1  | Linux (SUSE 10.1) / x86_64  |  OK  |  OK  |  | 
| wilson2  | Linux (openSUSE 10.3) / x86_64  |  OK  |  OK  |  | 
| wellington  | Linux (openSUSE 10.3) / i686  |  OK  |  OK  |  | 
| liverpool  | Windows Server 2003 R2 (32-bit) / x64  |  OK  |  WARNINGS  |  OK  | 
| pelham  | Mac OS X Leopard (10.5.1) / i386  |  OK  |  OK  |  OK  | 
GSEAlm 0.99.1 Assaf Oron
 | Last Changed Rev: 30765 / Revision: 30951 |  | Last Changed Date: 2008-03-31 12:21:53 -0700 |  
  | lamb1  | Linux (SUSE 10.1) / x86_64  |  OK  |  OK  |  | 
| wilson2  | Linux (openSUSE 10.3) / x86_64  |  OK  |  OK  |  | 
| wellington  | Linux (openSUSE 10.3) / i686  |  OK  |  OK  |  | 
| liverpool  | Windows Server 2003 R2 (32-bit) / x64  |  OK  |  OK  |  OK  | 
| pelham  | Mac OS X Leopard (10.5.1) / i386  |  OK  |  OK  |  OK  | 
 | 
| H  A  B  C  D  E  F  G [H] I  J  K  L  M  N  O  P  Q  R  S  T  U  V  W  X  Y  Z  | 
Harshlight 1.9.0 Maurizio Pellegrino
 | Last Changed Rev: 29019 / Revision: 30951 |  | Last Changed Date: 2007-12-04 13:10:19 -0800 |  
  | lamb1  | Linux (SUSE 10.1) / x86_64  |  OK  |  OK  |  | 
| wilson2  | Linux (openSUSE 10.3) / x86_64  |  OK  |  OK  |  | 
| wellington  | Linux (openSUSE 10.3) / i686  |  OK  |  OK  |  | 
| liverpool  | Windows Server 2003 R2 (32-bit) / x64  |  OK  |  OK  |  OK  | 
| pelham  | Mac OS X Leopard (10.5.1) / i386  |  OK  |  OK  |  OK  | 
Heatplus 1.9.0 Alexander Ploner
 | Last Changed Rev: 27716 / Revision: 30951 |  | Last Changed Date: 2007-10-02 18:16:39 -0700 |  
  | lamb1  | Linux (SUSE 10.1) / x86_64  |  OK  |  OK  |  | 
| wilson2  | Linux (openSUSE 10.3) / x86_64  |  OK  |  OK  |  | 
| wellington  | Linux (openSUSE 10.3) / i686  |  OK  |  OK  |  | 
| liverpool  | Windows Server 2003 R2 (32-bit) / x64  |  OK  |  OK  |  OK  | 
| pelham  | Mac OS X Leopard (10.5.1) / i386  |  OK  |  OK  |  OK  | 
HEM 1.11.0 HyungJun Cho
 | Last Changed Rev: 30639 / Revision: 30951 |  | Last Changed Date: 2008-03-24 10:46:05 -0700 |  
  | lamb1  | Linux (SUSE 10.1) / x86_64  |  OK  |  OK  |  | 
| wilson2  | Linux (openSUSE 10.3) / x86_64  |  OK  |  OK  |  | 
| wellington  | Linux (openSUSE 10.3) / i686  |  OK  |  OK  |  | 
| liverpool  | Windows Server 2003 R2 (32-bit) / x64  |  OK  |  OK  |  OK  | 
| pelham  | Mac OS X Leopard (10.5.1) / i386  |  OK  |  OK  |  OK  | 
hexbin 1.13.3 Nicholas Lewin-Koh
 | Last Changed Rev: 30573 / Revision: 30951 |  | Last Changed Date: 2008-03-18 15:55:01 -0700 |  
  | lamb1  | Linux (SUSE 10.1) / x86_64  |  OK  |  WARNINGS  |  | 
| wilson2  | Linux (openSUSE 10.3) / x86_64  |  OK  |  WARNINGS  |  | 
| wellington  | Linux (openSUSE 10.3) / i686  |  OK  |  WARNINGS  |  | 
| liverpool  | Windows Server 2003 R2 (32-bit) / x64  |  OK  |  WARNINGS  |  OK  | 
| pelham  | Mac OS X Leopard (10.5.1) / i386  |  OK  |  WARNINGS  |  OK  | 
hopach 1.13.1 Katherine S. Pollard
 | Last Changed Rev: 30639 / Revision: 30951 |  | Last Changed Date: 2008-03-24 10:46:05 -0700 |  
  | lamb1  | Linux (SUSE 10.1) / x86_64  |  OK  |  OK  |  | 
| wilson2  | Linux (openSUSE 10.3) / x86_64  |  OK  |  OK  |  | 
| wellington  | Linux (openSUSE 10.3) / i686  |  OK  |  OK  |  | 
| liverpool  | Windows Server 2003 R2 (32-bit) / x64  |  OK  |  OK  |  OK  | 
| pelham  | Mac OS X Leopard (10.5.1) / i386  |  OK  |  OK  |  OK  | 
hypergraph 1.11.1 Robert Gentleman
 | Last Changed Rev: 30446 / Revision: 30951 |  | Last Changed Date: 2008-03-10 17:05:33 -0700 |  
  | lamb1  | Linux (SUSE 10.1) / x86_64  |  OK  |  OK  |  | 
| wilson2  | Linux (openSUSE 10.3) / x86_64  |  OK  |  OK  |  | 
| wellington  | Linux (openSUSE 10.3) / i686  |  OK  |  OK  |  | 
| liverpool  | Windows Server 2003 R2 (32-bit) / x64  |  OK  |  OK  |  OK  | 
| pelham  | Mac OS X Leopard (10.5.1) / i386  |  OK  |  OK  |  OK  | 
 | 
| I  A  B  C  D  E  F  G  H [I] J  K  L  M  N  O  P  Q  R  S  T  U  V  W  X  Y  Z  | 
Icens 1.11.1 Biocore Team c/o BioC user list
 | Last Changed Rev: 30639 / Revision: 30951 |  | Last Changed Date: 2008-03-24 10:46:05 -0700 |  
  | lamb1  | Linux (SUSE 10.1) / x86_64  |  OK  |  OK  |  | 
| wilson2  | Linux (openSUSE 10.3) / x86_64  |  OK  |  OK  |  | 
| wellington  | Linux (openSUSE 10.3) / i686  |  OK  |  OK  |  | 
| liverpool  | Windows Server 2003 R2 (32-bit) / x64  |  OK  |  OK  |  OK  | 
| pelham  | Mac OS X Leopard (10.5.1) / i386  |  OK  |  OK  |  OK  | 
idiogram 1.13.1 Karl J. Dykema
 | Last Changed Rev: 30743 / Revision: 30951 |  | Last Changed Date: 2008-03-28 19:54:23 -0700 |  
  | lamb1  | Linux (SUSE 10.1) / x86_64  |  OK  |  OK  |  | 
| wilson2  | Linux (openSUSE 10.3) / x86_64  |  OK  |  OK  |  | 
| wellington  | Linux (openSUSE 10.3) / i686  |  ERROR  |  skipped  |  | 
| liverpool  | Windows Server 2003 R2 (32-bit) / x64  |  OK  |  OK  |  OK  | 
| pelham  | Mac OS X Leopard (10.5.1) / i386  |  OK  |  OK  |  OK  | 
impute 1.11.0 Balasubramanian Narasimhan
 | Last Changed Rev: 30639 / Revision: 30951 |  | Last Changed Date: 2008-03-24 10:46:05 -0700 |  
  | lamb1  | Linux (SUSE 10.1) / x86_64  |  OK  |  OK  |  | 
| wilson2  | Linux (openSUSE 10.3) / x86_64  |  OK  |  OK  |  | 
| wellington  | Linux (openSUSE 10.3) / i686  |  OK  |  OK  |  | 
| liverpool  | Windows Server 2003 R2 (32-bit) / x64  |  OK  |  OK  |  OK  | 
| pelham  | Mac OS X Leopard (10.5.1) / i386  |  OK  |  OK  |  OK  | 
 | 
| K  A  B  C  D  E  F  G  H  I  J [K] L  M  N  O  P  Q  R  S  T  U  V  W  X  Y  Z  | 
keggorth 1.1.0 VJ Carey
 | Last Changed Rev: 27813 / Revision: 30951 |  | Last Changed Date: 2007-10-05 18:31:10 -0700 |  
  | lamb1  | Linux (SUSE 10.1) / x86_64  |  OK  |  OK  |  | 
| wilson2  | Linux (openSUSE 10.3) / x86_64  |  OK  |  OK  |  | 
| wellington  | Linux (openSUSE 10.3) / i686  |  OK  |  OK  |  | 
| liverpool  | Windows Server 2003 R2 (32-bit) / x64  |  OK  |  OK  |  OK  | 
| pelham  | Mac OS X Leopard (10.5.1) / i386  |  OK  |  OK  |  OK  | 
KEGGSOAP 1.13.0 Robert Gentleman
 | Last Changed Rev: 29533 / Revision: 30951 |  | Last Changed Date: 2008-01-14 21:18:54 -0800 |  
  | lamb1  | Linux (SUSE 10.1) / x86_64  |  OK  |  OK  |  | 
| wilson2  | Linux (openSUSE 10.3) / x86_64  |  OK  |  OK  |  | 
| wellington  | Linux (openSUSE 10.3) / i686  |  OK  |  OK  |  | 
| liverpool  | Windows Server 2003 R2 (32-bit) / x64  |  OK  |  WARNINGS  |  OK  | 
| pelham  | Mac OS X Leopard (10.5.1) / i386  |  OK  |  OK  |  OK  | 
 | 
| L  A  B  C  D  E  F  G  H  I  J  K [L] M  N  O  P  Q  R  S  T  U  V  W  X  Y  Z  | 
lapmix 1.5.3 Yann Ruffieux
 | Last Changed Rev: 30639 / Revision: 30951 |  | Last Changed Date: 2008-03-24 10:46:05 -0700 |  
  | lamb1  | Linux (SUSE 10.1) / x86_64  |  OK  |  OK  |  | 
| wilson2  | Linux (openSUSE 10.3) / x86_64  |  OK  |  OK  |  | 
| wellington  | Linux (openSUSE 10.3) / i686  |  OK  |  OK  |  | 
| liverpool  | Windows Server 2003 R2 (32-bit) / x64  |  OK  |  OK  |  OK  | 
| pelham  | Mac OS X Leopard (10.5.1) / i386  |  OK  |  OK  |  OK  | 
LBE 1.7.0 Cyril Dalmasso
 | Last Changed Rev: 27716 / Revision: 30951 |  | Last Changed Date: 2007-10-02 18:16:39 -0700 |  
  | lamb1  | Linux (SUSE 10.1) / x86_64  |  OK  |  OK  |  | 
| wilson2  | Linux (openSUSE 10.3) / x86_64  |  OK  |  OK  |  | 
| wellington  | Linux (openSUSE 10.3) / i686  |  OK  |  OK  |  | 
| liverpool  | Windows Server 2003 R2 (32-bit) / x64  |  OK  |  OK  |  OK  | 
| pelham  | Mac OS X Leopard (10.5.1) / i386  |  OK  |  OK  |  OK  | 
limma 2.13.7 Gordon Smyth
 | Last Changed Rev: 30675 / Revision: 30951 |  | Last Changed Date: 2008-03-25 17:45:16 -0700 |  
  | lamb1  | Linux (SUSE 10.1) / x86_64  |  OK  |  WARNINGS  |  | 
| wilson2  | Linux (openSUSE 10.3) / x86_64  |  OK  |  WARNINGS  |  | 
| wellington  | Linux (openSUSE 10.3) / i686  |  OK  |  WARNINGS  |  | 
| liverpool  | Windows Server 2003 R2 (32-bit) / x64  |  OK  |  WARNINGS  |  OK  | 
| pelham  | Mac OS X Leopard (10.5.1) / i386  |  OK  |  WARNINGS  |  OK  | 
limmaGUI 1.15.0 Keith Satterley
 | Last Changed Rev: 28351 / Revision: 30951 |  | Last Changed Date: 2007-10-31 10:04:47 -0700 |  
  | lamb1  | Linux (SUSE 10.1) / x86_64  |  OK  |  OK  |  | 
| wilson2  | Linux (openSUSE 10.3) / x86_64  |  OK  |  OK  |  | 
| wellington  | Linux (openSUSE 10.3) / i686  |  OK  |  OK  |  | 
| liverpool  | Windows Server 2003 R2 (32-bit) / x64  |  OK  |  OK  |  OK  | 
| pelham  | Mac OS X Leopard (10.5.1) / i386  |  OK  |  OK  |  OK  | 
LMGene 1.9.1 John Tillinghast
 | Last Changed Rev: 30378 / Revision: 30951 |  | Last Changed Date: 2008-03-05 12:24:50 -0800 |  
  | lamb1  | Linux (SUSE 10.1) / x86_64  |  OK  |  OK  |  | 
| wilson2  | Linux (openSUSE 10.3) / x86_64  |  OK  |  OK  |  | 
| wellington  | Linux (openSUSE 10.3) / i686  |  OK  |  OK  |  | 
| liverpool  | Windows Server 2003 R2 (32-bit) / x64  |  OK  |  OK  |  OK  | 
| pelham  | Mac OS X Leopard (10.5.1) / i386  |  OK  |  OK  |  OK  | 
logicFS 1.9.15 Holger Schwender
 | Last Changed Rev: 30407 / Revision: 30951 |  | Last Changed Date: 2008-03-07 09:31:51 -0800 |  
  | lamb1  | Linux (SUSE 10.1) / x86_64  |  OK  |  OK  |  | 
| wilson2  | Linux (openSUSE 10.3) / x86_64  |  OK  |  OK  |  | 
| wellington  | Linux (openSUSE 10.3) / i686  |  OK  |  OK  |  | 
| liverpool  | Windows Server 2003 R2 (32-bit) / x64  |  OK  |  OK  |  OK  | 
| pelham  | Mac OS X Leopard (10.5.1) / i386  |  OK  |  OK  |  OK  | 
LPE 1.13.0 Nitin Jain
 | Last Changed Rev: 30808 / Revision: 30951 |  | Last Changed Date: 2008-04-02 13:45:03 -0700 |  
  | lamb1  | Linux (SUSE 10.1) / x86_64  |  OK  |  OK  |  | 
| wilson2  | Linux (openSUSE 10.3) / x86_64  |  OK  |  OK  |  | 
| wellington  | Linux (openSUSE 10.3) / i686  |  OK  |  OK  |  | 
| liverpool  | Windows Server 2003 R2 (32-bit) / x64  |  OK  |  OK  |  OK  | 
| pelham  | Mac OS X Leopard (10.5.1) / i386  |  OK  |  OK  |  OK  | 
lumi 1.5.18 Pan Du
 | Last Changed Rev: 30847 / Revision: 30951 |  | Last Changed Date: 2008-04-04 11:52:53 -0700 |  
  | lamb1  | Linux (SUSE 10.1) / x86_64  |  ERROR  |  skipped  |  | 
| wilson2  | Linux (openSUSE 10.3) / x86_64  |  ERROR  |  skipped  |  | 
| wellington  | Linux (openSUSE 10.3) / i686  |  ERROR  |  skipped  |  | 
| liverpool  | Windows Server 2003 R2 (32-bit) / x64  |  ERROR  |  skipped  |  skipped  | 
| pelham  | Mac OS X Leopard (10.5.1) / i386  |  ERROR  |  skipped  |  skipped  | 
 | 
| M  A  B  C  D  E  F  G  H  I  J  K  L [M] N  O  P  Q  R  S  T  U  V  W  X  Y  Z  | 
maanova 1.8.1 Hyuna Yang
 | Last Changed Rev: 29640 / Revision: 30951 |  | Last Changed Date: 2008-01-23 06:43:58 -0800 |  
  | lamb1  | Linux (SUSE 10.1) / x86_64  |  OK  |  OK  |  | 
| wilson2  | Linux (openSUSE 10.3) / x86_64  |  OK  |  OK  |  | 
| wellington  | Linux (openSUSE 10.3) / i686  |  OK  |  OK  |  | 
| liverpool  | Windows Server 2003 R2 (32-bit) / x64  |  OK  |  OK  |  OK  | 
| pelham  | Mac OS X Leopard (10.5.1) / i386  |  OK  |  OK  |  OK  | 
macat 1.13.3 Joern Toedling
 | Last Changed Rev: 30363 / Revision: 30951 |  | Last Changed Date: 2008-03-04 13:18:09 -0800 |  
  | lamb1  | Linux (SUSE 10.1) / x86_64  |  OK  |  OK  |  | 
| wilson2  | Linux (openSUSE 10.3) / x86_64  |  OK  |  OK  |  | 
| wellington  | Linux (openSUSE 10.3) / i686  |  OK  |  OK  |  | 
| liverpool  | Windows Server 2003 R2 (32-bit) / x64  |  OK  |  OK  |  OK  | 
| pelham  | Mac OS X Leopard (10.5.1) / i386  |  OK  |  OK  |  OK  | 
maCorrPlot 1.9.0 Alexander Ploner
 | Last Changed Rev: 27716 / Revision: 30951 |  | Last Changed Date: 2007-10-02 18:16:39 -0700 |  
  | lamb1  | Linux (SUSE 10.1) / x86_64  |  OK  |  OK  |  | 
| wilson2  | Linux (openSUSE 10.3) / x86_64  |  OK  |  OK  |  | 
| wellington  | Linux (openSUSE 10.3) / i686  |  OK  |  OK  |  | 
| liverpool  | Windows Server 2003 R2 (32-bit) / x64  |  OK  |  OK  |  OK  | 
| pelham  | Mac OS X Leopard (10.5.1) / i386  |  OK  |  OK  |  OK  | 
maDB 1.11.1 Johannes Rainer
 | Last Changed Rev: 29612 / Revision: 30951 |  | Last Changed Date: 2008-01-21 01:36:10 -0800 |  
  | lamb1  | Linux (SUSE 10.1) / x86_64  |  OK  |  WARNINGS  |  | 
| wilson2  | Linux (openSUSE 10.3) / x86_64  |  OK  |  WARNINGS  |  | 
| wellington  | Linux (openSUSE 10.3) / i686  |  OK  |  WARNINGS  |  | 
| liverpool  | Windows Server 2003 R2 (32-bit) / x64  | N O T   S U P P O R T E D | 
| pelham  | Mac OS X Leopard (10.5.1) / i386  |  OK  |  WARNINGS  |  OK  | 
made4 1.13.3 Aedin Culhane
 | Last Changed Rev: 30950 / Revision: 30951 |  | Last Changed Date: 2008-04-08 22:57:46 -0700 |  
  | lamb1  | Linux (SUSE 10.1) / x86_64  |  OK  |  OK  |  | 
| wilson2  | Linux (openSUSE 10.3) / x86_64  |  OK  |  OK  |  | 
| wellington  | Linux (openSUSE 10.3) / i686  |  OK  |  OK  |  | 
| liverpool  | Windows Server 2003 R2 (32-bit) / x64  |  OK  |  OK  |  OK  | 
| pelham  | Mac OS X Leopard (10.5.1) / i386  |  OK  |  OK  |  OK  | 
maigesPack 1.3.5 Gustavo H. Esteves
 | Last Changed Rev: 30744 / Revision: 30951 |  | Last Changed Date: 2008-03-28 21:42:30 -0700 |  
  | lamb1  | Linux (SUSE 10.1) / x86_64  |  OK  |  OK  |  | 
| wilson2  | Linux (openSUSE 10.3) / x86_64  |  OK  |  OK  |  | 
| wellington  | Linux (openSUSE 10.3) / i686  |  OK  |  OK  |  | 
| liverpool  | Windows Server 2003 R2 (32-bit) / x64  |  OK  |  OK  |  OK  | 
| pelham  | Mac OS X Leopard (10.5.1) / i386  |  OK  |  OK  |  OK  | 
makecdfenv 1.17.1 James W. MacDonald
 | Last Changed Rev: 30639 / Revision: 30951 |  | Last Changed Date: 2008-03-24 10:46:05 -0700 |  
  | lamb1  | Linux (SUSE 10.1) / x86_64  |  OK  |  OK  |  | 
| wilson2  | Linux (openSUSE 10.3) / x86_64  |  OK  |  OK  |  | 
| wellington  | Linux (openSUSE 10.3) / i686  |  OK  |  OK  |  | 
| liverpool  | Windows Server 2003 R2 (32-bit) / x64  |  OK  |  OK  |  OK  | 
| pelham  | Mac OS X Leopard (10.5.1) / i386  |  OK  |  OK  |  OK  | 
makePlatformDesign 1.3.0 Benilton Carvalho
 | Last Changed Rev: 28000 / Revision: 30951 |  | Last Changed Date: 2007-10-15 11:28:10 -0700 |  
  | lamb1  | Linux (SUSE 10.1) / x86_64  |  OK  |  OK  |  | 
| wilson2  | Linux (openSUSE 10.3) / x86_64  |  OK  |  OK  |  | 
| wellington  | Linux (openSUSE 10.3) / i686  |  OK  |  OK  |  | 
| liverpool  | Windows Server 2003 R2 (32-bit) / x64  |  OK  |  OK  |  OK  | 
| pelham  | Mac OS X Leopard (10.5.1) / i386  |  OK  |  OK  |  OK  | 
MANOR 1.11.1 Pierre Neuvial
 | Last Changed Rev: 30663 / Revision: 30951 |  | Last Changed Date: 2008-03-25 10:39:02 -0700 |  
  | lamb1  | Linux (SUSE 10.1) / x86_64  |  OK  |  OK  |  | 
| wilson2  | Linux (openSUSE 10.3) / x86_64  |  OK  |  OK  |  | 
| wellington  | Linux (openSUSE 10.3) / i686  |  OK  |  OK  |  | 
| liverpool  | Windows Server 2003 R2 (32-bit) / x64  |  OK  |  OK  |  OK  | 
| pelham  | Mac OS X Leopard (10.5.1) / i386  |  OK  |  OK  |  OK  | 
MantelCorr 1.9.0 Brian Steinmeyer
 | Last Changed Rev: 28097 / Revision: 30951 |  | Last Changed Date: 2007-10-21 09:02:13 -0700 |  
  | lamb1  | Linux (SUSE 10.1) / x86_64  |  OK  |  OK  |  | 
| wilson2  | Linux (openSUSE 10.3) / x86_64  |  OK  |  OK  |  | 
| wellington  | Linux (openSUSE 10.3) / i686  |  OK  |  OK  |  | 
| liverpool  | Windows Server 2003 R2 (32-bit) / x64  |  OK  |  OK  |  OK  | 
| pelham  | Mac OS X Leopard (10.5.1) / i386  |  OK  |  OK  |  OK  | 
marray 1.17.1 Yee Hwa (Jean) Yang
 | Last Changed Rev: 30270 / Revision: 30951 |  | Last Changed Date: 2008-02-28 14:39:33 -0800 |  
  | lamb1  | Linux (SUSE 10.1) / x86_64  |  OK  |  OK  |  | 
| wilson2  | Linux (openSUSE 10.3) / x86_64  |  OK  |  OK  |  | 
| wellington  | Linux (openSUSE 10.3) / i686  |  OK  |  OK  |  | 
| liverpool  | Windows Server 2003 R2 (32-bit) / x64  |  OK  |  OK  |  OK  | 
| pelham  | Mac OS X Leopard (10.5.1) / i386  |  OK  |  OK  |  OK  | 
maSigPro 1.11.1 Ana Conesa
 | Last Changed Rev: 30203 / Revision: 30951 |  | Last Changed Date: 2008-02-26 11:14:48 -0800 |  
  | lamb1  | Linux (SUSE 10.1) / x86_64  |  OK  |  OK  |  | 
| wilson2  | Linux (openSUSE 10.3) / x86_64  |  OK  |  OK  |  | 
| wellington  | Linux (openSUSE 10.3) / i686  |  OK  |  OK  |  | 
| liverpool  | Windows Server 2003 R2 (32-bit) / x64  |  OK  |  OK  |  OK  | 
| pelham  | Mac OS X Leopard (10.5.1) / i386  |  OK  |  OK  |  OK  | 
MassSpecWavelet 1.5.2 Pan Du
 | Last Changed Rev: 29710 / Revision: 30951 |  | Last Changed Date: 2008-01-26 13:35:23 -0800 |  
  | lamb1  | Linux (SUSE 10.1) / x86_64  |  OK  |  OK  |  | 
| wilson2  | Linux (openSUSE 10.3) / x86_64  |  OK  |  OK  |  | 
| wellington  | Linux (openSUSE 10.3) / i686  |  OK  |  OK  |  | 
| liverpool  | Windows Server 2003 R2 (32-bit) / x64  |  OK  |  OK  |  OK  | 
| pelham  | Mac OS X Leopard (10.5.1) / i386  |  OK  |  OK  |  OK  | 
matchprobes 1.11.1 Biocore Team c/o BioC user list
 | Last Changed Rev: 30367 / Revision: 30951 |  | Last Changed Date: 2008-03-04 16:35:59 -0800 |  
  | lamb1  | Linux (SUSE 10.1) / x86_64  |  OK  |  OK  |  | 
| wilson2  | Linux (openSUSE 10.3) / x86_64  |  OK  |  OK  |  | 
| wellington  | Linux (openSUSE 10.3) / i686  |  OK  |  OK  |  | 
| liverpool  | Windows Server 2003 R2 (32-bit) / x64  |  OK  |  OK  |  OK  | 
| pelham  | Mac OS X Leopard (10.5.1) / i386  |  OK  |  OK  |  OK  | 
MCRestimate 1.11.7 Markus Ruschhaupt
 | Last Changed Rev: 30819 / Revision: 30951 |  | Last Changed Date: 2008-04-03 02:44:18 -0700 |  
  | lamb1  | Linux (SUSE 10.1) / x86_64  |  OK  |  OK  |  | 
| wilson2  | Linux (openSUSE 10.3) / x86_64  |  OK  |  OK  |  | 
| wellington  | Linux (openSUSE 10.3) / i686  |  OK  |  OK  |  | 
| liverpool  | Windows Server 2003 R2 (32-bit) / x64  |  OK  |  OK  |  OK  | 
| pelham  | Mac OS X Leopard (10.5.1) / i386  |  OK  |  OK  |  OK  | 
mdqc 1.0.1 Gabriela Cohen-Freue
 | Last Changed Rev: 30261 / Revision: 30951 |  | Last Changed Date: 2008-02-28 11:11:54 -0800 |  
  | lamb1  | Linux (SUSE 10.1) / x86_64  |  OK  |  ERROR  |  | 
| wilson2  | Linux (openSUSE 10.3) / x86_64  |  OK  |  ERROR  |  | 
| wellington  | Linux (openSUSE 10.3) / i686  |  OK  |  ERROR  |  | 
| liverpool  | Windows Server 2003 R2 (32-bit) / x64  |  OK  |  WARNINGS  |  OK  | 
| pelham  | Mac OS X Leopard (10.5.1) / i386  |  OK  |  ERROR  |  OK  | 
MeasurementError.cor 1.11.0 Beiying Ding
 | Last Changed Rev: 30639 / Revision: 30951 |  | Last Changed Date: 2008-03-24 10:46:05 -0700 |  
  | lamb1  | Linux (SUSE 10.1) / x86_64  |  OK  |  OK  |  | 
| wilson2  | Linux (openSUSE 10.3) / x86_64  |  OK  |  OK  |  | 
| wellington  | Linux (openSUSE 10.3) / i686  |  OK  |  OK  |  | 
| liverpool  | Windows Server 2003 R2 (32-bit) / x64  |  OK  |  OK  |  OK  | 
| pelham  | Mac OS X Leopard (10.5.1) / i386  |  OK  |  OK  |  OK  | 
MergeMaid 2.11.1 Xiaogang Zhong
 | Last Changed Rev: 30639 / Revision: 30951 |  | Last Changed Date: 2008-03-24 10:46:05 -0700 |  
  | lamb1  | Linux (SUSE 10.1) / x86_64  |  OK  |  OK  |  | 
| wilson2  | Linux (openSUSE 10.3) / x86_64  |  OK  |  OK  |  | 
| wellington  | Linux (openSUSE 10.3) / i686  |  OK  |  OK  |  | 
| liverpool  | Windows Server 2003 R2 (32-bit) / x64  |  OK  |  OK  |  OK  | 
| pelham  | Mac OS X Leopard (10.5.1) / i386  |  OK  |  OK  |  OK  | 
metaArray 1.13.2 Hyungwon Choi
 | Last Changed Rev: 30351 / Revision: 30951 |  | Last Changed Date: 2008-03-04 09:02:56 -0800 |  
  | lamb1  | Linux (SUSE 10.1) / x86_64  |  OK  |  OK  |  | 
| wilson2  | Linux (openSUSE 10.3) / x86_64  |  OK  |  OK  |  | 
| wellington  | Linux (openSUSE 10.3) / i686  |  OK  |  OK  |  | 
| liverpool  | Windows Server 2003 R2 (32-bit) / x64  |  OK  |  OK  |  OK  | 
| pelham  | Mac OS X Leopard (10.5.1) / i386  |  OK  |  OK  |  OK  | 
Mfuzz 1.9.2 Matthias Futschik
 | Last Changed Rev: 30639 / Revision: 30951 |  | Last Changed Date: 2008-03-24 10:46:05 -0700 |  
  | lamb1  | Linux (SUSE 10.1) / x86_64  |  OK  |  OK  |  | 
| wilson2  | Linux (openSUSE 10.3) / x86_64  |  OK  |  OK  |  | 
| wellington  | Linux (openSUSE 10.3) / i686  |  OK  |  OK  |  | 
| liverpool  | Windows Server 2003 R2 (32-bit) / x64  |  OK  |  OK  |  OK  | 
| pelham  | Mac OS X Leopard (10.5.1) / i386  |  OK  |  OK  |  OK  | 
MiPP 1.11.0 Sukwoo Kim
 | Last Changed Rev: 30639 / Revision: 30951 |  | Last Changed Date: 2008-03-24 10:46:05 -0700 |  
  | lamb1  | Linux (SUSE 10.1) / x86_64  |  OK  |  OK  |  | 
| wilson2  | Linux (openSUSE 10.3) / x86_64  |  OK  |  OK  |  | 
| wellington  | Linux (openSUSE 10.3) / i686  |  OK  |  OK  |  | 
| liverpool  | Windows Server 2003 R2 (32-bit) / x64  |  OK  |  OK  |  OK  | 
| pelham  | Mac OS X Leopard (10.5.1) / i386  |  OK  |  OK  |  OK  | 
MLInterfaces 1.13.22 V. Carey
 | Last Changed Rev: 30656 / Revision: 30951 |  | Last Changed Date: 2008-03-25 03:16:03 -0700 |  
  | lamb1  | Linux (SUSE 10.1) / x86_64  |  OK  |  ERROR  |  | 
| wilson2  | Linux (openSUSE 10.3) / x86_64  |  OK  |  ERROR  |  | 
| wellington  | Linux (openSUSE 10.3) / i686  |  OK  |  ERROR  |  | 
| liverpool  | Windows Server 2003 R2 (32-bit) / x64  |  OK  |  OK  |  OK  | 
| pelham  | Mac OS X Leopard (10.5.1) / i386  |  OK  |  ERROR  |  OK  | 
multtest 1.19.1 Katherine S. Pollard
 | Last Changed Rev: 30639 / Revision: 30951 |  | Last Changed Date: 2008-03-24 10:46:05 -0700 |  
  | lamb1  | Linux (SUSE 10.1) / x86_64  |  OK  |  OK  |  | 
| wilson2  | Linux (openSUSE 10.3) / x86_64  |  OK  |  OK  |  | 
| wellington  | Linux (openSUSE 10.3) / i686  |  OK  |  OK  |  | 
| liverpool  | Windows Server 2003 R2 (32-bit) / x64  |  OK  |  OK  |  OK  | 
| pelham  | Mac OS X Leopard (10.5.1) / i386  |  OK  |  OK  |  OK  | 
MVCClass 1.13.0 Elizabeth Whalen
 | Last Changed Rev: 30240 / Revision: 30951 |  | Last Changed Date: 2008-02-27 13:00:03 -0800 |  
  | lamb1  | Linux (SUSE 10.1) / x86_64  |  OK  |  OK  |  | 
| wilson2  | Linux (openSUSE 10.3) / x86_64  |  OK  |  OK  |  | 
| wellington  | Linux (openSUSE 10.3) / i686  |  OK  |  OK  |  | 
| liverpool  | Windows Server 2003 R2 (32-bit) / x64  |  OK  |  OK  |  OK  | 
| pelham  | Mac OS X Leopard (10.5.1) / i386  |  OK  |  OK  |  OK  | 
 | 
| N  A  B  C  D  E  F  G  H  I  J  K  L  M [N] O  P  Q  R  S  T  U  V  W  X  Y  Z  | 
nem 2.3.2 Florian Markowetz
 | Last Changed Rev: 29077 / Revision: 30951 |  | Last Changed Date: 2007-12-06 05:31:56 -0800 |  
  | lamb1  | Linux (SUSE 10.1) / x86_64  |  OK  |  OK  |  | 
| wilson2  | Linux (openSUSE 10.3) / x86_64  |  OK  |  OK  |  | 
| wellington  | Linux (openSUSE 10.3) / i686  |  OK  |  OK  |  | 
| liverpool  | Windows Server 2003 R2 (32-bit) / x64  |  OK  |  OK  |  OK  | 
| pelham  | Mac OS X Leopard (10.5.1) / i386  |  OK  |  OK  |  OK  | 
nnNorm 2.3.0 Adi Laurentiu Tarca
 | Last Changed Rev: 30639 / Revision: 30951 |  | Last Changed Date: 2008-03-24 10:46:05 -0700 |  
  | lamb1  | Linux (SUSE 10.1) / x86_64  |  OK  |  OK  |  | 
| wilson2  | Linux (openSUSE 10.3) / x86_64  |  OK  |  OK  |  | 
| wellington  | Linux (openSUSE 10.3) / i686  |  OK  |  OK  |  | 
| liverpool  | Windows Server 2003 R2 (32-bit) / x64  |  OK  |  OK  |  OK  | 
| pelham  | Mac OS X Leopard (10.5.1) / i386  |  OK  |  OK  |  OK  | 
nudge 1.5.2 N. Dean
 | Last Changed Rev: 30623 / Revision: 30951 |  | Last Changed Date: 2008-03-21 17:07:39 -0700 |  
  | lamb1  | Linux (SUSE 10.1) / x86_64  |  OK  |  OK  |  | 
| wilson2  | Linux (openSUSE 10.3) / x86_64  |  OK  |  OK  |  | 
| wellington  | Linux (openSUSE 10.3) / i686  |  OK  |  OK  |  | 
| liverpool  | Windows Server 2003 R2 (32-bit) / x64  |  OK  |  OK  |  OK  | 
| pelham  | Mac OS X Leopard (10.5.1) / i386  |  OK  |  OK  |  OK  | 
 | 
| O  A  B  C  D  E  F  G  H  I  J  K  L  M  N [O] P  Q  R  S  T  U  V  W  X  Y  Z  | 
occugene 0.99.0 Oliver Will
 | Last Changed Rev: 30929 / Revision: 30951 |  | Last Changed Date: 2008-04-08 13:08:06 -0700 |  
  | lamb1  | Linux (SUSE 10.1) / x86_64  |  OK  |  OK  |  | 
| wilson2  | Linux (openSUSE 10.3) / x86_64  |  OK  |  OK  |  | 
| wellington  | Linux (openSUSE 10.3) / i686  |  OK  |  OK  |  | 
| liverpool  | Windows Server 2003 R2 (32-bit) / x64  |  OK  |  OK  |  OK  | 
| pelham  | Mac OS X Leopard (10.5.1) / i386  |  OK  |  OK  |  OK  | 
OCplus 1.13.0 Alexander Ploner
 | Last Changed Rev: 27716 / Revision: 30951 |  | Last Changed Date: 2007-10-02 18:16:39 -0700 |  
  | lamb1  | Linux (SUSE 10.1) / x86_64  |  OK  |  OK  |  | 
| wilson2  | Linux (openSUSE 10.3) / x86_64  |  OK  |  OK  |  | 
| wellington  | Linux (openSUSE 10.3) / i686  |  OK  |  OK  |  | 
| liverpool  | Windows Server 2003 R2 (32-bit) / x64  |  OK  |  OK  |  OK  | 
| pelham  | Mac OS X Leopard (10.5.1) / i386  |  OK  |  OK  |  OK  | 
oligo 1.3.18 Benilton Carvalho
 | Last Changed Rev: 30606 / Revision: 30951 |  | Last Changed Date: 2008-03-21 01:53:31 -0700 |  
  | lamb1  | Linux (SUSE 10.1) / x86_64  |  OK  |  WARNINGS  |  | 
| wilson2  | Linux (openSUSE 10.3) / x86_64  |  OK  |  WARNINGS  |  | 
| wellington  | Linux (openSUSE 10.3) / i686  |  OK  |  WARNINGS  |  | 
| liverpool  | Windows Server 2003 R2 (32-bit) / x64  |  OK  |  WARNINGS  |  OK  | 
| pelham  | Mac OS X Leopard (10.5.1) / i386  |  OK  |  WARNINGS  |  OK  | 
oligoClasses 1.1.18 Benilton Carvalho
 | Last Changed Rev: 30606 / Revision: 30951 |  | Last Changed Date: 2008-03-21 01:53:31 -0700 |  
  | lamb1  | Linux (SUSE 10.1) / x86_64  |  OK  |  WARNINGS  |  | 
| wilson2  | Linux (openSUSE 10.3) / x86_64  |  OK  |  WARNINGS  |  | 
| wellington  | Linux (openSUSE 10.3) / i686  |  OK  |  WARNINGS  |  | 
| liverpool  | Windows Server 2003 R2 (32-bit) / x64  |  OK  |  WARNINGS  |  OK  | 
| pelham  | Mac OS X Leopard (10.5.1) / i386  |  OK  |  WARNINGS  |  OK  | 
OLIN 1.15.0 Matthias Futschik
 | Last Changed Rev: 30639 / Revision: 30951 |  | Last Changed Date: 2008-03-24 10:46:05 -0700 |  
  | lamb1  | Linux (SUSE 10.1) / x86_64  |  OK  |  OK  |  | 
| wilson2  | Linux (openSUSE 10.3) / x86_64  |  OK  |  OK  |  | 
| wellington  | Linux (openSUSE 10.3) / i686  |  OK  |  OK  |  | 
| liverpool  | Windows Server 2003 R2 (32-bit) / x64  |  OK  |  OK  |  OK  | 
| pelham  | Mac OS X Leopard (10.5.1) / i386  |  OK  |  OK  |  OK  | 
OLINgui 1.13.0 Matthias Futschik
 | Last Changed Rev: 30639 / Revision: 30951 |  | Last Changed Date: 2008-03-24 10:46:05 -0700 |  
  | lamb1  | Linux (SUSE 10.1) / x86_64  |  OK  |  OK  |  | 
| wilson2  | Linux (openSUSE 10.3) / x86_64  |  OK  |  OK  |  | 
| wellington  | Linux (openSUSE 10.3) / i686  |  OK  |  OK  |  | 
| liverpool  | Windows Server 2003 R2 (32-bit) / x64  |  OK  |  OK  |  OK  | 
| pelham  | Mac OS X Leopard (10.5.1) / i386  |  OK  |  OK  |  OK  | 
oneChannelGUI 1.5.11 Raffaele A Calogero
 | Last Changed Rev: 30758 / Revision: 30951 |  | Last Changed Date: 2008-03-31 00:01:58 -0700 |  
  | lamb1  | Linux (SUSE 10.1) / x86_64  |  OK  |  OK  |  | 
| wilson2  | Linux (openSUSE 10.3) / x86_64  |  OK  |  OK  |  | 
| wellington  | Linux (openSUSE 10.3) / i686  |  OK  |  OK  |  | 
| liverpool  | Windows Server 2003 R2 (32-bit) / x64  |  OK  |  OK  |  OK  | 
| pelham  | Mac OS X Leopard (10.5.1) / i386  |  OK  |  OK  |  OK  | 
ontoTools 1.15.1 Vince Carey
 | Last Changed Rev: 30735 / Revision: 30951 |  | Last Changed Date: 2008-03-28 10:54:00 -0700 |  
  | lamb1  | Linux (SUSE 10.1) / x86_64  |  OK  |  OK  |  | 
| wilson2  | Linux (openSUSE 10.3) / x86_64  |  OK  |  OK  |  | 
| wellington  | Linux (openSUSE 10.3) / i686  |  OK  |  OK  |  | 
| liverpool  | Windows Server 2003 R2 (32-bit) / x64  |  OK  |  OK  |  OK  | 
| pelham  | Mac OS X Leopard (10.5.1) / i386  |  OK  |  OK  |  OK  | 
OrderedList 1.11.3 Claudio Lottaz
 | Last Changed Rev: 30193 / Revision: 30951 |  | Last Changed Date: 2008-02-26 09:53:05 -0800 |  
  | lamb1  | Linux (SUSE 10.1) / x86_64  |  OK  |  OK  |  | 
| wilson2  | Linux (openSUSE 10.3) / x86_64  |  OK  |  OK  |  | 
| wellington  | Linux (openSUSE 10.3) / i686  |  OK  |  OK  |  | 
| liverpool  | Windows Server 2003 R2 (32-bit) / x64  |  OK  |  OK  |  OK  | 
| pelham  | Mac OS X Leopard (10.5.1) / i386  |  OK  |  OK  |  OK  | 
OutlierD 1.3.0 Sukwoo Kim
 | Last Changed Rev: 30639 / Revision: 30951 |  | Last Changed Date: 2008-03-24 10:46:05 -0700 |  
  | lamb1  | Linux (SUSE 10.1) / x86_64  |  OK  |  OK  |  | 
| wilson2  | Linux (openSUSE 10.3) / x86_64  |  OK  |  OK  |  | 
| wellington  | Linux (openSUSE 10.3) / i686  |  OK  |  OK  |  | 
| liverpool  | Windows Server 2003 R2 (32-bit) / x64  |  OK  |  OK  |  OK  | 
| pelham  | Mac OS X Leopard (10.5.1) / i386  |  OK  |  OK  |  OK  | 
 | 
| P  A  B  C  D  E  F  G  H  I  J  K  L  M  N  O [P] Q  R  S  T  U  V  W  X  Y  Z  | 
pamr 1.37.0 Rob Tibshirani
 | Last Changed Rev: 27716 / Revision: 30951 |  | Last Changed Date: 2007-10-02 18:16:39 -0700 |  
  | lamb1  | Linux (SUSE 10.1) / x86_64  |  OK  |  OK  |  | 
| wilson2  | Linux (openSUSE 10.3) / x86_64  |  OK  |  WARNINGS  |  | 
| wellington  | Linux (openSUSE 10.3) / i686  |  OK  |  WARNINGS  |  | 
| liverpool  | Windows Server 2003 R2 (32-bit) / x64  |  OK  |  OK  |  OK  | 
| pelham  | Mac OS X Leopard (10.5.1) / i386  |  OK  |  WARNINGS  |  OK  | 
panp 1.9.1 Peter Warren
 | Last Changed Rev: 30194 / Revision: 30951 |  | Last Changed Date: 2008-02-26 10:06:23 -0800 |  
  | lamb1  | Linux (SUSE 10.1) / x86_64  |  OK  |  OK  |  | 
| wilson2  | Linux (openSUSE 10.3) / x86_64  |  OK  |  OK  |  | 
| wellington  | Linux (openSUSE 10.3) / i686  |  OK  |  OK  |  | 
| liverpool  | Windows Server 2003 R2 (32-bit) / x64  |  OK  |  OK  |  OK  | 
| pelham  | Mac OS X Leopard (10.5.1) / i386  |  OK  |  OK  |  OK  | 
pathRender 1.7.4 Li Long
 | Last Changed Rev: 30285 / Revision: 30951 |  | Last Changed Date: 2008-02-29 03:24:16 -0800 |  
  | lamb1  | Linux (SUSE 10.1) / x86_64  |  OK  |  OK  |  | 
| wilson2  | Linux (openSUSE 10.3) / x86_64  |  OK  |  OK  |  | 
| wellington  | Linux (openSUSE 10.3) / i686  |  OK  |  OK  |  | 
| liverpool  | Windows Server 2003 R2 (32-bit) / x64  |  OK  |  WARNINGS  |  OK  | 
| pelham  | Mac OS X Leopard (10.5.1) / i386  |  OK  |  OK  |  OK  | 
pcaMethods 1.15.3 Wolfram Stacklies
 | Last Changed Rev: 30244 / Revision: 30951 |  | Last Changed Date: 2008-02-27 15:36:54 -0800 |  
  | lamb1  | Linux (SUSE 10.1) / x86_64  |  OK  |  OK  |  | 
| wilson2  | Linux (openSUSE 10.3) / x86_64  |  OK  |  OK  |  | 
| wellington  | Linux (openSUSE 10.3) / i686  |  OK  |  OK  |  | 
| liverpool  | Windows Server 2003 R2 (32-bit) / x64  |  OK  |  OK  |  OK  | 
| pelham  | Mac OS X Leopard (10.5.1) / i386  |  OK  |  OK  |  OK  | 
pcot2 1.7.1 Sarah Song
 | Last Changed Rev: 30543 / Revision: 30951 |  | Last Changed Date: 2008-03-16 14:41:25 -0700 |  
  | lamb1  | Linux (SUSE 10.1) / x86_64  |  OK  |  OK  |  | 
| wilson2  | Linux (openSUSE 10.3) / x86_64  |  OK  |  OK  |  | 
| wellington  | Linux (openSUSE 10.3) / i686  |  OK  |  OK  |  | 
| liverpool  | Windows Server 2003 R2 (32-bit) / x64  |  OK  |  OK  |  OK  | 
| pelham  | Mac OS X Leopard (10.5.1) / i386  |  OK  |  OK  |  OK  | 
PCpheno 1.1.7 Nolwenn Le Meur
 | Last Changed Rev: 30475 / Revision: 30951 |  | Last Changed Date: 2008-03-12 02:42:41 -0700 |  
  | lamb1  | Linux (SUSE 10.1) / x86_64  |  OK  |  OK  |  | 
| wilson2  | Linux (openSUSE 10.3) / x86_64  |  OK  |  OK  |  | 
| wellington  | Linux (openSUSE 10.3) / i686  |  OK  |  OK  |  | 
| liverpool  | Windows Server 2003 R2 (32-bit) / x64  |  OK  |  OK  |  OK  | 
| pelham  | Mac OS X Leopard (10.5.1) / i386  |  OK  |  OK  |  OK  | 
pdInfoBuilder 1.3.18 Vince Carey
 | Last Changed Rev: 30606 / Revision: 30951 |  | Last Changed Date: 2008-03-21 01:53:31 -0700 |  
  | lamb1  | Linux (SUSE 10.1) / x86_64  |  OK  |  WARNINGS  |  | 
| wilson2  | Linux (openSUSE 10.3) / x86_64  |  OK  |  WARNINGS  |  | 
| wellington  | Linux (openSUSE 10.3) / i686  |  OK  |  WARNINGS  |  | 
| liverpool  | Windows Server 2003 R2 (32-bit) / x64  |  OK  |  WARNINGS  |  OK  | 
| pelham  | Mac OS X Leopard (10.5.1) / i386  |  OK  |  WARNINGS  |  OK  | 
pdmclass 1.11.1 James W. MacDonald
 | Last Changed Rev: 30354 / Revision: 30951 |  | Last Changed Date: 2008-03-04 09:56:52 -0800 |  
  | lamb1  | Linux (SUSE 10.1) / x86_64  |  OK  |  OK  |  | 
| wilson2  | Linux (openSUSE 10.3) / x86_64  |  OK  |  OK  |  | 
| wellington  | Linux (openSUSE 10.3) / i686  |  OK  |  OK  |  | 
| liverpool  | Windows Server 2003 R2 (32-bit) / x64  |  OK  |  OK  |  OK  | 
| pelham  | Mac OS X Leopard (10.5.1) / i386  |  OK  |  OK  |  OK  | 
PGSEA 1.7.7 Karl Dykema
 | Last Changed Rev: 30602 / Revision: 30951 |  | Last Changed Date: 2008-03-20 16:10:18 -0700 |  
  | lamb1  | Linux (SUSE 10.1) / x86_64  |  OK  |  OK  |  | 
| wilson2  | Linux (openSUSE 10.3) / x86_64  |  OK  |  OK  |  | 
| wellington  | Linux (openSUSE 10.3) / i686  |  OK  |  OK  |  | 
| liverpool  | Windows Server 2003 R2 (32-bit) / x64  |  OK  |  OK  |  OK  | 
| pelham  | Mac OS X Leopard (10.5.1) / i386  |  OK  |  OK  |  OK  | 
pgUtils 1.11.0 Johannes Rainer
 | Last Changed Rev: 30195 / Revision: 30951 |  | Last Changed Date: 2008-02-26 10:11:45 -0800 |  
  | lamb1  | Linux (SUSE 10.1) / x86_64  |  OK  |  OK  |  | 
| wilson2  | Linux (openSUSE 10.3) / x86_64  |  OK  |  OK  |  | 
| wellington  | Linux (openSUSE 10.3) / i686  |  OK  |  OK  |  | 
| liverpool  | Windows Server 2003 R2 (32-bit) / x64  | N O T   S U P P O R T E D | 
| pelham  | Mac OS X Leopard (10.5.1) / i386  |  OK  |  OK  |  OK  | 
pickgene 1.11.0 Brian S. Yandell
 | Last Changed Rev: 30639 / Revision: 30951 |  | Last Changed Date: 2008-03-24 10:46:05 -0700 |  
  | lamb1  | Linux (SUSE 10.1) / x86_64  |  OK  |  WARNINGS  |  | 
| wilson2  | Linux (openSUSE 10.3) / x86_64  |  OK  |  WARNINGS  |  | 
| wellington  | Linux (openSUSE 10.3) / i686  |  OK  |  WARNINGS  |  | 
| liverpool  | Windows Server 2003 R2 (32-bit) / x64  |  OK  |  WARNINGS  |  OK  | 
| pelham  | Mac OS X Leopard (10.5.1) / i386  |  OK  |  WARNINGS  |  OK  | 
pkgDepTools 1.5.1 Seth Falcon
 | Last Changed Rev: 28761 / Revision: 30951 |  | Last Changed Date: 2007-11-15 21:23:40 -0800 |  
  | lamb1  | Linux (SUSE 10.1) / x86_64  |  OK  |  OK  |  | 
| wilson2  | Linux (openSUSE 10.3) / x86_64  |  OK  |  OK  |  | 
| wellington  | Linux (openSUSE 10.3) / i686  |  OK  |  OK  |  | 
| liverpool  | Windows Server 2003 R2 (32-bit) / x64  |  OK  |  OK  |  OK  | 
| pelham  | Mac OS X Leopard (10.5.1) / i386  |  OK  |  OK  |  OK  | 
plgem 1.11.2 Mattia Pelizzola
 | Last Changed Rev: 30644 / Revision: 30951 |  | Last Changed Date: 2008-03-24 14:14:44 -0700 |  
  | lamb1  | Linux (SUSE 10.1) / x86_64  |  OK  |  OK  |  | 
| wilson2  | Linux (openSUSE 10.3) / x86_64  |  OK  |  OK  |  | 
| wellington  | Linux (openSUSE 10.3) / i686  |  OK  |  OK  |  | 
| liverpool  | Windows Server 2003 R2 (32-bit) / x64  |  OK  |  OK  |  OK  | 
| pelham  | Mac OS X Leopard (10.5.1) / i386  |  OK  |  OK  |  OK  | 
plier 1.9.0 Crispin Miller
 | Last Changed Rev: 30082 / Revision: 30951 |  | Last Changed Date: 2008-02-21 10:59:11 -0800 |  
  | lamb1  | Linux (SUSE 10.1) / x86_64  |  OK  |  OK  |  | 
| wilson2  | Linux (openSUSE 10.3) / x86_64  |  OK  |  OK  |  | 
| wellington  | Linux (openSUSE 10.3) / i686  |  OK  |  OK  |  | 
| liverpool  | Windows Server 2003 R2 (32-bit) / x64  |  OK  |  OK  |  OK  | 
| pelham  | Mac OS X Leopard (10.5.1) / i386  |  OK  |  OK  |  OK  | 
plw 0.99.6 Magnus Astrand
 | Last Changed Rev: 30083 / Revision: 30951 |  | Last Changed Date: 2008-02-21 11:09:48 -0800 |  
  | lamb1  | Linux (SUSE 10.1) / x86_64  |  ERROR  |  skipped  |  | 
| wilson2  | Linux (openSUSE 10.3) / x86_64  |  ERROR  |  skipped  |  | 
| wellington  | Linux (openSUSE 10.3) / i686  |  ERROR  |  skipped  |  | 
| liverpool  | Windows Server 2003 R2 (32-bit) / x64  |  ERROR  |  skipped  |  skipped  | 
| pelham  | Mac OS X Leopard (10.5.1) / i386  |  ERROR  |  skipped  |  skipped  | 
ppiStats 1.5.16 Tony Chiang
 | Last Changed Rev: 30909 / Revision: 30951 |  | Last Changed Date: 2008-04-07 23:37:37 -0700 |  
  | lamb1  | Linux (SUSE 10.1) / x86_64  |  OK  |  ERROR  |  | 
| wilson2  | Linux (openSUSE 10.3) / x86_64  |  OK  |  ERROR  |  | 
| wellington  | Linux (openSUSE 10.3) / i686  |  OK  |  ERROR  |  | 
| liverpool  | Windows Server 2003 R2 (32-bit) / x64  |  OK  |  WARNINGS  |  OK  | 
| pelham  | Mac OS X Leopard (10.5.1) / i386  |  OK  |  ERROR  |  OK  | 
prada 1.15.1 Florian Hahne
 | Last Changed Rev: 30701 / Revision: 30951 |  | Last Changed Date: 2008-03-26 21:17:40 -0700 |  
  | lamb1  | Linux (SUSE 10.1) / x86_64  |  OK  |  WARNINGS  |  | 
| wilson2  | Linux (openSUSE 10.3) / x86_64  |  OK  |  WARNINGS  |  | 
| wellington  | Linux (openSUSE 10.3) / i686  |  OK  |  WARNINGS  |  | 
| liverpool  | Windows Server 2003 R2 (32-bit) / x64  |  OK  |  WARNINGS  |  OK  | 
| pelham  | Mac OS X Leopard (10.5.1) / i386  |  OK  |  WARNINGS  |  OK  | 
preprocessCore 1.1.9 Benjamin Milo Bolstad
 | Last Changed Rev: 30840 / Revision: 30951 |  | Last Changed Date: 2008-04-03 20:50:09 -0700 |  
  | lamb1  | Linux (SUSE 10.1) / x86_64  |  OK  |  OK  |  | 
| wilson2  | Linux (openSUSE 10.3) / x86_64  |  OK  |  OK  |  | 
| wellington  | Linux (openSUSE 10.3) / i686  |  OK  |  OK  |  | 
| liverpool  | Windows Server 2003 R2 (32-bit) / x64  |  OK  |  OK  |  OK  | 
| pelham  | Mac OS X Leopard (10.5.1) / i386  |  OK  |  OK  |  OK  | 
prism 0.1.2 Raphael Gottardo
 | Last Changed Rev: 30615 / Revision: 30951 |  | Last Changed Date: 2008-03-21 12:42:17 -0700 |  
  | lamb1  | Linux (SUSE 10.1) / x86_64  |  OK  |  WARNINGS  |  | 
| wilson2  | Linux (openSUSE 10.3) / x86_64  |  OK  |  WARNINGS  |  | 
| wellington  | Linux (openSUSE 10.3) / i686  |  OK  |  WARNINGS  |  | 
| liverpool  | Windows Server 2003 R2 (32-bit) / x64  |  OK  |  WARNINGS  |  OK  | 
| pelham  | Mac OS X Leopard (10.5.1) / i386  |  OK  |  WARNINGS  |  OK  | 
PROcess 1.15.0 Xiaochun Li
 | Last Changed Rev: 30639 / Revision: 30951 |  | Last Changed Date: 2008-03-24 10:46:05 -0700 |  
  | lamb1  | Linux (SUSE 10.1) / x86_64  |  OK  |  WARNINGS  |  | 
| wilson2  | Linux (openSUSE 10.3) / x86_64  |  OK  |  WARNINGS  |  | 
| wellington  | Linux (openSUSE 10.3) / i686  |  OK  |  WARNINGS  |  | 
| liverpool  | Windows Server 2003 R2 (32-bit) / x64  |  OK  |  WARNINGS  |  OK  | 
| pelham  | Mac OS X Leopard (10.5.1) / i386  |  OK  |  WARNINGS  |  OK  | 
puma 1.5.5 Richard Pearson
 | Last Changed Rev: 30372 / Revision: 30951 |  | Last Changed Date: 2008-03-04 22:08:47 -0800 |  
  | lamb1  | Linux (SUSE 10.1) / x86_64  |  OK  |  OK  |  | 
| wilson2  | Linux (openSUSE 10.3) / x86_64  |  OK  |  OK  |  | 
| wellington  | Linux (openSUSE 10.3) / i686  |  OK  |  OK  |  | 
| liverpool  | Windows Server 2003 R2 (32-bit) / x64  |  OK  |  OK  |  OK  | 
| pelham  | Mac OS X Leopard (10.5.1) / i386  |  OK  |  OK  |  OK  | 
 | 
| Q  A  B  C  D  E  F  G  H  I  J  K  L  M  N  O  P [Q] R  S  T  U  V  W  X  Y  Z  | 
quantsmooth 1.5.4 Jan Oosting
 | Last Changed Rev: 30914 / Revision: 30951 |  | Last Changed Date: 2008-04-08 08:24:36 -0700 |  
  | lamb1  | Linux (SUSE 10.1) / x86_64  |  OK  |  WARNINGS  |  | 
| wilson2  | Linux (openSUSE 10.3) / x86_64  |  OK  |  WARNINGS  |  | 
| wellington  | Linux (openSUSE 10.3) / i686  |  OK  |  WARNINGS  |  | 
| liverpool  | Windows Server 2003 R2 (32-bit) / x64  |  OK  |  WARNINGS  |  OK  | 
| pelham  | Mac OS X Leopard (10.5.1) / i386  |  OK  |  WARNINGS  |  OK  | 
qvalue 1.13.0 John D. Storey
 | Last Changed Rev: 30639 / Revision: 30951 |  | Last Changed Date: 2008-03-24 10:46:05 -0700 |  
  | lamb1  | Linux (SUSE 10.1) / x86_64  |  OK  |  OK  |  | 
| wilson2  | Linux (openSUSE 10.3) / x86_64  |  OK  |  OK  |  | 
| wellington  | Linux (openSUSE 10.3) / i686  |  OK  |  OK  |  | 
| liverpool  | Windows Server 2003 R2 (32-bit) / x64  |  OK  |  OK  |  OK  | 
| pelham  | Mac OS X Leopard (10.5.1) / i386  |  OK  |  OK  |  OK  | 
 | 
| R  A  B  C  D  E  F  G  H  I  J  K  L  M  N  O  P  Q [R] S  T  U  V  W  X  Y  Z  | 
rama 1.12.0 Raphael Gottardo
 | Last Changed Rev: 30639 / Revision: 30951 |  | Last Changed Date: 2008-03-24 10:46:05 -0700 |  
  | lamb1  | Linux (SUSE 10.1) / x86_64  |  OK  |  OK  |  | 
| wilson2  | Linux (openSUSE 10.3) / x86_64  |  OK  |  OK  |  | 
| wellington  | Linux (openSUSE 10.3) / i686  |  OK  |  OK  |  | 
| liverpool  | Windows Server 2003 R2 (32-bit) / x64  |  OK  |  OK  |  OK  | 
| pelham  | Mac OS X Leopard (10.5.1) / i386  |  OK  |  OK  |  OK  | 
RankProd 2.11.0 Fangxin Hong
 | Last Changed Rev: 27716 / Revision: 30951 |  | Last Changed Date: 2007-10-02 18:16:39 -0700 |  
  | lamb1  | Linux (SUSE 10.1) / x86_64  |  OK  |  OK  |  | 
| wilson2  | Linux (openSUSE 10.3) / x86_64  |  OK  |  OK  |  | 
| wellington  | Linux (openSUSE 10.3) / i686  |  OK  |  OK  |  | 
| liverpool  | Windows Server 2003 R2 (32-bit) / x64  |  OK  |  OK  |  OK  | 
| pelham  | Mac OS X Leopard (10.5.1) / i386  |  OK  |  OK  |  OK  | 
RbcBook1 1.7.2 Vince Carey
 | Last Changed Rev: 30597 / Revision: 30951 |  | Last Changed Date: 2008-03-20 10:34:53 -0700 |  
  | lamb1  | Linux (SUSE 10.1) / x86_64  |  OK  |  OK  |  | 
| wilson2  | Linux (openSUSE 10.3) / x86_64  |  OK  |  OK  |  | 
| wellington  | Linux (openSUSE 10.3) / i686  |  OK  |  OK  |  | 
| liverpool  | Windows Server 2003 R2 (32-bit) / x64  |  OK  |  OK  |  OK  | 
| pelham  | Mac OS X Leopard (10.5.1) / i386  |  OK  |  OK  |  OK  | 
RBGL 1.15.7 Li Long
 | Last Changed Rev: 29178 / Revision: 30951 |  | Last Changed Date: 2007-12-12 07:08:55 -0800 |  
  | lamb1  | Linux (SUSE 10.1) / x86_64  |  OK  |  WARNINGS  |  | 
| wilson2  | Linux (openSUSE 10.3) / x86_64  |  OK  |  WARNINGS  |  | 
| wellington  | Linux (openSUSE 10.3) / i686  |  OK  |  WARNINGS  |  | 
| liverpool  | Windows Server 2003 R2 (32-bit) / x64  |  OK  |  WARNINGS  |  OK  | 
| pelham  | Mac OS X Leopard (10.5.1) / i386  |  ERROR  |  skipped  |  skipped  | 
RBioinf 0.7.1 Robert Gentleman
 | Last Changed Rev: 30877 / Revision: 30951 |  | Last Changed Date: 2008-04-07 06:51:45 -0700 |  
  | lamb1  | Linux (SUSE 10.1) / x86_64  |  OK  |  OK  |  | 
| wilson2  | Linux (openSUSE 10.3) / x86_64  |  OK  |  OK  |  | 
| wellington  | Linux (openSUSE 10.3) / i686  |  OK  |  OK  |  | 
| liverpool  | Windows Server 2003 R2 (32-bit) / x64  |  OK  |  OK  |  OK  | 
| pelham  | Mac OS X Leopard (10.5.1) / i386  |  OK  |  OK  |  OK  | 
rbsurv 1.5.0 Sukwoo Kim
 | Last Changed Rev: 30639 / Revision: 30951 |  | Last Changed Date: 2008-03-24 10:46:05 -0700 |  
  | lamb1  | Linux (SUSE 10.1) / x86_64  |  OK  |  OK  |  | 
| wilson2  | Linux (openSUSE 10.3) / x86_64  |  OK  |  OK  |  | 
| wellington  | Linux (openSUSE 10.3) / i686  |  OK  |  OK  |  | 
| liverpool  | Windows Server 2003 R2 (32-bit) / x64  |  OK  |  OK  |  OK  | 
| pelham  | Mac OS X Leopard (10.5.1) / i386  |  OK  |  OK  |  OK  | 
Rdbi 1.13.0 Jianhua Zhang
 | Last Changed Rev: 30639 / Revision: 30951 |  | Last Changed Date: 2008-03-24 10:46:05 -0700 |  
  | lamb1  | Linux (SUSE 10.1) / x86_64  |  OK  |  OK  |  | 
| wilson2  | Linux (openSUSE 10.3) / x86_64  |  OK  |  OK  |  | 
| wellington  | Linux (openSUSE 10.3) / i686  |  OK  |  OK  |  | 
| liverpool  | Windows Server 2003 R2 (32-bit) / x64  |  OK  |  OK  |  OK  | 
| pelham  | Mac OS X Leopard (10.5.1) / i386  |  OK  |  OK  |  OK  | 
RdbiPgSQL 1.13.0 Jianhua Zhang
 | Last Changed Rev: 30639 / Revision: 30951 |  | Last Changed Date: 2008-03-24 10:46:05 -0700 |  
  | lamb1  | Linux (SUSE 10.1) / x86_64  |  OK  |  OK  |  | 
| wilson2  | Linux (openSUSE 10.3) / x86_64  |  OK  |  OK  |  | 
| wellington  | Linux (openSUSE 10.3) / i686  |  OK  |  OK  |  | 
| liverpool  | Windows Server 2003 R2 (32-bit) / x64  | N O T   S U P P O R T E D | 
| pelham  | Mac OS X Leopard (10.5.1) / i386  |  OK  |  OK  |  OK  | 
Rdisop 0.99.3 Steffen Neumann
 | Last Changed Rev: 30759 / Revision: 30951 |  | Last Changed Date: 2008-03-31 03:24:47 -0700 |  
  | lamb1  | Linux (SUSE 10.1) / x86_64  |  OK  |  OK  |  | 
| wilson2  | Linux (openSUSE 10.3) / x86_64  |  OK  |  OK  |  | 
| wellington  | Linux (openSUSE 10.3) / i686  |  OK  |  OK  |  | 
| liverpool  | Windows Server 2003 R2 (32-bit) / x64  |  OK  |  OK  |  OK  | 
| pelham  | Mac OS X Leopard (10.5.1) / i386  | N O T   S U P P O R T E D | 
reb 1.13.0 Karl J. Dykema
 | Last Changed Rev: 29380 / Revision: 30951 |  | Last Changed Date: 2008-01-04 05:00:43 -0800 |  
  | lamb1  | Linux (SUSE 10.1) / x86_64  |  OK  |  WARNINGS  |  | 
| wilson2  | Linux (openSUSE 10.3) / x86_64  |  OK  |  WARNINGS  |  | 
| wellington  | Linux (openSUSE 10.3) / i686  |  ERROR  |  skipped  |  | 
| liverpool  | Windows Server 2003 R2 (32-bit) / x64  |  OK  |  WARNINGS  |  OK  | 
| pelham  | Mac OS X Leopard (10.5.1) / i386  |  OK  |  WARNINGS  |  OK  | 
RefPlus 1.9.0 Kai-Ming Chang
 | Last Changed Rev: 30639 / Revision: 30951 |  | Last Changed Date: 2008-03-24 10:46:05 -0700 |  
  | lamb1  | Linux (SUSE 10.1) / x86_64  |  OK  |  OK  |  | 
| wilson2  | Linux (openSUSE 10.3) / x86_64  |  OK  |  OK  |  | 
| wellington  | Linux (openSUSE 10.3) / i686  |  OK  |  OK  |  | 
| liverpool  | Windows Server 2003 R2 (32-bit) / x64  |  OK  |  OK  |  OK  | 
| pelham  | Mac OS X Leopard (10.5.1) / i386  |  OK  |  OK  |  OK  | 
Resourcerer 1.13.0 Jianhua Zhang
 | Last Changed Rev: 27716 / Revision: 30951 |  | Last Changed Date: 2007-10-02 18:16:39 -0700 |  
  | lamb1  | Linux (SUSE 10.1) / x86_64  |  OK  |  OK  |  | 
| wilson2  | Linux (openSUSE 10.3) / x86_64  |  OK  |  OK  |  | 
| wellington  | Linux (openSUSE 10.3) / i686  |  OK  |  OK  |  | 
| liverpool  | Windows Server 2003 R2 (32-bit) / x64  |  OK  |  OK  |  OK  | 
| pelham  | Mac OS X Leopard (10.5.1) / i386  |  OK  |  OK  |  OK  | 
rflowcyt 1.11.1 N. LeMeur
 | Last Changed Rev: 30489 / Revision: 30951 |  | Last Changed Date: 2008-03-12 21:36:55 -0700 |  
  | lamb1  | Linux (SUSE 10.1) / x86_64  |  OK  |  OK  |  | 
| wilson2  | Linux (openSUSE 10.3) / x86_64  |  OK  |  OK  |  | 
| wellington  | Linux (openSUSE 10.3) / i686  |  OK  |  OK  |  | 
| liverpool  | Windows Server 2003 R2 (32-bit) / x64  |  OK  |  OK  |  OK  | 
| pelham  | Mac OS X Leopard (10.5.1) / i386  |  OK  |  OK  |  OK  | 
Rgraphviz 1.17.13 Li Long
 | Last Changed Rev: 29846 / Revision: 30951 |  | Last Changed Date: 2008-02-05 17:05:36 -0800 |  
  | lamb1  | Linux (SUSE 10.1) / x86_64  |  OK  |  OK  |  | 
| wilson2  | Linux (openSUSE 10.3) / x86_64  |  OK  |  OK  |  | 
| wellington  | Linux (openSUSE 10.3) / i686  |  OK  |  OK  |  | 
| liverpool  | Windows Server 2003 R2 (32-bit) / x64  |  OK  |  ERROR  |  OK  | 
| pelham  | Mac OS X Leopard (10.5.1) / i386  |  OK  |  OK  |  OK  | 
rhdf5 1.7.1 Biocore Team c/o BioC user list
 | Last Changed Rev: 30639 / Revision: 30951 |  | Last Changed Date: 2008-03-24 10:46:05 -0700 |  
  | lamb1  | Linux (SUSE 10.1) / x86_64  |  ERROR  |  skipped  |  | 
| wilson2  | Linux (openSUSE 10.3) / x86_64  |  ERROR  |  skipped  |  | 
| wellington  | Linux (openSUSE 10.3) / i686  |  ERROR  |  skipped  |  | 
| liverpool  | Windows Server 2003 R2 (32-bit) / x64  |  ERROR  |  skipped  |  skipped  | 
| pelham  | Mac OS X Leopard (10.5.1) / i386  |  ERROR  |  skipped  |  skipped  | 
rHVDM 1.5.1 Martino Barenco
 | Last Changed Rev: 30582 / Revision: 30951 |  | Last Changed Date: 2008-03-19 07:15:52 -0700 |  
  | lamb1  | Linux (SUSE 10.1) / x86_64  |  OK  |  WARNINGS  |  | 
| wilson2  | Linux (openSUSE 10.3) / x86_64  |  OK  |  WARNINGS  |  | 
| wellington  | Linux (openSUSE 10.3) / i686  |  OK  |  WARNINGS  |  | 
| liverpool  | Windows Server 2003 R2 (32-bit) / x64  |  OK  |  WARNINGS  |  OK  | 
| pelham  | Mac OS X Leopard (10.5.1) / i386  |  OK  |  WARNINGS  |  OK  | 
Ringo 1.3.19 J. Toedling
 | Last Changed Rev: 30921 / Revision: 30951 |  | Last Changed Date: 2008-04-08 10:30:05 -0700 |  
  | lamb1  | Linux (SUSE 10.1) / x86_64  |  OK  |  OK  |  | 
| wilson2  | Linux (openSUSE 10.3) / x86_64  |  OK  |  OK  |  | 
| wellington  | Linux (openSUSE 10.3) / i686  |  OK  |  OK  |  | 
| liverpool  | Windows Server 2003 R2 (32-bit) / x64  |  OK  |  OK  |  OK  | 
| pelham  | Mac OS X Leopard (10.5.1) / i386  |  OK  |  OK  |  OK  | 
Rintact 1.1.6 Tony Chiang
 | Last Changed Rev: 30561 / Revision: 30951 |  | Last Changed Date: 2008-03-18 07:36:44 -0700 |  
  | lamb1  | Linux (SUSE 10.1) / x86_64  |  OK  |  ERROR  |  | 
| wilson2  | Linux (openSUSE 10.3) / x86_64  |  OK  |  ERROR  |  | 
| wellington  | Linux (openSUSE 10.3) / i686  |  OK  |  ERROR  |  | 
| liverpool  | Windows Server 2003 R2 (32-bit) / x64  |  OK  |  OK  |  OK  | 
| pelham  | Mac OS X Leopard (10.5.1) / i386  |  OK  |  ERROR  |  OK  | 
RLMM 1.1.0 Nusrat Rabbee
 | Last Changed Rev: 27816 / Revision: 30951 |  | Last Changed Date: 2007-10-05 18:35:49 -0700 |  
  | lamb1  | Linux (SUSE 10.1) / x86_64  |  OK  |  OK  |  | 
| wilson2  | Linux (openSUSE 10.3) / x86_64  |  OK  |  OK  |  | 
| wellington  | Linux (openSUSE 10.3) / i686  |  OK  |  OK  |  | 
| liverpool  | Windows Server 2003 R2 (32-bit) / x64  |  OK  |  OK  |  OK  | 
| pelham  | Mac OS X Leopard (10.5.1) / i386  |  OK  |  OK  |  OK  | 
RMAGEML 2.13.1 Steffen Durinck
 | Last Changed Rev: 30639 / Revision: 30951 |  | Last Changed Date: 2008-03-24 10:46:05 -0700 |  
  | lamb1  | Linux (SUSE 10.1) / x86_64  |  OK  |  OK  |  | 
| wilson2  | Linux (openSUSE 10.3) / x86_64  |  OK  |  OK  |  | 
| wellington  | Linux (openSUSE 10.3) / i686  |  OK  |  OK  |  | 
| liverpool  | Windows Server 2003 R2 (32-bit) / x64  | N O T   S U P P O R T E D | 
| pelham  | Mac OS X Leopard (10.5.1) / i386  | N O T   S U P P O R T E D | 
ROC 1.13.1 Vince Carey
 | Last Changed Rev: 30084 / Revision: 30951 |  | Last Changed Date: 2008-02-21 11:32:14 -0800 |  
  | lamb1  | Linux (SUSE 10.1) / x86_64  |  OK  |  OK  |  | 
| wilson2  | Linux (openSUSE 10.3) / x86_64  |  OK  |  OK  |  | 
| wellington  | Linux (openSUSE 10.3) / i686  |  OK  |  OK  |  | 
| liverpool  | Windows Server 2003 R2 (32-bit) / x64  |  OK  |  OK  |  OK  | 
| pelham  | Mac OS X Leopard (10.5.1) / i386  |  OK  |  OK  |  OK  | 
Rredland 1.5.1 VJ Carey
 | Last Changed Rev: 25301 / Revision: 30951 |  | Last Changed Date: 2007-06-10 10:22:32 -0700 |  
  | lamb1  | Linux (SUSE 10.1) / x86_64  |  OK  |  OK  |  | 
| wilson2  | Linux (openSUSE 10.3) / x86_64  |  OK  |  OK  |  | 
| wellington  | Linux (openSUSE 10.3) / i686  |  OK  |  OK  |  | 
| liverpool  | Windows Server 2003 R2 (32-bit) / x64  | N O T   S U P P O R T E D | 
| pelham  | Mac OS X Leopard (10.5.1) / i386  |  OK  |  OK  |  OK  | 
rsbml 1.5.1 Michael Lawrence
 | Last Changed Rev: 30883 / Revision: 30951 |  | Last Changed Date: 2008-04-07 09:57:56 -0700 |  
  | lamb1  | Linux (SUSE 10.1) / x86_64  |  ERROR  |  skipped  |  | 
| wilson2  | Linux (openSUSE 10.3) / x86_64  |  ERROR  |  skipped  |  | 
| wellington  | Linux (openSUSE 10.3) / i686  |  ERROR  |  skipped  |  | 
| liverpool  | Windows Server 2003 R2 (32-bit) / x64  |  ERROR  |  skipped  |  skipped  | 
| pelham  | Mac OS X Leopard (10.5.1) / i386  |  ERROR  |  skipped  |  skipped  | 
RSNPper 1.13.0 VJ Carey
 | Last Changed Rev: 27716 / Revision: 30951 |  | Last Changed Date: 2007-10-02 18:16:39 -0700 |  
  | lamb1  | Linux (SUSE 10.1) / x86_64  |  OK  |  OK  |  | 
| wilson2  | Linux (openSUSE 10.3) / x86_64  |  OK  |  OK  |  | 
| wellington  | Linux (openSUSE 10.3) / i686  |  OK  |  TIMEOUT  |  | 
| liverpool  | Windows Server 2003 R2 (32-bit) / x64  |  ERROR  |  skipped  |  skipped  | 
| pelham  | Mac OS X Leopard (10.5.1) / i386  |  OK  |  OK  |  OK  | 
rtracklayer 0.1.5 Michael Lawrence
 | Last Changed Rev: 30878 / Revision: 30951 |  | Last Changed Date: 2008-04-07 07:15:31 -0700 |  
  | lamb1  | Linux (SUSE 10.1) / x86_64  |  OK  |  OK  |  | 
| wilson2  | Linux (openSUSE 10.3) / x86_64  |  OK  |  OK  |  | 
| wellington  | Linux (openSUSE 10.3) / i686  |  OK  |  OK  |  | 
| liverpool  | Windows Server 2003 R2 (32-bit) / x64  |  OK  |  WARNINGS  |  OK  | 
| pelham  | Mac OS X Leopard (10.5.1) / i386  |  OK  |  OK  |  OK  | 
Rtreemix 1.0.0 Jasmina Bogojeska
 | Last Changed Rev: 30733 / Revision: 30951 |  | Last Changed Date: 2008-03-28 08:38:30 -0700 |  
  | lamb1  | Linux (SUSE 10.1) / x86_64  |  OK  |  ERROR  |  | 
| wilson2  | Linux (openSUSE 10.3) / x86_64  |  OK  |  ERROR  |  | 
| wellington  | Linux (openSUSE 10.3) / i686  |  OK  |  ERROR  |  | 
| liverpool  | Windows Server 2003 R2 (32-bit) / x64  |  OK  |  ERROR  |  OK  | 
| pelham  | Mac OS X Leopard (10.5.1) / i386  |  OK  |  ERROR  |  OK  | 
Ruuid 1.17.1 Biocore Team c/o BioC user list
 | Last Changed Rev: 29760 / Revision: 30951 |  | Last Changed Date: 2008-01-30 10:11:17 -0800 |  
  | lamb1  | Linux (SUSE 10.1) / x86_64  |  OK  |  OK  |  | 
| wilson2  | Linux (openSUSE 10.3) / x86_64  |  OK  |  OK  |  | 
| wellington  | Linux (openSUSE 10.3) / i686  |  OK  |  OK  |  | 
| liverpool  | Windows Server 2003 R2 (32-bit) / x64  |  OK  |  OK  |  OK  | 
| pelham  | Mac OS X Leopard (10.5.1) / i386  |  OK  |  OK  |  OK  | 
RWebServices 1.3.1 Martin Morgan
 | Last Changed Rev: 29018 / Revision: 30951 |  | Last Changed Date: 2007-12-04 11:08:50 -0800 |  
  | lamb1  | Linux (SUSE 10.1) / x86_64  |  OK  |  OK  |  | 
| wilson2  | Linux (openSUSE 10.3) / x86_64  |  OK  |  OK  |  | 
| wellington  | Linux (openSUSE 10.3) / i686  |  OK  |  OK  |  | 
| liverpool  | Windows Server 2003 R2 (32-bit) / x64  | N O T   S U P P O R T E D | 
| pelham  | Mac OS X Leopard (10.5.1) / i386  | N O T   S U P P O R T E D | 
 | 
| S  A  B  C  D  E  F  G  H  I  J  K  L  M  N  O  P  Q  R [S] T  U  V  W  X  Y  Z  | 
safe 2.0.1 William T. Barry
 | Last Changed Rev: 30242 / Revision: 30951 |  | Last Changed Date: 2008-02-27 15:00:55 -0800 |  
  | lamb1  | Linux (SUSE 10.1) / x86_64  |  OK  |  OK  |  | 
| wilson2  | Linux (openSUSE 10.3) / x86_64  |  OK  |  OK  |  | 
| wellington  | Linux (openSUSE 10.3) / i686  |  OK  |  OK  |  | 
| liverpool  | Windows Server 2003 R2 (32-bit) / x64  |  OK  |  OK  |  OK  | 
| pelham  | Mac OS X Leopard (10.5.1) / i386  |  OK  |  OK  |  OK  | 
SAGElyzer 1.17.0 Jianhua Zhang
 | Last Changed Rev: 27716 / Revision: 30951 |  | Last Changed Date: 2007-10-02 18:16:39 -0700 |  
  | lamb1  | Linux (SUSE 10.1) / x86_64  |  OK  |  WARNINGS  |  | 
| wilson2  | Linux (openSUSE 10.3) / x86_64  |  OK  |  WARNINGS  |  | 
| wellington  | Linux (openSUSE 10.3) / i686  |  OK  |  WARNINGS  |  | 
| liverpool  | Windows Server 2003 R2 (32-bit) / x64  |  OK  |  WARNINGS  |  OK  | 
| pelham  | Mac OS X Leopard (10.5.1) / i386  |  OK  |  WARNINGS  |  OK  | 
sagenhaft 1.9.0 Tim Beissbarth
 | Last Changed Rev: 30639 / Revision: 30951 |  | Last Changed Date: 2008-03-24 10:46:05 -0700 |  
  | lamb1  | Linux (SUSE 10.1) / x86_64  |  OK  |  OK  |  | 
| wilson2  | Linux (openSUSE 10.3) / x86_64  |  OK  |  OK  |  | 
| wellington  | Linux (openSUSE 10.3) / i686  |  OK  |  OK  |  | 
| liverpool  | Windows Server 2003 R2 (32-bit) / x64  |  OK  |  OK  |  OK  | 
| pelham  | Mac OS X Leopard (10.5.1) / i386  |  OK  |  OK  |  OK  | 
SAGx 1.13.4 Per Broberg,
 | Last Changed Rev: 30922 / Revision: 30951 |  | Last Changed Date: 2008-04-08 10:34:19 -0700 |  
  | lamb1  | Linux (SUSE 10.1) / x86_64  |  OK  |  WARNINGS  |  | 
| wilson2  | Linux (openSUSE 10.3) / x86_64  |  OK  |  WARNINGS  |  | 
| wellington  | Linux (openSUSE 10.3) / i686  |  OK  |  WARNINGS  |  | 
| liverpool  | Windows Server 2003 R2 (32-bit) / x64  |  OK  |  WARNINGS  |  OK  | 
| pelham  | Mac OS X Leopard (10.5.1) / i386  |  OK  |  WARNINGS  |  OK  | 
SBMLR 1.33.1 Tomas Radivoyevitch
 | Last Changed Rev: 30603 / Revision: 30951 |  | Last Changed Date: 2008-03-20 16:39:38 -0700 |  
  | lamb1  | Linux (SUSE 10.1) / x86_64  |  OK  |  OK  |  | 
| wilson2  | Linux (openSUSE 10.3) / x86_64  |  OK  |  OK  |  | 
| wellington  | Linux (openSUSE 10.3) / i686  |  OK  |  OK  |  | 
| liverpool  | Windows Server 2003 R2 (32-bit) / x64  |  OK  |  OK  |  OK  | 
| pelham  | Mac OS X Leopard (10.5.1) / i386  |  OK  |  OK  |  OK  | 
ScISI 1.11.2 Tony Chiang
 | Last Changed Rev: 28249 / Revision: 30951 |  | Last Changed Date: 2007-10-26 07:11:58 -0700 |  
  | lamb1  | Linux (SUSE 10.1) / x86_64  |  OK  |  OK  |  | 
| wilson2  | Linux (openSUSE 10.3) / x86_64  |  OK  |  OK  |  | 
| wellington  | Linux (openSUSE 10.3) / i686  |  OK  |  OK  |  | 
| liverpool  | Windows Server 2003 R2 (32-bit) / x64  |  OK  |  OK  |  OK  | 
| pelham  | Mac OS X Leopard (10.5.1) / i386  |  OK  |  OK  |  OK  | 
SemSim 1.5.0 Xiang Guo
 | Last Changed Rev: 29120 / Revision: 30951 |  | Last Changed Date: 2007-12-09 21:08:47 -0800 |  
  | lamb1  | Linux (SUSE 10.1) / x86_64  |  OK  |  OK  |  | 
| wilson2  | Linux (openSUSE 10.3) / x86_64  |  OK  |  OK  |  | 
| wellington  | Linux (openSUSE 10.3) / i686  |  OK  |  OK  |  | 
| liverpool  | Windows Server 2003 R2 (32-bit) / x64  |  OK  |  OK  |  OK  | 
| pelham  | Mac OS X Leopard (10.5.1) / i386  |  OK  |  OK  |  OK  | 
seqLogo 1.5.0 Oliver Bembom
 | Last Changed Rev: 28473 / Revision: 30951 |  | Last Changed Date: 2007-11-05 11:17:44 -0800 |  
  | lamb1  | Linux (SUSE 10.1) / x86_64  |  OK  |  OK  |  | 
| wilson2  | Linux (openSUSE 10.3) / x86_64  |  OK  |  OK  |  | 
| wellington  | Linux (openSUSE 10.3) / i686  |  OK  |  OK  |  | 
| liverpool  | Windows Server 2003 R2 (32-bit) / x64  |  OK  |  OK  |  OK  | 
| pelham  | Mac OS X Leopard (10.5.1) / i386  |  OK  |  OK  |  OK  | 
siggenes 1.13.4 Holger Schwender
 | Last Changed Rev: 30218 / Revision: 30951 |  | Last Changed Date: 2008-02-26 14:53:35 -0800 |  
  | lamb1  | Linux (SUSE 10.1) / x86_64  |  OK  |  OK  |  | 
| wilson2  | Linux (openSUSE 10.3) / x86_64  |  OK  |  OK  |  | 
| wellington  | Linux (openSUSE 10.3) / i686  |  OK  |  OK  |  | 
| liverpool  | Windows Server 2003 R2 (32-bit) / x64  |  OK  |  OK  |  OK  | 
| pelham  | Mac OS X Leopard (10.5.1) / i386  |  OK  |  OK  |  OK  | 
sigPathway 1.7.0 Weil Lai
 | Last Changed Rev: 27716 / Revision: 30951 |  | Last Changed Date: 2007-10-02 18:16:39 -0700 |  
  | lamb1  | Linux (SUSE 10.1) / x86_64  |  OK  |  OK  |  | 
| wilson2  | Linux (openSUSE 10.3) / x86_64  |  OK  |  OK  |  | 
| wellington  | Linux (openSUSE 10.3) / i686  |  OK  |  OK  |  | 
| liverpool  | Windows Server 2003 R2 (32-bit) / x64  |  OK  |  OK  |  OK  | 
| pelham  | Mac OS X Leopard (10.5.1) / i386  |  OK  |  OK  |  OK  | 
simpleaffy 2.15.04 Crispin Miller
 | Last Changed Rev: 30369 / Revision: 30951 |  | Last Changed Date: 2008-03-04 16:49:54 -0800 |  
  | lamb1  | Linux (SUSE 10.1) / x86_64  |  OK  |  OK  |  | 
| wilson2  | Linux (openSUSE 10.3) / x86_64  |  OK  |  OK  |  | 
| wellington  | Linux (openSUSE 10.3) / i686  |  OK  |  OK  |  | 
| liverpool  | Windows Server 2003 R2 (32-bit) / x64  |  OK  |  OK  |  OK  | 
| pelham  | Mac OS X Leopard (10.5.1) / i386  |  OK  |  OK  |  OK  | 
simulatorAPMS 1.11.0 Tony Chiang
 | Last Changed Rev: 27716 / Revision: 30951 |  | Last Changed Date: 2007-10-02 18:16:39 -0700 |  
  | lamb1  | Linux (SUSE 10.1) / x86_64  |  OK  |  OK  |  | 
| wilson2  | Linux (openSUSE 10.3) / x86_64  |  OK  |  OK  |  | 
| wellington  | Linux (openSUSE 10.3) / i686  |  OK  |  OK  |  | 
| liverpool  | Windows Server 2003 R2 (32-bit) / x64  |  OK  |  OK  |  OK  | 
| pelham  | Mac OS X Leopard (10.5.1) / i386  |  OK  |  OK  |  OK  | 
sizepower 1.9.0 Weiliang Qiu
 | Last Changed Rev: 30639 / Revision: 30951 |  | Last Changed Date: 2008-03-24 10:46:05 -0700 |  
  | lamb1  | Linux (SUSE 10.1) / x86_64  |  OK  |  OK  |  | 
| wilson2  | Linux (openSUSE 10.3) / x86_64  |  OK  |  OK  |  | 
| wellington  | Linux (openSUSE 10.3) / i686  |  OK  |  OK  |  | 
| liverpool  | Windows Server 2003 R2 (32-bit) / x64  |  OK  |  OK  |  OK  | 
| pelham  | Mac OS X Leopard (10.5.1) / i386  |  OK  |  OK  |  OK  | 
SLGI 0.99.0 Nolwenn Le Meur
 | Last Changed Rev: 30683 / Revision: 30951 |  | Last Changed Date: 2008-03-26 09:30:56 -0700 |  
  | lamb1  | Linux (SUSE 10.1) / x86_64  |  OK  |  ERROR  |  | 
| wilson2  | Linux (openSUSE 10.3) / x86_64  |  OK  |  ERROR  |  | 
| wellington  | Linux (openSUSE 10.3) / i686  |  OK  |  ERROR  |  | 
| liverpool  | Windows Server 2003 R2 (32-bit) / x64  |  OK  |  OK  |  OK  | 
| pelham  | Mac OS X Leopard (10.5.1) / i386  |  OK  |  ERROR  |  OK  | 
SLqPCR 1.5.0 Matthias Kohl
 | Last Changed Rev: 27716 / Revision: 30951 |  | Last Changed Date: 2007-10-02 18:16:39 -0700 |  
  | lamb1  | Linux (SUSE 10.1) / x86_64  |  OK  |  OK  |  | 
| wilson2  | Linux (openSUSE 10.3) / x86_64  |  OK  |  OK  |  | 
| wellington  | Linux (openSUSE 10.3) / i686  |  OK  |  OK  |  | 
| liverpool  | Windows Server 2003 R2 (32-bit) / x64  |  OK  |  OK  |  OK  | 
| pelham  | Mac OS X Leopard (10.5.1) / i386  |  OK  |  OK  |  OK  | 
SMAP 1.3.0 Robin Andersson
 | Last Changed Rev: 27716 / Revision: 30951 |  | Last Changed Date: 2007-10-02 18:16:39 -0700 |  
  | lamb1  | Linux (SUSE 10.1) / x86_64  |  OK  |  OK  |  | 
| wilson2  | Linux (openSUSE 10.3) / x86_64  |  OK  |  OK  |  | 
| wellington  | Linux (openSUSE 10.3) / i686  |  OK  |  OK  |  | 
| liverpool  | Windows Server 2003 R2 (32-bit) / x64  |  OK  |  OK  |  OK  | 
| pelham  | Mac OS X Leopard (10.5.1) / i386  |  OK  |  OK  |  OK  | 
snapCGH 1.7.4 John Marioni
 | Last Changed Rev: 30568 / Revision: 30951 |  | Last Changed Date: 2008-03-18 14:32:33 -0700 |  
  | lamb1  | Linux (SUSE 10.1) / x86_64  |  OK  |  OK  |  | 
| wilson2  | Linux (openSUSE 10.3) / x86_64  |  OK  |  OK  |  | 
| wellington  | Linux (openSUSE 10.3) / i686  |  OK  |  OK  |  | 
| liverpool  | Windows Server 2003 R2 (32-bit) / x64  |  OK  |  OK  |  OK  | 
| pelham  | Mac OS X Leopard (10.5.1) / i386  |  OK  |  OK  |  OK  | 
SNPchip 1.3.22 Robert Scharpf
 | Last Changed Rev: 30868 / Revision: 30951 |  | Last Changed Date: 2008-04-05 10:27:49 -0700 |  
  | lamb1  | Linux (SUSE 10.1) / x86_64  |  OK  |  OK  |  | 
| wilson2  | Linux (openSUSE 10.3) / x86_64  |  OK  |  OK  |  | 
| wellington  | Linux (openSUSE 10.3) / i686  |  OK  |  OK  |  | 
| liverpool  | Windows Server 2003 R2 (32-bit) / x64  |  OK  |  WARNINGS  |  OK  | 
| pelham  | Mac OS X Leopard (10.5.1) / i386  |  OK  |  OK  |  OK  | 
snpMatrix 1.2.4 David Clayton
 | Last Changed Rev: 30550 / Revision: 30951 |  | Last Changed Date: 2008-03-17 12:19:11 -0700 |  
  | lamb1  | Linux (SUSE 10.1) / x86_64  |  OK  |  OK  |  | 
| wilson2  | Linux (openSUSE 10.3) / x86_64  |  OK  |  OK  |  | 
| wellington  | Linux (openSUSE 10.3) / i686  |  OK  |  OK  |  | 
| liverpool  | Windows Server 2003 R2 (32-bit) / x64  |  OK  |  OK  |  OK  | 
| pelham  | Mac OS X Leopard (10.5.1) / i386  |  OK  |  OK  |  OK  | 
spikeLI 1.7.0 Enrico Carlon
 | Last Changed Rev: 28109 / Revision: 30951 |  | Last Changed Date: 2007-10-21 09:10:39 -0700 |  
  | lamb1  | Linux (SUSE 10.1) / x86_64  |  OK  |  OK  |  | 
| wilson2  | Linux (openSUSE 10.3) / x86_64  |  OK  |  OK  |  | 
| wellington  | Linux (openSUSE 10.3) / i686  |  OK  |  OK  |  | 
| liverpool  | Windows Server 2003 R2 (32-bit) / x64  |  OK  |  OK  |  OK  | 
| pelham  | Mac OS X Leopard (10.5.1) / i386  |  OK  |  OK  |  OK  | 
splicegear 1.11.2 Laurent Gautier
 | Last Changed Rev: 30746 / Revision: 30951 |  | Last Changed Date: 2008-03-28 22:59:37 -0700 |  
  | lamb1  | Linux (SUSE 10.1) / x86_64  |  OK  |  OK  |  | 
| wilson2  | Linux (openSUSE 10.3) / x86_64  |  OK  |  OK  |  | 
| wellington  | Linux (openSUSE 10.3) / i686  |  OK  |  OK  |  | 
| liverpool  | Windows Server 2003 R2 (32-bit) / x64  |  OK  |  OK  |  OK  | 
| pelham  | Mac OS X Leopard (10.5.1) / i386  |  OK  |  OK  |  OK  | 
splots 1.5.3 Oleg Sklyar
 | Last Changed Rev: 30457 / Revision: 30951 |  | Last Changed Date: 2008-03-11 09:42:17 -0700 |  
  | lamb1  | Linux (SUSE 10.1) / x86_64  |  OK  |  OK  |  | 
| wilson2  | Linux (openSUSE 10.3) / x86_64  |  OK  |  OK  |  | 
| wellington  | Linux (openSUSE 10.3) / i686  |  OK  |  OK  |  | 
| liverpool  | Windows Server 2003 R2 (32-bit) / x64  |  OK  |  OK  |  OK  | 
| pelham  | Mac OS X Leopard (10.5.1) / i386  |  OK  |  OK  |  OK  | 
spotSegmentation 1.13.0 Chris Fraley
 | Last Changed Rev: 30639 / Revision: 30951 |  | Last Changed Date: 2008-03-24 10:46:05 -0700 |  
  | lamb1  | Linux (SUSE 10.1) / x86_64  |  OK  |  OK  |  | 
| wilson2  | Linux (openSUSE 10.3) / x86_64  |  OK  |  OK  |  | 
| wellington  | Linux (openSUSE 10.3) / i686  |  OK  |  OK  |  | 
| liverpool  | Windows Server 2003 R2 (32-bit) / x64  |  OK  |  OK  |  OK  | 
| pelham  | Mac OS X Leopard (10.5.1) / i386  |  OK  |  OK  |  OK  | 
sscore 1.11.0 Richard Kennedy
 | Last Changed Rev: 30639 / Revision: 30951 |  | Last Changed Date: 2008-03-24 10:46:05 -0700 |  
  | lamb1  | Linux (SUSE 10.1) / x86_64  |  OK  |  OK  |  | 
| wilson2  | Linux (openSUSE 10.3) / x86_64  |  OK  |  OK  |  | 
| wellington  | Linux (openSUSE 10.3) / i686  |  OK  |  OK  |  | 
| liverpool  | Windows Server 2003 R2 (32-bit) / x64  |  OK  |  OK  |  OK  | 
| pelham  | Mac OS X Leopard (10.5.1) / i386  |  OK  |  OK  |  OK  | 
ssize 1.11.0 Gregory R. Warnes
 | Last Changed Rev: 27716 / Revision: 30951 |  | Last Changed Date: 2007-10-02 18:16:39 -0700 |  
  | lamb1  | Linux (SUSE 10.1) / x86_64  |  OK  |  OK  |  | 
| wilson2  | Linux (openSUSE 10.3) / x86_64  |  OK  |  OK  |  | 
| wellington  | Linux (openSUSE 10.3) / i686  |  OK  |  OK  |  | 
| liverpool  | Windows Server 2003 R2 (32-bit) / x64  |  OK  |  OK  |  OK  | 
| pelham  | Mac OS X Leopard (10.5.1) / i386  |  OK  |  OK  |  OK  | 
stam 1.7.3 Claudio Lottaz
 | Last Changed Rev: 30502 / Revision: 30951 |  | Last Changed Date: 2008-03-13 12:53:52 -0700 |  
  | lamb1  | Linux (SUSE 10.1) / x86_64  |  ERROR  |  skipped  |  | 
| wilson2  | Linux (openSUSE 10.3) / x86_64  |  ERROR  |  skipped  |  | 
| wellington  | Linux (openSUSE 10.3) / i686  |  ERROR  |  skipped  |  | 
| liverpool  | Windows Server 2003 R2 (32-bit) / x64  |  ERROR  |  skipped  |  skipped  | 
| pelham  | Mac OS X Leopard (10.5.1) / i386  |  ERROR  |  skipped  |  skipped  | 
stepNorm 1.11.1 Yuanyuan Xiao
 | Last Changed Rev: 30535 / Revision: 30951 |  | Last Changed Date: 2008-03-15 22:32:48 -0700 |  
  | lamb1  | Linux (SUSE 10.1) / x86_64  |  OK  |  OK  |  | 
| wilson2  | Linux (openSUSE 10.3) / x86_64  |  OK  |  OK  |  | 
| wellington  | Linux (openSUSE 10.3) / i686  |  OK  |  OK  |  | 
| liverpool  | Windows Server 2003 R2 (32-bit) / x64  |  OK  |  OK  |  OK  | 
| pelham  | Mac OS X Leopard (10.5.1) / i386  |  OK  |  OK  |  OK  | 
 | 
| T  A  B  C  D  E  F  G  H  I  J  K  L  M  N  O  P  Q  R  S [T] U  V  W  X  Y  Z  | 
tilingArray 1.17.3 W. Huber
 | Last Changed Rev: 30061 / Revision: 30951 |  | Last Changed Date: 2008-02-20 09:28:59 -0800 |  
  | lamb1  | Linux (SUSE 10.1) / x86_64  |  OK  |  OK  |  | 
| wilson2  | Linux (openSUSE 10.3) / x86_64  |  OK  |  OK  |  | 
| wellington  | Linux (openSUSE 10.3) / i686  |  OK  |  OK  |  | 
| liverpool  | Windows Server 2003 R2 (32-bit) / x64  |  OK  |  OK  |  OK  | 
| pelham  | Mac OS X Leopard (10.5.1) / i386  |  OK  |  OK  |  OK  | 
timecourse 1.11.1 Yu Chuan Tai
 | Last Changed Rev: 30238 / Revision: 30951 |  | Last Changed Date: 2008-02-27 12:42:56 -0800 |  
  | lamb1  | Linux (SUSE 10.1) / x86_64  |  OK  |  OK  |  | 
| wilson2  | Linux (openSUSE 10.3) / x86_64  |  OK  |  OK  |  | 
| wellington  | Linux (openSUSE 10.3) / i686  |  OK  |  OK  |  | 
| liverpool  | Windows Server 2003 R2 (32-bit) / x64  |  OK  |  OK  |  OK  | 
| pelham  | Mac OS X Leopard (10.5.1) / i386  |  OK  |  OK  |  OK  | 
tkWidgets 1.17.1 J. Zhang
 | Last Changed Rev: 30622 / Revision: 30951 |  | Last Changed Date: 2008-03-21 16:44:02 -0700 |  
  | lamb1  | Linux (SUSE 10.1) / x86_64  |  OK  |  OK  |  | 
| wilson2  | Linux (openSUSE 10.3) / x86_64  |  OK  |  OK  |  | 
| wellington  | Linux (openSUSE 10.3) / i686  |  OK  |  OK  |  | 
| liverpool  | Windows Server 2003 R2 (32-bit) / x64  |  OK  |  OK  |  OK  | 
| pelham  | Mac OS X Leopard (10.5.1) / i386  |  OK  |  OK  |  OK  | 
topGO 1.5.0 Adrian Alexa
 | Last Changed Rev: 30198 / Revision: 30951 |  | Last Changed Date: 2008-02-26 10:37:53 -0800 |  
  | lamb1  | Linux (SUSE 10.1) / x86_64  |  OK  |  WARNINGS  |  | 
| wilson2  | Linux (openSUSE 10.3) / x86_64  |  OK  |  WARNINGS  |  | 
| wellington  | Linux (openSUSE 10.3) / i686  |  OK  |  WARNINGS  |  | 
| liverpool  | Windows Server 2003 R2 (32-bit) / x64  |  OK  |  WARNINGS  |  OK  | 
| pelham  | Mac OS X Leopard (10.5.1) / i386  |  OK  |  WARNINGS  |  OK  | 
twilight 1.15.2 Stefanie Scheid
 | Last Changed Rev: 30639 / Revision: 30951 |  | Last Changed Date: 2008-03-24 10:46:05 -0700 |  
  | lamb1  | Linux (SUSE 10.1) / x86_64  |  OK  |  OK  |  | 
| wilson2  | Linux (openSUSE 10.3) / x86_64  |  OK  |  OK  |  | 
| wellington  | Linux (openSUSE 10.3) / i686  |  OK  |  OK  |  | 
| liverpool  | Windows Server 2003 R2 (32-bit) / x64  |  OK  |  OK  |  OK  | 
| pelham  | Mac OS X Leopard (10.5.1) / i386  |  OK  |  OK  |  OK  | 
TypeInfo 1.5.0 Duncan Temple Lang
 | Last Changed Rev: 30200 / Revision: 30951 |  | Last Changed Date: 2008-02-26 10:51:59 -0800 |  
  | lamb1  | Linux (SUSE 10.1) / x86_64  |  OK  |  OK  |  | 
| wilson2  | Linux (openSUSE 10.3) / x86_64  |  OK  |  OK  |  | 
| wellington  | Linux (openSUSE 10.3) / i686  |  OK  |  OK  |  | 
| liverpool  | Windows Server 2003 R2 (32-bit) / x64  |  OK  |  OK  |  OK  | 
| pelham  | Mac OS X Leopard (10.5.1) / i386  |  OK  |  OK  |  OK  | 
 | 
| V  A  B  C  D  E  F  G  H  I  J  K  L  M  N  O  P  Q  R  S  T  U [V] W  X  Y  Z  | 
VanillaICE 1.1.18 Robert Scharpf
 | Last Changed Rev: 30913 / Revision: 30951 |  | Last Changed Date: 2008-04-08 03:27:56 -0700 |  
  | lamb1  | Linux (SUSE 10.1) / x86_64  |  OK  |  ERROR  |  | 
| wilson2  | Linux (openSUSE 10.3) / x86_64  |  OK  |  ERROR  |  | 
| wellington  | Linux (openSUSE 10.3) / i686  |  OK  |  ERROR  |  | 
| liverpool  | Windows Server 2003 R2 (32-bit) / x64  |  OK  |  OK  |  OK  | 
| pelham  | Mac OS X Leopard (10.5.1) / i386  |  OK  |  ERROR  |  OK  | 
vbmp 1.7.2 Nicola Lama
 | Last Changed Rev: 29468 / Revision: 30951 |  | Last Changed Date: 2008-01-09 16:22:05 -0800 |  
  | lamb1  | Linux (SUSE 10.1) / x86_64  |  OK  |  OK  |  | 
| wilson2  | Linux (openSUSE 10.3) / x86_64  |  OK  |  OK  |  | 
| wellington  | Linux (openSUSE 10.3) / i686  |  OK  |  OK  |  | 
| liverpool  | Windows Server 2003 R2 (32-bit) / x64  |  OK  |  OK  |  OK  | 
| pelham  | Mac OS X Leopard (10.5.1) / i386  |  OK  |  OK  |  OK  | 
vsn 3.4.12 Wolfgang Huber
 | Last Changed Rev: 30612 / Revision: 30951 |  | Last Changed Date: 2008-03-21 10:06:41 -0700 |  
  | lamb1  | Linux (SUSE 10.1) / x86_64  |  OK  |  ERROR  |  | 
| wilson2  | Linux (openSUSE 10.3) / x86_64  |  OK  |  ERROR  |  | 
| wellington  | Linux (openSUSE 10.3) / i686  |  OK  |  ERROR  |  | 
| liverpool  | Windows Server 2003 R2 (32-bit) / x64  |  OK  |  OK  |  OK  | 
| pelham  | Mac OS X Leopard (10.5.1) / i386  |  OK  |  ERROR  |  OK  | 
 | 
| W  A  B  C  D  E  F  G  H  I  J  K  L  M  N  O  P  Q  R  S  T  U  V [W] X  Y  Z  | 
weaver 1.5.0 Seth Falcon
 | Last Changed Rev: 28274 / Revision: 30951 |  | Last Changed Date: 2007-10-27 09:39:38 -0700 |  
  | lamb1  | Linux (SUSE 10.1) / x86_64  |  OK  |  OK  |  | 
| wilson2  | Linux (openSUSE 10.3) / x86_64  |  OK  |  OK  |  | 
| wellington  | Linux (openSUSE 10.3) / i686  |  OK  |  OK  |  | 
| liverpool  | Windows Server 2003 R2 (32-bit) / x64  |  OK  |  OK  |  OK  | 
| pelham  | Mac OS X Leopard (10.5.1) / i386  |  OK  |  OK  |  OK  | 
webbioc 1.11.1 Colin A. Smith
 | Last Changed Rev: 29410 / Revision: 30951 |  | Last Changed Date: 2008-01-06 15:58:34 -0800 |  
  | lamb1  | Linux (SUSE 10.1) / x86_64  |  OK  |  OK  |  | 
| wilson2  | Linux (openSUSE 10.3) / x86_64  |  OK  |  OK  |  | 
| wellington  | Linux (openSUSE 10.3) / i686  |  OK  |  OK  |  | 
| liverpool  | Windows Server 2003 R2 (32-bit) / x64  |  OK  |  OK  |  OK  | 
| pelham  | Mac OS X Leopard (10.5.1) / i386  |  OK  |  OK  |  OK  | 
widgetInvoke 1.11.0 Jeff Gentry
 | Last Changed Rev: 27716 / Revision: 30951 |  | Last Changed Date: 2007-10-02 18:16:39 -0700 |  
  | lamb1  | Linux (SUSE 10.1) / x86_64  |  OK  |  OK  |  | 
| wilson2  | Linux (openSUSE 10.3) / x86_64  |  OK  |  OK  |  | 
| wellington  | Linux (openSUSE 10.3) / i686  |  OK  |  OK  |  | 
| liverpool  | Windows Server 2003 R2 (32-bit) / x64  | N O T   S U P P O R T E D | 
| pelham  | Mac OS X Leopard (10.5.1) / i386  |  OK  |  OK  |  OK  | 
widgetTools 1.15.0 Jianhua Zhang
 | Last Changed Rev: 27716 / Revision: 30951 |  | Last Changed Date: 2007-10-02 18:16:39 -0700 |  
  | lamb1  | Linux (SUSE 10.1) / x86_64  |  OK  |  OK  |  | 
| wilson2  | Linux (openSUSE 10.3) / x86_64  |  OK  |  OK  |  | 
| wellington  | Linux (openSUSE 10.3) / i686  |  OK  |  OK  |  | 
| liverpool  | Windows Server 2003 R2 (32-bit) / x64  |  OK  |  OK  |  OK  | 
| pelham  | Mac OS X Leopard (10.5.1) / i386  |  OK  |  OK  |  OK  | 
 | 
| X  A  B  C  D  E  F  G  H  I  J  K  L  M  N  O  P  Q  R  S  T  U  V  W [X] Y  Z  | 
xcms 1.11.16 Colin A. Smith
 | Last Changed Rev: 30928 / Revision: 30951 |  | Last Changed Date: 2008-04-08 12:41:03 -0700 |  
  | lamb1  | Linux (SUSE 10.1) / x86_64  |  OK  |  ERROR  |  | 
| wilson2  | Linux (openSUSE 10.3) / x86_64  |  OK  |  ERROR  |  | 
| wellington  | Linux (openSUSE 10.3) / i686  |  OK  |  ERROR  |  | 
| liverpool  | Windows Server 2003 R2 (32-bit) / x64  |  OK  |  WARNINGS  |  OK  | 
| pelham  | Mac OS X Leopard (10.5.1) / i386  |  OK  |  ERROR  |  OK  | 
XDE 0.99.2 Robert Scharpf
 | Last Changed Rev: 30920 / Revision: 30951 |  | Last Changed Date: 2008-04-08 10:29:34 -0700 |  
  | lamb1  | Linux (SUSE 10.1) / x86_64  |  OK  |  WARNINGS  |  | 
| wilson2  | Linux (openSUSE 10.3) / x86_64  |  OK  |  WARNINGS  |  | 
| wellington  | Linux (openSUSE 10.3) / i686  |  OK  |  WARNINGS  |  | 
| liverpool  | Windows Server 2003 R2 (32-bit) / x64  |  OK  |  WARNINGS  |  OK  | 
| pelham  | Mac OS X Leopard (10.5.1) / i386  |  OK  |  WARNINGS  |  OK  | 
xps 0.99.8 Christian Stratowa
 | Last Changed Rev: 30930 / Revision: 30951 |  | Last Changed Date: 2008-04-08 13:13:49 -0700 |  
  | lamb1  | Linux (SUSE 10.1) / x86_64  |  OK  |  OK  |  | 
| wilson2  | Linux (openSUSE 10.3) / x86_64  |  OK  |  OK  |  | 
| wellington  | Linux (openSUSE 10.3) / i686  |  OK  |  OK  |  | 
| liverpool  | Windows Server 2003 R2 (32-bit) / x64  |  OK  |  OK  |  OK  | 
| pelham  | Mac OS X Leopard (10.5.1) / i386  |  OK  |  WARNINGS  |  OK  | 
 | 
| Y  A  B  C  D  E  F  G  H  I  J  K  L  M  N  O  P  Q  R  S  T  U  V  W  X [Y] Z  | 
yaqcaffy 0.99.2 Laurent Gatto
 | Last Changed Rev: 30820 / Revision: 30951 |  | Last Changed Date: 2008-04-03 08:12:45 -0700 |  
  | lamb1  | Linux (SUSE 10.1) / x86_64  |  OK  |  ERROR  |  | 
| wilson2  | Linux (openSUSE 10.3) / x86_64  |  OK  |  ERROR  |  | 
| wellington  | Linux (openSUSE 10.3) / i686  |  OK  |  ERROR  |  | 
| liverpool  | Windows Server 2003 R2 (32-bit) / x64  |  OK  |  OK  |  OK  | 
| pelham  | Mac OS X Leopard (10.5.1) / i386  |  OK  |  ERROR  |  OK  |