| daMA 1.11.0 Jobst Landgrebe
 
 | Snapshot Date: 2008-04-09 00:13:10 -0700 (Wed, 09 Apr 2008) |  | URL: https://hedgehog.fhcrc.org/bioconductor/trunk/madman/Rpacks/daMA |  | Last Changed Rev: 30639 / Revision: 30951 |  | Last Changed Date: 2008-03-24 10:46:05 -0700 (Mon, 24 Mar 2008) | 
 | lamb1 | Linux (SUSE 10.1) / x86_64 | OK | OK |  | 
| wilson2 | Linux (openSUSE 10.3) / x86_64 | OK | OK |  | 
| wellington | Linux (openSUSE 10.3) / i686 | OK | OK |  | 
| liverpool | Windows Server 2003 R2 (32-bit) / x64 | OK | OK | [ OK ] | 
| pelham | Mac OS X Leopard (10.5.1) / i386 | OK | OK | OK | 
installing R.css in E:/biocbld/bbs-2.2-bioc/meat/daMA.buildbin-libdir
Using auto-selected zip options 'daMA-ZIPDATA=zip'
---------- Making package daMA ------------
  adding build stamp to DESCRIPTION
  installing R files
  installing data files
  installing man source files
  installing indices
  zipping data
  installing help
Note: removing empty section \note
Note: removing empty section \seealso
Note: removing empty section \note
Note: removing empty section \seealso
Note: removing empty section \source
Note: removing empty section \details
Note: removing empty section \format
Note: removing empty section \source
Note: removing empty section \details
Note: removing empty section \format
Note: removing empty section \source
Note: removing empty section \details
Note: removing empty section \format
Note: removing empty section \source
Note: removing empty section \details
Note: removing empty section \format
Note: ignoring empty \keyword entries
Note: removing empty section \value
Note: removing empty section \details
Note: removing empty section \note
Note: removing empty section \examples
Note: removing empty section \seealso
Note: ignoring empty \keyword entries
Note: removing empty section \value
Note: removing empty section \details
Note: removing empty section \note
Note: removing empty section \examples
Note: removing empty section \seealso
Note: removing empty section \details
Note: removing empty section \references
Note: removing empty section \details
Note: removing empty section \references
Note: removing empty section \note
Note: removing empty section \seealso
Note: removing empty section \note
Note: removing empty section \seealso
Note: removing empty section \source
Note: removing empty section \details
Note: removing empty section \references
Note: removing empty section \source
Note: removing empty section \details
Note: removing empty section \references
 >>> Building/Updating help pages for package 'daMA'
     Formats: text html latex example chm 
  analyseMA                         text    html    latex   example chm
  cinfo                             text    html    latex   example chm
  cinfoB.AB                         text    html    latex   example chm
  cmat                              text    html    latex   example chm
  cmatB.AB                          text    html    latex   example chm
  core                              text    html    latex           chm
  data.3x2                          text    html    latex   example chm
  designMA                          text    html    latex   example chm
  designs.basic                     text    html    latex           chm
  designs.composite                 text    html    latex   example chm
  id.3x2                            text    html    latex   example chm
Microsoft HTML Help Compiler 4.74.8702
Compiling e:\biocbld\bbs-2.2-bioc\meat\R.INSTALL.340\daMA\chm\daMA.chm
Compile time: 0 minutes, 0 seconds
12	Topics
22	Local links
6	Internet links
1	Graphic
Created e:\biocbld\bbs-2.2-bioc\meat\R.INSTALL.340\daMA\chm\daMA.chm, 28,593 bytes
Compression decreased file by 8,435 bytes.
  adding MD5 sums
packaged installation of package 'daMA' as daMA_1.11.0.zip
* DONE (daMA)