| VanillaICE 1.1.18 Robert Scharpf
 
 | Snapshot Date: 2008-04-09 00:13:10 -0700 (Wed, 09 Apr 2008) |  | URL: https://hedgehog.fhcrc.org/bioconductor/trunk/madman/Rpacks/VanillaICE |  | Last Changed Rev: 30913 / Revision: 30951 |  | Last Changed Date: 2008-04-08 03:27:56 -0700 (Tue, 08 Apr 2008) | 
 | lamb1 | Linux (SUSE 10.1) / x86_64 | OK | ERROR |  | 
| wilson2 | Linux (openSUSE 10.3) / x86_64 | OK | ERROR |  | 
| wellington | Linux (openSUSE 10.3) / i686 | [ OK ] | ERROR |  | 
| liverpool | Windows Server 2003 R2 (32-bit) / x64 | OK | OK | OK | 
| pelham | Mac OS X Leopard (10.5.1) / i386 | OK | ERROR | OK | 
* checking for file 'VanillaICE/DESCRIPTION' ... OK
* preparing 'VanillaICE':
* checking DESCRIPTION meta-information ... OK
* installing the package to re-build vignettes
* Installing *source* package 'VanillaICE' ...
** R
** data
** inst
** preparing package for lazy loading
Loading required package: SNPchip
Loading required package: Biobase
Loading required package: tools
Welcome to Bioconductor
  Vignettes contain introductory material. To view, type
  'openVignette()'. To cite Bioconductor, see
  'citation("Biobase")' and for packages 'citation(pkgname)'.
Loading required package: oligoClasses
** help
 >>> Building/Updating help pages for package 'VanillaICE'
     Formats: text html latex example 
  HmmOptions-class                  text    html    latex   example
  HmmParameter-class                text    html    latex   example
  HmmPredict-class                  text    html    latex   example
  addFeatureData                    text    html    latex
  calculateBreakpoints              text    html    latex
  calculateCnSE                     text    html    latex
  calculateDistance                 text    html    latex
  calls.ICE                         text    html    latex
  calls.emission                    text    html    latex
  chromosome1                       text    html    latex   example
  copyNumber.ICE                    text    html    latex
  copyNumber.emission               text    html    latex
  copyNumber.location               text    html    latex
  emission                          text    html    latex
  fit                               text    html    latex   example
  genomicDistance                   text    html    latex
  getChromosomeArm                  text    html    latex
  hmm                               text    html    latex   example
  makeTable                         text    html    latex   example
  pi                                text    html    latex
  scaleTransitionProbability        text    html    latex   example
  states                            text    html    latex
  transitionScale                   text    html    latex
  viterbi                           text    html    latex
** building package indices ...
* DONE (VanillaICE)
* creating vignettes ... OK
* removing junk files
* checking for LF line-endings in source and make files
* checking for empty or unneeded directories
* building 'VanillaICE_1.1.18.tar.gz'