| GeneMeta 1.11.1 Biocore Team c/o BioC user list
 
 | Snapshot Date: 2008-04-09 00:13:10 -0700 (Wed, 09 Apr 2008) |  | URL: https://hedgehog.fhcrc.org/bioconductor/trunk/madman/Rpacks/GeneMeta |  | Last Changed Rev: 30157 / Revision: 30951 |  | Last Changed Date: 2008-02-25 15:58:57 -0800 (Mon, 25 Feb 2008) | 
 | lamb1 | Linux (SUSE 10.1) / x86_64 | [ OK ] | OK |  | 
| wilson2 | Linux (openSUSE 10.3) / x86_64 | OK | OK |  | 
| wellington | Linux (openSUSE 10.3) / i686 | OK | OK |  | 
| liverpool | Windows Server 2003 R2 (32-bit) / x64 | OK | OK | OK | 
| pelham | Mac OS X Leopard (10.5.1) / i386 | OK | OK | OK | 
* checking for file 'GeneMeta/DESCRIPTION' ... OK
* preparing 'GeneMeta':
* checking DESCRIPTION meta-information ... OK
* installing the package to re-build vignettes
* Installing *source* package 'GeneMeta' ...
** R
** data
** inst
** preparing package for lazy loading
Loading required package: Biobase
Loading required package: tools
Welcome to Bioconductor
  Vignettes contain introductory material. To view, type
  'openVignette()'. To cite Bioconductor, see
  'citation("Biobase")' and for packages 'citation(pkgname)'.
Loading required package: genefilter
Loading required package: survival
Loading required package: splines
** help
Note: ignoring empty \keyword entries
Note: removing empty section \value
Note: removing empty section \examples
Note: removing empty section \value
Note: removing empty section \details
 >>> Building/Updating help pages for package 'GeneMeta'
     Formats: text html latex example 
  CountPlot                         text    html    latex
  Nevins                            text    html    latex   example
  dstar                             text    html    latex   example
  f.Q                               text    html    latex   example
  tau                               text    html    latex   example
  zscore                            text    html    latex   example
** building package indices ...
* DONE (GeneMeta)
* creating vignettes ... OK
* removing junk files
* checking for LF line-endings in source and make files
* checking for empty or unneeded directories
* building 'GeneMeta_1.11.1.tar.gz'