| RWebServices 1.3.1 Martin Morgan
 
 | Snapshot Date: 2008-04-09 00:13:10 -0700 (Wed, 09 Apr 2008) |  | URL: https://hedgehog.fhcrc.org/bioconductor/trunk/madman/Rpacks/RWebServices |  | Last Changed Rev: 29018 / Revision: 30951 |  | Last Changed Date: 2007-12-04 11:08:50 -0800 (Tue, 04 Dec 2007) | 
 | lamb1 | Linux (SUSE 10.1) / x86_64 | OK | OK |  | 
| wilson2 | Linux (openSUSE 10.3) / x86_64 | OK | OK |  | 
| wellington | Linux (openSUSE 10.3) / i686 | [ OK ] | OK |  | 
| liverpool | Windows Server 2003 R2 (32-bit) / x64 | N O T   S U P P O R T E D | 
| pelham | Mac OS X Leopard (10.5.1) / i386 | N O T   S U P P O R T E D | 
* checking for file 'RWebServices/DESCRIPTION' ... OK
* preparing 'RWebServices':
* checking DESCRIPTION meta-information ... OK
* cleaning src
* running cleanup
rm: cannot remove `config.log': No such file or directory
rm: cannot remove `config.status': No such file or directory
rm: cannot remove `inst/scripts/RWebServicesEnv.properties': No such file or directory
* installing the package to re-build vignettes
* Installing *source* package 'RWebServices' ...
Guessing SJava home: /tmp/Rinst2448725252/SJava
configure: creating ./config.status
config.status: creating inst/scripts/RWebServicesEnv.properties
** libs
gcc -std=gnu99 -I/home/biocbuild/bbs-2.2-bioc/R/include -I/home/biocbuild/bbs-2.2-bioc/R/include  -I/usr/local/include    -fpic  -g -O2 -Wall -c init.c -o init.o
gcc -std=gnu99 -I/home/biocbuild/bbs-2.2-bioc/R/include -I/home/biocbuild/bbs-2.2-bioc/R/include  -I/usr/local/include    -fpic  -g -O2 -Wall -c RWebServicesConverters.c -o RWebServicesConverters.o
gcc -std=gnu99 -shared -L/usr/local/lib -o RWebServices.so init.o RWebServicesConverters.o   -L/home/biocbuild/bbs-2.2-bioc/R/lib -lR
** R
** inst
** preparing package for lazy loading
Loading required package: SJava
Loading required package: TypeInfo
Loading required package: tools
** help
Note: removing empty section \examples
Note: removing empty section \examples
Note: removing empty section \arguments
Note: removing empty section \examples
Note: removing empty section \examples
 >>> Building/Updating help pages for package 'RWebServices'
     Formats: text html latex example 
  ArrayAndMatrix-class              text    html    latex   example
  RJavaPkgFunctions-class           text    html    latex   example
  RJavaSignature-class              text    html    latex   example
  RWebServices.package              text    html    latex
  SinkOutput-class                  text    html    latex   example
  converters                        text    html    latex
  createMap                         text    html    latex   example
  generateDataMap                   text    html    latex   example
  generateDataTest                  text    html    latex   example
  generateFunctionMap               text    html    latex   example
  importDataCvt                     text    html    latex
  printLookup                       text    html    latex   example
  sinkSetup                         text    html    latex   example
  testUtils                         text    html    latex
  typeInfo2Java                     text    html    latex   example
  unpackAntScript                   text    html    latex   example
** building package indices ...
* DONE (RWebServices)
* creating vignettes ... OK
* cleaning src
* running cleanup
* removing junk files
* checking for LF line-endings in source and make files
* checking for empty or unneeded directories
* building 'RWebServices_1.3.1.tar.gz'