affxparser 1.11.8 Kasper Daniel Hansen
 | Snapshot Date: 2008-04-09 00:13:10 -0700 (Wed, 09 Apr 2008) |  | URL: https://hedgehog.fhcrc.org/bioconductor/trunk/madman/Rpacks/affxparser |  | Last Changed Rev: 30951 / Revision: 30951 |  | Last Changed Date: 2008-04-08 23:34:01 -0700 (Tue, 08 Apr 2008) |  
  | lamb1  | Linux (SUSE 10.1) / x86_64  |  OK  |  WARNINGS  |  | 
| wilson2  | Linux (openSUSE 10.3) / x86_64  | [ OK ] |  WARNINGS  |  | 
| wellington  | Linux (openSUSE 10.3) / i686  |  OK  |  WARNINGS  |  | 
| liverpool  | Windows Server 2003 R2 (32-bit) / x64  |  OK  |  WARNINGS  |  OK  | 
| pelham  | Mac OS X Leopard (10.5.1) / i386  |  OK  |  WARNINGS  |  OK  | 
* checking for file 'affxparser/DESCRIPTION' ... OK
* preparing 'affxparser':
* checking DESCRIPTION meta-information ... OK
* cleaning src
* removing junk files
* checking for LF line-endings in source and make files
* checking for empty or unneeded directories
WARNING: directory 'affxparser/tests/benchmarking' is empty
* building 'affxparser_1.11.8.tar.gz'