| BCRANK 1.0.5 Adam Ameur
 
 | Snapshot Date: 2008-04-09 00:13:10 -0700 (Wed, 09 Apr 2008) |  | URL: https://hedgehog.fhcrc.org/bioconductor/trunk/madman/Rpacks/BCRANK |  | Last Changed Rev: 30682 / Revision: 30951 |  | Last Changed Date: 2008-03-26 08:18:07 -0700 (Wed, 26 Mar 2008) | 
 | lamb1 | Linux (SUSE 10.1) / x86_64 | OK | OK |  | 
| wilson2 | Linux (openSUSE 10.3) / x86_64 | OK | OK |  | 
| wellington | Linux (openSUSE 10.3) / i686 | OK | OK |  | 
| liverpool | Windows Server 2003 R2 (32-bit) / x64 | [ OK ] | OK | OK | 
| pelham | Mac OS X Leopard (10.5.1) / i386 | OK | OK | OK | 
* checking for file 'BCRANK/DESCRIPTION' ... OK
* preparing 'BCRANK':
* checking DESCRIPTION meta-information ... OK
* cleaning src
* installing the package to re-build vignettes
installing R.css in E:/biocbld/bbs-2.2-bioc/tmpdir/Rinst614018377
---------- Making package BCRANK ------------
  adding build stamp to DESCRIPTION
  installing NAMESPACE file and metadata
  making DLL ...
making init.d from init.c
making match_consensus.d from match_consensus.c
gcc  -std=gnu99  -Ie:/biocbld/bbs-2.2-bioc/R/include     -O3 -Wall  -c init.c -o init.o
gcc  -std=gnu99  -Ie:/biocbld/bbs-2.2-bioc/R/include     -O3 -Wall  -c match_consensus.c -o match_consensus.o
windres --preprocessor="gcc -E -xc -DRC_INVOKED" -I e:/biocbld/bbs-2.2-bioc/R/include  -i BCRANK_res.rc -o BCRANK_res.o
gcc  -std=gnu99  -shared -s  -o BCRANK.dll BCRANK.def init.o match_consensus.o BCRANK_res.o  -Le:/biocbld/bbs-2.2-bioc/R/bin    -lR
  ... DLL made
  installing DLL
  installing R files
  installing inst files
  installing data files
  preparing package BCRANK for lazy loading
Creating a new generic function for "plot" in "BCRANK"
  installing man source files
  installing indices
  not zipping data
  installing help
 >>> Building/Updating help pages for package 'BCRANK'
     Formats: text html latex example chm 
  BCRANK-internal                   text    html    latex           chm
  BCRANKmatch-class                 text    html    latex           chm
  BCRANKout                         text    html    latex           chm
  BCRANKresult-class                text    html    latex           chm
  BCRANKsearch-class                text    html    latex           chm
  bcrank                            text    html    latex   example chm
Microsoft HTML Help Compiler 4.74.8702
Compiling e:\biocbld\bbs-2.2-bioc\meat\BCRANK\chm\BCRANK.chm
Compile time: 0 minutes, 1 second
7	Topics
42	Local links
0	Internet links
1	Graphic
Created e:\biocbld\bbs-2.2-bioc\meat\BCRANK\chm\BCRANK.chm, 21,835 bytes
Compression decreased file by 3,291 bytes.
  adding MD5 sums
* DONE (BCRANK)
* creating vignettes ... OK
* cleaning src
* removing junk files
* checking for LF line-endings in source and make files
* checking for empty or unneeded directories
* building 'BCRANK_1.0.5.tar.gz'