| matchprobes 1.11.1 Biocore Team c/o BioC user list
 
 | Snapshot Date: 2008-04-09 00:13:10 -0700 (Wed, 09 Apr 2008) |  | URL: https://hedgehog.fhcrc.org/bioconductor/trunk/madman/Rpacks/matchprobes |  | Last Changed Rev: 30367 / Revision: 30951 |  | Last Changed Date: 2008-03-04 16:35:59 -0800 (Tue, 04 Mar 2008) | 
 | lamb1 | Linux (SUSE 10.1) / x86_64 | OK | OK |  | 
| wilson2 | Linux (openSUSE 10.3) / x86_64 | OK | OK |  | 
| wellington | Linux (openSUSE 10.3) / i686 | OK | OK |  | 
| liverpool | Windows Server 2003 R2 (32-bit) / x64 | [ OK ] | OK | OK | 
| pelham | Mac OS X Leopard (10.5.1) / i386 | OK | OK | OK | 
* checking for file 'matchprobes/DESCRIPTION' ... OK
* preparing 'matchprobes':
* checking DESCRIPTION meta-information ... OK
* cleaning src
* installing the package to re-build vignettes
installing R.css in E:/biocbld/bbs-2.2-bioc/tmpdir/Rinst386462783
---------- Making package matchprobes ------------
  adding build stamp to DESCRIPTION
  making DLL ...
making matchprobes.d from matchprobes.c
making strutils.d from strutils.c
gcc  -std=gnu99  -Ie:/biocbld/bbs-2.2-bioc/R/include     -O3 -Wall  -c matchprobes.c -o matchprobes.o
gcc  -std=gnu99  -Ie:/biocbld/bbs-2.2-bioc/R/include     -O3 -Wall  -c strutils.c -o strutils.o
windres --preprocessor="gcc -E -xc -DRC_INVOKED" -I e:/biocbld/bbs-2.2-bioc/R/include  -i matchprobes_res.rc -o matchprobes_res.o
gcc  -std=gnu99  -shared -s  -o matchprobes.dll matchprobes.def matchprobes.o strutils.o matchprobes_res.o  -Le:/biocbld/bbs-2.2-bioc/R/bin    -lR
  ... DLL made
  installing DLL
  installing R files
  installing inst files
  installing data files
  preparing package matchprobes for lazy loading
Loading required package: Biobase
Loading required package: tools
Welcome to Bioconductor
  Vignettes contain introductory material. To view, type
  'openVignette()'. To cite Bioconductor, see
  'citation("Biobase")' and for packages 'citation(pkgname)'.
Loading required package: affy
Loading required package: affyio
Loading required package: preprocessCore
  installing man source files
  installing indices
  not zipping data
  installing help
 >>> Building/Updating help pages for package 'matchprobes'
     Formats: text html latex example chm 
  basecontent                       text    html    latex   example chm
  combineAffyBatch                  text    html    latex   example chm
  complementSeq                     text    html    latex   example chm
  getProbeDataAffy                  text    html    latex   example chm
  getProbeData_1lq                  text    html    latex   example chm
  longestConsecutive                text    html    latex   example chm
  makeProbePackage                  text    html    latex   example chm
  matchprobes                       text    html    latex   example chm
  print.probetable                  text    html    latex   example chm
  reverseSeq                        text    html    latex   example chm
Microsoft HTML Help Compiler 4.74.8702
Compiling e:\biocbld\bbs-2.2-bioc\meat\matchprobes\chm\matchprobes.chm
Compile time: 0 minutes, 1 second
11	Topics
37	Local links
1	Internet link
1	Graphic
Created e:\biocbld\bbs-2.2-bioc\meat\matchprobes\chm\matchprobes.chm, 30,760 bytes
Compression decreased file by 9,645 bytes.
  adding MD5 sums
* DONE (matchprobes)
* creating vignettes ... OK
* cleaning src
* removing junk files
* checking for LF line-endings in source and make files
* checking for empty or unneeded directories
* building 'matchprobes_1.11.1.tar.gz'