clusterStab 1.11.1 James W. MacDonald
 | Snapshot Date: 2008-04-09 00:13:10 -0700 (Wed, 09 Apr 2008) |  | URL: https://hedgehog.fhcrc.org/bioconductor/trunk/madman/Rpacks/clusterStab |  | Last Changed Rev: 30189 / Revision: 30951 |  | Last Changed Date: 2008-02-26 09:32:03 -0800 (Tue, 26 Feb 2008) |  
  | lamb1  | Linux (SUSE 10.1) / x86_64  |  OK  |  OK  |  | 
| wilson2  | Linux (openSUSE 10.3) / x86_64  |  OK  |  OK  |  | 
| wellington  | Linux (openSUSE 10.3) / i686  |  OK  |  OK  |  | 
| liverpool  | Windows Server 2003 R2 (32-bit) / x64  |  OK  |  OK  |  OK  | 
| pelham  | Mac OS X Leopard (10.5.1) / i386  |  OK  |  OK  | [ OK ] | 
                INSTALLATION WITH 'R CMD INSTALL clusterStab_1.11.1.tar.gz'
* Installing to library 'clusterStab.buildbin-libdir'
* Installing *source* package 'clusterStab' ...
** R
** inst
** preparing package for lazy loading
Loading required package: Biobase
Loading required package: tools
Welcome to Bioconductor
  Vignettes contain introductory material. To view, type
  'openVignette()'. To cite Bioconductor, see
  'citation("Biobase")' and for packages 'citation(pkgname)'.
** help
 >>> Building/Updating help pages for package 'clusterStab'
     Formats: text html latex example 
  benhur-class                      text    html    latex
  benhur                            text    html    latex   example
  clusterComp-class                 text    html    latex
  clusterComp                       text    html    latex   example
** building package indices ...
* DONE (clusterStab)