| lamb1 | 
Linux (SUSE 10.1) / x86_64  |  |  |  | 
| [wilson2] | 
Linux (openSUSE 10.3) / x86_64  |  |  |  | 
| wellington | 
Linux (openSUSE 10.3) / i686  |  |  |  | 
| liverpool | 
Windows Server 2003 R2 (32-bit) / x64  |  |  |  | 
| pelham | 
Mac OS X Leopard (10.5.1) / i386  |  |  |  | 
 | 
| A [A] B  C  D  E  F  G  H  I  J  K  L  M  N  O  P  Q  R  S  T  U  V  W  X  Y  Z  | 
| ABarray 1.7.2 | Yongming Andrew Sun |  OK  |  OK  |  | 
| aCGH 1.13.0 | Jane Fridlyand |  OK  |  WARNINGS  |  | 
| ACME 1.5.0 | Sean Davis |  OK  |  OK  |  | 
| adSplit 1.9.2 | Claudio Lottaz |  OK  |  OK  |  | 
| affxparser 1.11.8 | Kasper Daniel Hansen |  OK  |  WARNINGS  |  | 
| affy 1.17.12 | Rafael A. Irizarry |  OK  |  OK  |  | 
| affycomp 1.15.2 | Rafael A. Irizarry |  OK  |  OK  |  | 
| affycoretools 1.11.4 | James W. MacDonald |  OK  |  ERROR  |  | 
| AffyExpress 1.5.2 | Xuejun Arthur Li |  OK  |  OK  |  | 
| affyio 1.7.17 | Benjamin Milo Bolstad |  OK  |  OK  |  | 
| affylmGUI 1.13.1 | Keith Satterley |  OK  |  OK  |  | 
| affyPara 0.99.3 | Markus Schmidberger |  OK  |  OK  |  | 
| affypdnn 1.13.3 | Laurent Gautier |  OK  |  OK  |  | 
| affyPLM 1.15.10 | Ben Bolstad |  OK  |  OK  |  | 
| affyQCReport 1.17.0 | Craig Parman |  OK  |  OK  |  | 
| altcdfenvs 2.0.1 | Laurent Gautier |  ERROR  |  skipped  |  | 
| annaffy 1.11.5 | Colin A. Smith |  OK  |  OK  |  | 
| AnnBuilder 1.17.0 | J. Zhang |  OK  |  OK  |  | 
| annotate 1.17.12 | Biocore Team c/o BioC user list |  OK  |  WARNINGS  |  | 
| AnnotationDbi 1.1.30 | Biocore Team c/o BioC user list |  OK  |  OK  |  | 
| annotationTools 1.9.1 | Alexandre Kuhn |  OK  |  OK  |  | 
| apComplex 2.5.1 | Denise Scholtens |  OK  |  OK  |  | 
| aroma.light 1.7.1 | Henrik Bengtsson |  OK  |  OK  |  | 
| arrayMagic 1.17.3 | Andreas Buness |  ERROR  |  skipped  |  | 
| arrayQuality 1.16.2 | Agnes Paquet |  OK  |  WARNINGS  |  | 
| arrayQualityMetrics 1.4.18 | Audrey Kauffmann |  OK  |  OK  |  | 
 | 
| B  A [B] C  D  E  F  G  H  I  J  K  L  M  N  O  P  Q  R  S  T  U  V  W  X  Y  Z  | 
| BAC 0.99.0 | Raphael Gottardo |  OK  |  OK  |  | 
| BCRANK 1.0.5 | Adam Ameur |  OK  |  OK  |  | 
| beadarray 1.7.9 | Mark Dunning |  OK  |  OK  |  | 
| beadarraySNP 1.5.7 | Jan Oosting |  OK  |  WARNINGS  |  | 
| BeadExplorer 1.5.0 | Gareth Elvidge |  OK  |  ERROR  |  | 
| bgafun 1.1.0 | Iain Wallace |  OK  |  OK  |  | 
| BGmix 0.9.0 | Alex Lewin |  OK  |  OK  |  | 
| bgx 1.3.0 | Ernest Turro |  OK  |  OK  |  | 
| Biobase 1.99.7 | Biocore Team c/o BioC user list |  OK  |  OK  |  | 
| BiocCaseStudies 1.1.4 | Biocore Team c/o BioC user list |  OK  |  OK  |  | 
| biocGraph 1.1.1 | Li Long |  OK  |  OK  |  | 
| biocViews 1.7.3 | Biocore Team c/o BioC user list |  OK  |  OK  |  | 
| bioDist 1.11.6 | Biocore Team c/o BioC user list |  OK  |  OK  |  | 
| biomaRt 1.13.10 | Steffen Durinck |  OK  |  OK  |  | 
| BioMVCClass 1.7.0 | Elizabeth Whalen |  OK  |  OK  |  | 
| Biostrings 2.7.44 | H. Pages |  OK  |  WARNINGS  |  | 
| BiostringsCinterfaceDemo 0.1.2 | H. Pages |  OK  |  WARNINGS  |  | 
| bridge 1.2.0 | Raphael Gottardo |  OK  |  OK  |  | 
| BSgenome 1.7.7 | H. Pages |  OK  |  WARNINGS  |  | 
| BufferedMatrix 1.3.1 | Benjamin Milo Bolstad |  OK  |  OK  |  | 
| BufferedMatrixMethods 1.3.5 | B. M. Bolstad |  OK  |  OK  |  | 
 | 
| C  A  B [C] D  E  F  G  H  I  J  K  L  M  N  O  P  Q  R  S  T  U  V  W  X  Y  Z  | 
| CALIB 1.5.0 | Hui Zhao |  OK  |  OK  |  | 
| Category 2.5.10 | Robert Gentleman |  OK  |  WARNINGS  |  | 
| cellHTS 1.9.2 | Ligia Bras |  OK  |  OK  |  | 
| cellHTS2 2.3.25 | Gregoire Pau |  OK  |  OK  |  | 
| CGHcall 1.1.9 | Sjoerd Vosse |  OK  |  OK  |  | 
| cghMCR 1.9.0 | J. Zhang |  OK  |  OK  |  | 
| clusterStab 1.11.1 | James W. MacDonald |  OK  |  OK  |  | 
| CoCiteStats 1.11.0 | R. Gentleman |  OK  |  OK  |  | 
| codelink 1.7.5 | Diego Diez |  OK  |  OK  |  | 
| convert 1.15.1 | Yee Hwa (Jean) Yang |  OK  |  OK  |  | 
| copa 1.7.1 | James W. MacDonald |  OK  |  OK  |  | 
| CORREP 1.5.0 | Dongxiao Zhu |  OK  |  OK  |  | 
| cosmo 1.5.0 | Oliver Bembom |  OK  |  OK  |  | 
| cosmoGUI 1.5.0 | Oliver Bembom |  OK  |  OK  |  | 
| ctc 1.13.0 | Antoine Lucas |  OK  |  OK  |  | 
 | 
| D  A  B  C [D] E  F  G  H  I  J  K  L  M  N  O  P  Q  R  S  T  U  V  W  X  Y  Z  | 
| daMA 1.11.0 | Jobst Landgrebe |  OK  |  OK  |  | 
| DEDS 1.13.1 | Yuanyuan Xiao |  OK  |  OK  |  | 
| diffGeneAnalysis 1.21.0 | Choudary Jagarlamudi |  OK  |  OK  |  | 
| DNAcopy 1.13.3 | Venkatraman E. Seshan |  OK  |  OK  |  | 
| DynDoc 1.17.0 | Biocore Team c/o BioC user list |  OK  |  OK  |  | 
 | 
| E  A  B  C  D [E] F  G  H  I  J  K  L  M  N  O  P  Q  R  S  T  U  V  W  X  Y  Z  | 
| EBarrays 2.3.1 | Ming Yuan |  OK  |  OK  |  | 
| EBImage 2.3.17 | Oleg Sklyar |  OK  |  OK  |  | 
| ecolitk 1.11.2 | Laurent |  OK  |  OK  |  | 
| edd 1.17.2 | Vince Carey |  OK  |  OK  |  | 
| exonmap 1.5.4 | Crispin Miller |  OK  |  WARNINGS  |  | 
| explorase 1.3.6 | Michael Lawrence |  OK  |  OK  |  | 
| externalVector 1.5.4 | Biocore Team c/o BioC user list |  OK  |  OK  |  | 
 | 
| F  A  B  C  D  E [F] G  H  I  J  K  L  M  N  O  P  Q  R  S  T  U  V  W  X  Y  Z  | 
| factDesign 1.13.1 | Denise Scholtens |  OK  |  OK  |  | 
| fbat 1.3.0 | Weiliang Qiu |  OK  |  OK  |  | 
| fdrame 1.11.1 | Effi Kenigsberg |  OK  |  OK  |  | 
| flowClust 1.0.0 | Raphael Gottardo |  OK  |  WARNINGS  |  | 
| flowCore 1.5.16 | Nolwenn Le Meur |  OK  |  OK  |  | 
| flowQ 0.99.1 | N. Le Meur |  OK  |  OK  |  | 
| flowUtils 0.99.1 | Florian Hahne |  OK  |  OK  |  | 
| flowViz 1.3.4 | Florian Hahne |  OK  |  WARNINGS  |  | 
 | 
| G  A  B  C  D  E  F [G] H  I  J  K  L  M  N  O  P  Q  R  S  T  U  V  W  X  Y  Z  | 
| gaga 0.0.1 | David Rossell |  OK  |  WARNINGS  |  | 
| gaggle 1.7.1 | Dan Tenenbaum |  OK  |  OK  |  | 
| gcrma 2.11.4 | Z. Wu |  OK  |  OK  |  | 
| genArise 1.15.0 | IFC Development Team |  OK  |  OK  |  | 
| genefilter 1.17.12 | Biocore Team c/o BioC user list |  OK  |  WARNINGS  |  | 
| GeneMeta 1.11.1 | Biocore Team c/o BioC user list |  OK  |  OK  |  | 
| geneplotter 1.17.7 | Biocore Team c/o BioC user list |  OK  |  OK  |  | 
| GeneR 2.9.1 | Y. d'Aubenton-Carafa |  OK  |  OK  |  | 
| geneRecommender 1.11.1 | Greg Hather |  OK  |  OK  |  | 
| GeneRfold 0.1.4 | Antoine Lucas |  OK  |  OK  |  | 
| GeneSelector 0.9.5 | Martin Slawski |  ERROR  |  skipped  |  | 
| GeneSpring 2.13.1 | Thon de Boer |  OK  |  OK  |  | 
| GeneticsBase 1.3.2 | Gregory Warnes |  ERROR  |  skipped  |  | 
| GeneticsDesign 1.5.0 | Weiliang Qiu |  OK  |  ERROR  |  | 
| GeneticsPed 1.1.0 | Gregor Gorjanc |  OK  |  OK  |  | 
| GeneTraffic 1.11.1 | Daniel Iordan |  OK  |  OK  |  | 
| GenomeGraphs 0.99.1 | Steffen Durinck |  ERROR  |  skipped  |  | 
| GEOmetadb 0.99.0 | Jack Zhu |  OK  |  OK  |  | 
| GEOquery 2.3.6 | Sean Davis |  OK  |  OK  |  | 
| GGtools 1.7.29 | Vince Carey |  ERROR  |  skipped  |  | 
| GLAD 1.15.1 | Philippe Hupe |  OK  |  OK  |  | 
| GlobalAncova 3.5.1 | R. Meister |  OK  |  OK  |  | 
| globaltest 4.9.1 | Jelle Goeman |  OK  |  OK  |  | 
| GOstats 2.5.2 | Robert Gentleman |  OK  |  OK  |  | 
| goTools 1.11.1 | Agnes Paquet |  OK  |  OK  |  | 
| gpls 1.11.1 | Biocore Team c/o BioC user list |  OK  |  OK  |  | 
| graph 1.17.17 | Robert Gentleman |  OK  |  OK  |  | 
| GraphAlignment 1.0.0 | Joern P. Meier |  OK  |  OK  |  | 
| GraphAT 1.11.2 | Thomas LaFramboise |  OK  |  OK  |  | 
| GSEABase 1.1.27 | Biocore Team c/o BioC user list |  OK  |  OK  |  | 
| GSEAlm 0.99.1 | Assaf Oron |  OK  |  OK  |  | 
 | 
| H  A  B  C  D  E  F  G [H] I  J  K  L  M  N  O  P  Q  R  S  T  U  V  W  X  Y  Z  | 
| Harshlight 1.9.0 | Maurizio Pellegrino |  OK  |  OK  |  | 
| Heatplus 1.9.0 | Alexander Ploner |  OK  |  OK  |  | 
| HEM 1.11.0 | HyungJun Cho |  OK  |  OK  |  | 
| hexbin 1.13.3 | Nicholas Lewin-Koh |  OK  |  WARNINGS  |  | 
| hopach 1.13.1 | Katherine S. Pollard |  OK  |  OK  |  | 
| hypergraph 1.11.1 | Robert Gentleman |  OK  |  OK  |  | 
 | 
| I  A  B  C  D  E  F  G  H [I] J  K  L  M  N  O  P  Q  R  S  T  U  V  W  X  Y  Z  | 
| Icens 1.11.1 | Biocore Team c/o BioC user list |  OK  |  OK  |  | 
| idiogram 1.13.1 | Karl J. Dykema |  OK  |  OK  |  | 
| impute 1.11.0 | Balasubramanian Narasimhan |  OK  |  OK  |  | 
 | 
| K  A  B  C  D  E  F  G  H  I  J [K] L  M  N  O  P  Q  R  S  T  U  V  W  X  Y  Z  | 
| keggorth 1.1.0 | VJ Carey |  OK  |  OK  |  | 
| KEGGSOAP 1.13.0 | Robert Gentleman |  OK  |  OK  |  | 
 | 
| L  A  B  C  D  E  F  G  H  I  J  K [L] M  N  O  P  Q  R  S  T  U  V  W  X  Y  Z  | 
| lapmix 1.5.3 | Yann Ruffieux |  OK  |  OK  |  | 
| LBE 1.7.0 | Cyril Dalmasso |  OK  |  OK  |  | 
| limma 2.13.7 | Gordon Smyth |  OK  |  WARNINGS  |  | 
| limmaGUI 1.15.0 | Keith Satterley |  OK  |  OK  |  | 
| LMGene 1.9.1 | John Tillinghast |  OK  |  OK  |  | 
| logicFS 1.9.15 | Holger Schwender |  OK  |  OK  |  | 
| LPE 1.13.0 | Nitin Jain |  OK  |  OK  |  | 
| lumi 1.5.18 | Pan Du |  ERROR  |  skipped  |  | 
 | 
| M  A  B  C  D  E  F  G  H  I  J  K  L [M] N  O  P  Q  R  S  T  U  V  W  X  Y  Z  | 
| maanova 1.8.1 | Hyuna Yang |  OK  |  OK  |  | 
| macat 1.13.3 | Joern Toedling |  OK  |  OK  |  | 
| maCorrPlot 1.9.0 | Alexander Ploner |  OK  |  OK  |  | 
| maDB 1.11.1 | Johannes Rainer |  OK  |  WARNINGS  |  | 
| made4 1.13.3 | Aedin Culhane |  OK  |  OK  |  | 
| maigesPack 1.3.5 | Gustavo H. Esteves |  OK  |  OK  |  | 
| makecdfenv 1.17.1 | James W. MacDonald |  OK  |  OK  |  | 
| makePlatformDesign 1.3.0 | Benilton Carvalho |  OK  |  OK  |  | 
| MANOR 1.11.1 | Pierre Neuvial |  OK  |  OK  |  | 
| MantelCorr 1.9.0 | Brian Steinmeyer |  OK  |  OK  |  | 
| marray 1.17.1 | Yee Hwa (Jean) Yang |  OK  |  OK  |  | 
| maSigPro 1.11.1 | Ana Conesa |  OK  |  OK  |  | 
| MassSpecWavelet 1.5.2 | Pan Du |  OK  |  OK  |  | 
| matchprobes 1.11.1 | Biocore Team c/o BioC user list |  OK  |  OK  |  | 
| MCRestimate 1.11.7 | Markus Ruschhaupt |  OK  |  OK  |  | 
| mdqc 1.0.1 | Gabriela Cohen-Freue |  OK  |  ERROR  |  | 
| MeasurementError.cor 1.11.0 | Beiying Ding |  OK  |  OK  |  | 
| MergeMaid 2.11.1 | Xiaogang Zhong |  OK  |  OK  |  | 
| metaArray 1.13.2 | Hyungwon Choi |  OK  |  OK  |  | 
| Mfuzz 1.9.2 | Matthias Futschik |  OK  |  OK  |  | 
| MiPP 1.11.0 | Sukwoo Kim |  OK  |  OK  |  | 
| MLInterfaces 1.13.22 | V. Carey |  OK  |  ERROR  |  | 
| multtest 1.19.1 | Katherine S. Pollard |  OK  |  OK  |  | 
| MVCClass 1.13.0 | Elizabeth Whalen |  OK  |  OK  |  | 
 | 
| N  A  B  C  D  E  F  G  H  I  J  K  L  M [N] O  P  Q  R  S  T  U  V  W  X  Y  Z  | 
| nem 2.3.2 | Florian Markowetz |  OK  |  OK  |  | 
| nnNorm 2.3.0 | Adi Laurentiu Tarca |  OK  |  OK  |  | 
| nudge 1.5.2 | N. Dean |  OK  |  OK  |  | 
 | 
| O  A  B  C  D  E  F  G  H  I  J  K  L  M  N [O] P  Q  R  S  T  U  V  W  X  Y  Z  | 
| occugene 0.99.0 | Oliver Will |  OK  |  OK  |  | 
| OCplus 1.13.0 | Alexander Ploner |  OK  |  OK  |  | 
| oligo 1.3.18 | Benilton Carvalho |  OK  |  WARNINGS  |  | 
| oligoClasses 1.1.18 | Benilton Carvalho |  OK  |  WARNINGS  |  | 
| OLIN 1.15.0 | Matthias Futschik |  OK  |  OK  |  | 
| OLINgui 1.13.0 | Matthias Futschik |  OK  |  OK  |  | 
| oneChannelGUI 1.5.11 | Raffaele A Calogero |  OK  |  OK  |  | 
| ontoTools 1.15.1 | Vince Carey |  OK  |  OK  |  | 
| OrderedList 1.11.3 | Claudio Lottaz |  OK  |  OK  |  | 
| OutlierD 1.3.0 | Sukwoo Kim |  OK  |  OK  |  | 
 | 
| P  A  B  C  D  E  F  G  H  I  J  K  L  M  N  O [P] Q  R  S  T  U  V  W  X  Y  Z  | 
| pamr 1.37.0 | Rob Tibshirani |  OK  |  WARNINGS  |  | 
| panp 1.9.1 | Peter Warren |  OK  |  OK  |  | 
| pathRender 1.7.4 | Li Long |  OK  |  OK  |  | 
| pcaMethods 1.15.3 | Wolfram Stacklies |  OK  |  OK  |  | 
| pcot2 1.7.1 | Sarah Song |  OK  |  OK  |  | 
| PCpheno 1.1.7 | Nolwenn Le Meur |  OK  |  OK  |  | 
| pdInfoBuilder 1.3.18 | Vince Carey |  OK  |  WARNINGS  |  | 
| pdmclass 1.11.1 | James W. MacDonald |  OK  |  OK  |  | 
| PGSEA 1.7.7 | Karl Dykema |  OK  |  OK  |  | 
| pgUtils 1.11.0 | Johannes Rainer |  OK  |  OK  |  | 
| pickgene 1.11.0 | Brian S. Yandell |  OK  |  WARNINGS  |  | 
| pkgDepTools 1.5.1 | Seth Falcon |  OK  |  OK  |  | 
| plgem 1.11.2 | Mattia Pelizzola |  OK  |  OK  |  | 
| plier 1.9.0 | Crispin Miller |  OK  |  OK  |  | 
| plw 0.99.6 | Magnus Astrand |  ERROR  |  skipped  |  | 
| ppiStats 1.5.16 | Tony Chiang |  OK  |  ERROR  |  | 
| prada 1.15.1 | Florian Hahne |  OK  |  WARNINGS  |  | 
| preprocessCore 1.1.9 | Benjamin Milo Bolstad |  OK  |  OK  |  | 
| prism 0.1.2 | Raphael Gottardo |  OK  |  WARNINGS  |  | 
| PROcess 1.15.0 | Xiaochun Li |  OK  |  WARNINGS  |  | 
| puma 1.5.5 | Richard Pearson |  OK  |  OK  |  | 
 | 
| Q  A  B  C  D  E  F  G  H  I  J  K  L  M  N  O  P [Q] R  S  T  U  V  W  X  Y  Z  | 
| quantsmooth 1.5.4 | Jan Oosting |  OK  |  WARNINGS  |  | 
| qvalue 1.13.0 | John D. Storey |  OK  |  OK  |  | 
 | 
| R  A  B  C  D  E  F  G  H  I  J  K  L  M  N  O  P  Q [R] S  T  U  V  W  X  Y  Z  | 
| rama 1.12.0 | Raphael Gottardo |  OK  |  OK  |  | 
| RankProd 2.11.0 | Fangxin Hong |  OK  |  OK  |  | 
| RbcBook1 1.7.2 | Vince Carey |  OK  |  OK  |  | 
| RBGL 1.15.7 | Li Long |  OK  |  WARNINGS  |  | 
| RBioinf 0.7.1 | Robert Gentleman |  OK  |  OK  |  | 
| rbsurv 1.5.0 | Sukwoo Kim |  OK  |  OK  |  | 
| Rdbi 1.13.0 | Jianhua Zhang |  OK  |  OK  |  | 
| RdbiPgSQL 1.13.0 | Jianhua Zhang |  OK  |  OK  |  | 
| Rdisop 0.99.3 | Steffen Neumann |  OK  |  OK  |  | 
| reb 1.13.0 | Karl J. Dykema |  OK  |  WARNINGS  |  | 
| RefPlus 1.9.0 | Kai-Ming Chang |  OK  |  OK  |  | 
| Resourcerer 1.13.0 | Jianhua Zhang |  OK  |  OK  |  | 
| rflowcyt 1.11.1 | N. LeMeur |  OK  |  OK  |  | 
| Rgraphviz 1.17.13 | Li Long |  OK  |  OK  |  | 
| rhdf5 1.7.1 | Biocore Team c/o BioC user list |  ERROR  |  skipped  |  | 
| rHVDM 1.5.1 | Martino Barenco |  OK  |  WARNINGS  |  | 
| Ringo 1.3.19 | J. Toedling |  OK  |  OK  |  | 
| Rintact 1.1.6 | Tony Chiang |  OK  |  ERROR  |  | 
| RLMM 1.1.0 | Nusrat Rabbee |  OK  |  OK  |  | 
| RMAGEML 2.13.1 | Steffen Durinck |  OK  |  OK  |  | 
| ROC 1.13.1 | Vince Carey |  OK  |  OK  |  | 
| Rredland 1.5.1 | VJ Carey |  OK  |  OK  |  | 
| rsbml 1.5.1 | Michael Lawrence |  ERROR  |  skipped  |  | 
| RSNPper 1.13.0 | VJ Carey |  OK  |  OK  |  | 
| rtracklayer 0.1.5 | Michael Lawrence |  OK  |  OK  |  | 
| Rtreemix 1.0.0 | Jasmina Bogojeska |  OK  |  ERROR  |  | 
| Ruuid 1.17.1 | Biocore Team c/o BioC user list |  OK  |  OK  |  | 
| RWebServices 1.3.1 | Martin Morgan |  OK  |  OK  |  | 
 | 
| S  A  B  C  D  E  F  G  H  I  J  K  L  M  N  O  P  Q  R [S] T  U  V  W  X  Y  Z  | 
| safe 2.0.1 | William T. Barry |  OK  |  OK  |  | 
| SAGElyzer 1.17.0 | Jianhua Zhang |  OK  |  WARNINGS  |  | 
| sagenhaft 1.9.0 | Tim Beissbarth |  OK  |  OK  |  | 
| SAGx 1.13.4 | Per Broberg, |  OK  |  WARNINGS  |  | 
| SBMLR 1.33.1 | Tomas Radivoyevitch |  OK  |  OK  |  | 
| ScISI 1.11.2 | Tony Chiang |  OK  |  OK  |  | 
| SemSim 1.5.0 | Xiang Guo |  OK  |  OK  |  | 
| seqLogo 1.5.0 | Oliver Bembom |  OK  |  OK  |  | 
| siggenes 1.13.4 | Holger Schwender |  OK  |  OK  |  | 
| sigPathway 1.7.0 | Weil Lai |  OK  |  OK  |  | 
| simpleaffy 2.15.04 | Crispin Miller |  OK  |  OK  |  | 
| simulatorAPMS 1.11.0 | Tony Chiang |  OK  |  OK  |  | 
| sizepower 1.9.0 | Weiliang Qiu |  OK  |  OK  |  | 
| SLGI 0.99.0 | Nolwenn Le Meur |  OK  |  ERROR  |  | 
| SLqPCR 1.5.0 | Matthias Kohl |  OK  |  OK  |  | 
| SMAP 1.3.0 | Robin Andersson |  OK  |  OK  |  | 
| snapCGH 1.7.4 | John Marioni |  OK  |  OK  |  | 
| SNPchip 1.3.22 | Robert Scharpf |  OK  |  OK  |  | 
| snpMatrix 1.2.4 | David Clayton |  OK  |  OK  |  | 
| spikeLI 1.7.0 | Enrico Carlon |  OK  |  OK  |  | 
| splicegear 1.11.2 | Laurent Gautier |  OK  |  OK  |  | 
| splots 1.5.3 | Oleg Sklyar |  OK  |  OK  |  | 
| spotSegmentation 1.13.0 | Chris Fraley |  OK  |  OK  |  | 
| sscore 1.11.0 | Richard Kennedy |  OK  |  OK  |  | 
| ssize 1.11.0 | Gregory R. Warnes |  OK  |  OK  |  | 
| stam 1.7.3 | Claudio Lottaz |  ERROR  |  skipped  |  | 
| stepNorm 1.11.1 | Yuanyuan Xiao |  OK  |  OK  |  | 
 | 
| T  A  B  C  D  E  F  G  H  I  J  K  L  M  N  O  P  Q  R  S [T] U  V  W  X  Y  Z  | 
| tilingArray 1.17.3 | W. Huber |  OK  |  OK  |  | 
| timecourse 1.11.1 | Yu Chuan Tai |  OK  |  OK  |  | 
| tkWidgets 1.17.1 | J. Zhang |  OK  |  OK  |  | 
| topGO 1.5.0 | Adrian Alexa |  OK  |  WARNINGS  |  | 
| twilight 1.15.2 | Stefanie Scheid |  OK  |  OK  |  | 
| TypeInfo 1.5.0 | Duncan Temple Lang |  OK  |  OK  |  | 
 | 
| V  A  B  C  D  E  F  G  H  I  J  K  L  M  N  O  P  Q  R  S  T  U [V] W  X  Y  Z  | 
| VanillaICE 1.1.18 | Robert Scharpf |  OK  |  ERROR  |  | 
| vbmp 1.7.2 | Nicola Lama |  OK  |  OK  |  | 
| vsn 3.4.12 | Wolfgang Huber |  OK  |  ERROR  |  | 
 | 
| W  A  B  C  D  E  F  G  H  I  J  K  L  M  N  O  P  Q  R  S  T  U  V [W] X  Y  Z  | 
| weaver 1.5.0 | Seth Falcon |  OK  |  OK  |  | 
| webbioc 1.11.1 | Colin A. Smith |  OK  |  OK  |  | 
| widgetInvoke 1.11.0 | Jeff Gentry |  OK  |  OK  |  | 
| widgetTools 1.15.0 | Jianhua Zhang |  OK  |  OK  |  | 
 | 
| X  A  B  C  D  E  F  G  H  I  J  K  L  M  N  O  P  Q  R  S  T  U  V  W [X] Y  Z  | 
| xcms 1.11.16 | Colin A. Smith |  OK  |  ERROR  |  | 
| XDE 0.99.2 | Robert Scharpf |  OK  |  WARNINGS  |  | 
| xps 0.99.8 | Christian Stratowa |  OK  |  OK  |  | 
 | 
| Y  A  B  C  D  E  F  G  H  I  J  K  L  M  N  O  P  Q  R  S  T  U  V  W  X [Y] Z  | 
| yaqcaffy 0.99.2 | Laurent Gatto |  OK  |  ERROR  |  |