mdqc 1.0.1 Gabriela Cohen-Freue
 | Snapshot Date: 2008-04-09 00:13:10 -0700 (Wed, 09 Apr 2008) |  | URL: https://hedgehog.fhcrc.org/bioconductor/trunk/madman/Rpacks/mdqc |  | Last Changed Rev: 30261 / Revision: 30951 |  | Last Changed Date: 2008-02-28 11:11:54 -0800 (Thu, 28 Feb 2008) |  
  | lamb1  | Linux (SUSE 10.1) / x86_64  |  OK  |  ERROR  |  | 
| wilson2  | Linux (openSUSE 10.3) / x86_64  | [ OK ] |  ERROR  |  | 
| wellington  | Linux (openSUSE 10.3) / i686  |  OK  |  ERROR  |  | 
| liverpool  | Windows Server 2003 R2 (32-bit) / x64  |  OK  |  WARNINGS  |  OK  | 
| pelham  | Mac OS X Leopard (10.5.1) / i386  |  OK  |  ERROR  |  OK  | 
* checking for file 'mdqc/DESCRIPTION' ... OK
* preparing 'mdqc':
* checking DESCRIPTION meta-information ... OK
* installing the package to re-build vignettes
* Installing *source* package 'mdqc' ...
** R
** data
** inst
** help
 >>> Building/Updating help pages for package 'mdqc'
     Formats: text html latex example 
  allQC                             text    html    latex   example
  mdqc-package                      text    html    latex
  mdqc                              text    html    latex   example
  plot.mdqc                         text    html    latex   example
  prcomp.robust                     text    html    latex   example
** building package indices ...
* DONE (mdqc)
* creating vignettes ... OK
* removing junk files
* checking for LF line-endings in source and make files
* checking for empty or unneeded directories
* building 'mdqc_1.0.1.tar.gz'