splots 1.5.3 Oleg Sklyar
 | Snapshot Date: 2008-04-09 00:13:10 -0700 (Wed, 09 Apr 2008) |  | URL: https://hedgehog.fhcrc.org/bioconductor/trunk/madman/Rpacks/splots |  | Last Changed Rev: 30457 / Revision: 30951 |  | Last Changed Date: 2008-03-11 09:42:17 -0700 (Tue, 11 Mar 2008) |  
  | lamb1  | Linux (SUSE 10.1) / x86_64  |  OK  |  OK  |  | 
| wilson2  | Linux (openSUSE 10.3) / x86_64  |  OK  |  OK  |  | 
| wellington  | Linux (openSUSE 10.3) / i686  |  OK  |  OK  |  | 
| liverpool  | Windows Server 2003 R2 (32-bit) / x64  |  OK  | [ OK ] |  OK  | 
| pelham  | Mac OS X Leopard (10.5.1) / i386  |  OK  |  OK  |  OK  | 
* checking for working pdflatex ... OK
* using log directory 'E:/biocbld/bbs-2.2-bioc/meat/splots.Rcheck'
* using R version 2.7.0 Under development (unstable) (2008-03-10 r44730)
* using session charset: ISO8859-1
* checking for file 'splots/DESCRIPTION' ... OK
* this is package 'splots' version '1.5.3'
* checking package name space information ... OK
* checking package dependencies ... OK
* checking if this is a source package ... OK
* checking whether package 'splots' can be installed ... OK
* checking package directory ... OK
* checking for portable file names ... OK
* checking DESCRIPTION meta-information ... OK
* checking top-level files ... OK
* checking index information ... OK
* checking package subdirectories ... OK
* checking R files for non-ASCII characters ... OK
* checking R files for syntax errors ... OK
* checking whether the package can be loaded ... OK
* checking whether the package can be loaded with stated dependencies ... OK
* checking whether the name space can be loaded with stated dependencies ... OK
* checking for unstated dependencies in R code ... OK
* checking S3 generic/method consistency ... OK
* checking replacement functions ... OK
* checking foreign function calls ... OK
* checking R code for possible problems ... OK
* checking Rd files ... OK
* checking Rd cross-references ... OK
* checking for missing documentation entries ... OK
* checking for code/documentation mismatches ... OK
* checking Rd \usage sections ... OK
* creating splots-Ex.R ... OK
* checking examples ... OK
* checking package vignettes in 'inst/doc' ... OK
* creating splots-manual.tex ... OK
* checking splots-manual.tex using pdflatex ... OK
 
installing R.css in E:/biocbld/bbs-2.2-bioc/meat/splots.Rcheck
---------- Making package splots ------------
  adding build stamp to DESCRIPTION
  installing NAMESPACE file and metadata
  installing R files
  installing inst files
  preparing package splots for lazy loading
Loading required package: grid
  installing man source files
  installing indices
  installing help
 >>> Building/Updating help pages for package 'splots'
     Formats: text html latex example chm 
  plotScreen                        text    html    latex   example chm
Microsoft HTML Help Compiler 4.74.8702
Compiling e:\biocbld\bbs-2.2-bioc\meat\splots.Rcheck\00_pkg_src\splots\chm\splots.chm
Compile time: 0 minutes, 0 seconds
2	Topics
2	Local links
0	Internet links
1	Graphic
Created e:\biocbld\bbs-2.2-bioc\meat\splots.Rcheck\00_pkg_src\splots\chm\splots.chm, 17,857 bytes
Compression increased file by 8,595 bytes.
  adding MD5 sums
* DONE (splots)