| nudge 1.5.2 N. Dean
 
 | Snapshot Date: 2008-04-09 00:13:10 -0700 (Wed, 09 Apr 2008) |  | URL: https://hedgehog.fhcrc.org/bioconductor/trunk/madman/Rpacks/nudge |  | Last Changed Rev: 30623 / Revision: 30951 |  | Last Changed Date: 2008-03-21 17:07:39 -0700 (Fri, 21 Mar 2008) | 
 | lamb1 | Linux (SUSE 10.1) / x86_64 | OK | OK |  | 
| wilson2 | Linux (openSUSE 10.3) / x86_64 | OK | OK |  | 
| wellington | Linux (openSUSE 10.3) / i686 | OK | OK |  | 
| liverpool | Windows Server 2003 R2 (32-bit) / x64 | [ OK ] | OK | OK | 
| pelham | Mac OS X Leopard (10.5.1) / i386 | OK | OK | OK | 
* checking for file 'nudge/DESCRIPTION' ... OK
* preparing 'nudge':
* checking DESCRIPTION meta-information ... OK
* installing the package to re-build vignettes
installing R.css in E:/biocbld/bbs-2.2-bioc/tmpdir/Rinst196824020
---------- Making package nudge ------------
  adding build stamp to DESCRIPTION
  installing R files
  installing inst files
  installing data files
  installing man source files
  installing indices
  not zipping data
  installing help
 >>> Building/Updating help pages for package 'nudge'
     Formats: text html latex example chm 
  hiv                               text    html    latex           chm
  like                              text    html    latex           chm
  neg.contr                         text    html    latex           chm
  norm1a                            text    html    latex   example chm
  norm1b                            text    html    latex   example chm
  norm1c                            text    html    latex   example chm
  norm1d                            text    html    latex   example chm
  norm2c                            text    html    latex   example chm
  norm2d                            text    html    latex   example chm
  nudge1                            text    html    latex   example chm
  nudge2                            text    html    latex   example chm
  pos.contr                         text    html    latex           chm
Microsoft HTML Help Compiler 4.74.8702
Compiling e:\biocbld\bbs-2.2-bioc\meat\nudge\chm\nudge.chm
Compile time: 0 minutes, 1 second
13	Topics
74	Local links
12	Internet links
1	Graphic
Created e:\biocbld\bbs-2.2-bioc\meat\nudge\chm\nudge.chm, 32,216 bytes
Compression decreased file by 24,596 bytes.
  adding MD5 sums
* DONE (nudge)
* creating vignettes ... OK
* removing junk files
* checking for LF line-endings in source and make files
* checking for empty or unneeded directories
* building 'nudge_1.5.2.tar.gz'