pathRender 1.7.4 Li Long
 | Snapshot Date: 2008-04-09 00:13:10 -0700 (Wed, 09 Apr 2008) |  | URL: https://hedgehog.fhcrc.org/bioconductor/trunk/madman/Rpacks/pathRender |  | Last Changed Rev: 30285 / Revision: 30951 |  | Last Changed Date: 2008-02-29 03:24:16 -0800 (Fri, 29 Feb 2008) |  
  | lamb1  | Linux (SUSE 10.1) / x86_64  |  OK  |  OK  |  | 
| wilson2  | Linux (openSUSE 10.3) / x86_64  |  OK  |  OK  |  | 
| wellington  | Linux (openSUSE 10.3) / i686  |  OK  |  OK  |  | 
| liverpool  | Windows Server 2003 R2 (32-bit) / x64  |  OK  |  WARNINGS  |  OK  | 
| pelham  | Mac OS X Leopard (10.5.1) / i386  | [ OK ] |  OK  |  OK  | 
* checking for file 'pathRender/DESCRIPTION' ... OK
* preparing 'pathRender':
* checking DESCRIPTION meta-information ... OK
* installing the package to re-build vignettes
* Installing *source* package 'pathRender' ...
** R
** inst
** preparing package for lazy loading
Loading required package: graph
Loading required package: Rgraphviz
Loading required package: grid
Loading required package: RColorBrewer
Loading required package: cMAP
Loading required package: AnnotationDbi
Loading required package: Biobase
Loading required package: tools
Welcome to Bioconductor
  Vignettes contain introductory material. To view, type
  'openVignette()'. To cite Bioconductor, see
  'citation("Biobase")' and for packages 'citation(pkgname)'.
Loading required package: DBI
Loading required package: RSQLite
** help
Note: removing empty section \seealso
 >>> Building/Updating help pages for package 'pathRender'
     Formats: text html latex example 
  colorNodes                        text    html    latex   example
  coloredGraph-class                text    html    latex   example
  graphcMAP                         text    html    latex   example
  plotExGraph                       text    html    latex   example
  pwayGraph-class                   text    html    latex   example
  reduceES                          text    html    latex   example
  rendercMAP                        text    html    latex   example
** building package indices ...
* DONE (pathRender)
* creating vignettes ... OK
* removing junk files
* checking for LF line-endings in source and make files
* checking for empty or unneeded directories
WARNING: directory 'pathRender/inst/misc' is empty
* building 'pathRender_1.7.4.tar.gz'