| OutlierD 1.3.0 Sukwoo Kim
 
 | Snapshot Date: 2008-04-09 00:13:10 -0700 (Wed, 09 Apr 2008) |  | URL: https://hedgehog.fhcrc.org/bioconductor/trunk/madman/Rpacks/OutlierD |  | Last Changed Rev: 30639 / Revision: 30951 |  | Last Changed Date: 2008-03-24 10:46:05 -0700 (Mon, 24 Mar 2008) | 
 | lamb1 | Linux (SUSE 10.1) / x86_64 | OK | OK |  | 
| wilson2 | Linux (openSUSE 10.3) / x86_64 | OK | OK |  | 
| wellington | Linux (openSUSE 10.3) / i686 | [ OK ] | OK |  | 
| liverpool | Windows Server 2003 R2 (32-bit) / x64 | OK | OK | OK | 
| pelham | Mac OS X Leopard (10.5.1) / i386 | OK | OK | OK | 
* checking for file 'OutlierD/DESCRIPTION' ... OK
* preparing 'OutlierD':
* checking DESCRIPTION meta-information ... OK
* installing the package to re-build vignettes
* Installing *source* package 'OutlierD' ...
** R
** data
** inst
** help
 >>> Building/Updating help pages for package 'OutlierD'
     Formats: text html latex example 
  OutlierD                          text    html    latex   example
  lcms                              text    html    latex
** building package indices ...
* DONE (OutlierD)
* creating vignettes ... OK
* removing junk files
* checking for LF line-endings in source and make files
* checking for empty or unneeded directories
* building 'OutlierD_1.3.0.tar.gz'