| edd 1.17.2 Vince Carey
 
 | Snapshot Date: 2008-04-09 00:13:10 -0700 (Wed, 09 Apr 2008) |  | URL: https://hedgehog.fhcrc.org/bioconductor/trunk/madman/Rpacks/edd |  | Last Changed Rev: 30362 / Revision: 30951 |  | Last Changed Date: 2008-03-04 12:55:46 -0800 (Tue, 04 Mar 2008) | 
 | lamb1 | Linux (SUSE 10.1) / x86_64 | OK | OK |  | 
| wilson2 | Linux (openSUSE 10.3) / x86_64 | OK | OK |  | 
| wellington | Linux (openSUSE 10.3) / i686 | OK | OK |  | 
| liverpool | Windows Server 2003 R2 (32-bit) / x64 | OK | OK | OK | 
| pelham | Mac OS X Leopard (10.5.1) / i386 | OK | OK | [ OK ] | 
                INSTALLATION WITH 'R CMD INSTALL edd_1.17.2.tar.gz'
* Installing to library 'edd.buildbin-libdir'
* Installing *source* package 'edd' ...
** R
** inst
** preparing package for lazy loading
Loading required package: golubEsets
Loading required package: Biobase
Loading required package: tools
Welcome to Bioconductor
  Vignettes contain introductory material. To view, type
  'openVignette()'. To cite Bioconductor, see
  'citation("Biobase")' and for packages 'citation(pkgname)'.
Loading required package: class
Loading required package: nnet
Loading required package: xtable
** help
Note: removing empty section \details
 >>> Building/Updating help pages for package 'edd'
     Formats: text html latex example 
  centerScale                       text    html    latex   example
  edd                               text    html    latex   example
  eddDist-class                     text    html    latex   example
  eddObsolete                       text    html    latex   example
  flatQQNorm                        text    html    latex   example
  latEDtable                        text    html    latex   example
  makeCandmat.raw                   text    html    latex   example
  maxKSp                            text    html    latex   example
  plotED                            text    html    latex   example
** building package indices ...
* DONE (edd)