| spikeLI 1.7.0 Enrico Carlon
 
 | Snapshot Date: 2008-04-09 00:13:10 -0700 (Wed, 09 Apr 2008) |  | URL: https://hedgehog.fhcrc.org/bioconductor/trunk/madman/Rpacks/spikeLI |  | Last Changed Rev: 28109 / Revision: 30951 |  | Last Changed Date: 2007-10-21 09:10:39 -0700 (Sun, 21 Oct 2007) | 
 | lamb1 | Linux (SUSE 10.1) / x86_64 | OK | OK |  | 
| wilson2 | Linux (openSUSE 10.3) / x86_64 | OK | OK |  | 
| wellington | Linux (openSUSE 10.3) / i686 | OK | OK |  | 
| liverpool | Windows Server 2003 R2 (32-bit) / x64 | OK | [ OK ] | OK | 
| pelham | Mac OS X Leopard (10.5.1) / i386 | OK | OK | OK | 
* checking for working pdflatex ... OK
* using log directory 'E:/biocbld/bbs-2.2-bioc/meat/spikeLI.Rcheck'
* using R version 2.7.0 Under development (unstable) (2008-03-10 r44730)
* using session charset: ISO8859-1
* checking for file 'spikeLI/DESCRIPTION' ... OK
* checking extension type ... Package
* this is package 'spikeLI' version '1.7.0'
* checking package dependencies ... OK
* checking if this is a source package ... OK
* checking whether package 'spikeLI' can be installed ... OK
* checking package directory ... OK
* checking for portable file names ... OK
* checking DESCRIPTION meta-information ... OK
* checking top-level files ... OK
* checking index information ... OK
* checking package subdirectories ... OK
* checking R files for non-ASCII characters ... OK
* checking R files for syntax errors ... OK
* checking whether the package can be loaded ... OK
* checking whether the package can be loaded with stated dependencies ... OK
* checking for unstated dependencies in R code ... OK
* checking S3 generic/method consistency ... OK
* checking replacement functions ... OK
* checking foreign function calls ... OK
* checking R code for possible problems ... OK
* checking Rd files ... OK
* checking Rd cross-references ... OK
* checking for missing documentation entries ... OK
* checking for code/documentation mismatches ... OK
* checking Rd \usage sections ... OK
* checking data for non-ASCII characters ... OK
* creating spikeLI-Ex.R ... OK
* checking examples ... OK
* checking package vignettes in 'inst/doc' ... OK
* creating spikeLI-manual.tex ... OK
* checking spikeLI-manual.tex using pdflatex ... OK
 
installing R.css in E:/biocbld/bbs-2.2-bioc/meat/spikeLI.Rcheck
---------- Making package spikeLI ------------
  adding build stamp to DESCRIPTION
  installing R files
  installing demos
  installing inst files
  installing data files
  installing man source files
  installing indices
  not zipping data
  installing help
 >>> Building/Updating help pages for package 'spikeLI'
     Formats: text html latex example chm 
  IvsDG                             text    html    latex   example chm
  Ivsc                              text    html    latex   example chm
  SPIKE_IN                          text    html    latex   example chm
  SPIKE_IN95                        text    html    latex   example chm
  SPIKE_INA                         text    html    latex   example chm
  SPIKE_INB                         text    html    latex   example chm
  SPIKE_INH                         text    html    latex   example chm
  collapse                          text    html    latex   example chm
  conc133                           text    html    latex   example chm
  conc95                            text    html    latex   example chm
  hgu                               text    html    latex   example chm
  spikeLI.package                   text    html    latex           chm
Microsoft HTML Help Compiler 4.74.8702
Compiling e:\biocbld\bbs-2.2-bioc\meat\spikeLI.Rcheck\00_pkg_src\spikeLI\chm\spikeLI.chm
Compile time: 0 minutes, 0 seconds
13	Topics
113	Local links
0	Internet links
1	Graphic
Created e:\biocbld\bbs-2.2-bioc\meat\spikeLI.Rcheck\00_pkg_src\spikeLI\chm\spikeLI.chm, 26,684 bytes
Compression decreased file by 11,462 bytes.
  adding MD5 sums
* DONE (spikeLI)