splots 1.5.3 Oleg Sklyar
 | Snapshot Date: 2008-04-09 00:13:10 -0700 (Wed, 09 Apr 2008) |  | URL: https://hedgehog.fhcrc.org/bioconductor/trunk/madman/Rpacks/splots |  | Last Changed Rev: 30457 / Revision: 30951 |  | Last Changed Date: 2008-03-11 09:42:17 -0700 (Tue, 11 Mar 2008) |  
  | lamb1  | Linux (SUSE 10.1) / x86_64  |  OK  |  OK  |  | 
| wilson2  | Linux (openSUSE 10.3) / x86_64  | [ OK ] |  OK  |  | 
| wellington  | Linux (openSUSE 10.3) / i686  |  OK  |  OK  |  | 
| liverpool  | Windows Server 2003 R2 (32-bit) / x64  |  OK  |  OK  |  OK  | 
| pelham  | Mac OS X Leopard (10.5.1) / i386  |  OK  |  OK  |  OK  | 
* checking for file 'splots/DESCRIPTION' ... OK
* preparing 'splots':
* checking DESCRIPTION meta-information ... OK
* installing the package to re-build vignettes
* Installing *source* package 'splots' ...
** R
** inst
** preparing package for lazy loading
Loading required package: grid
** help
 >>> Building/Updating help pages for package 'splots'
     Formats: text html latex example 
  plotScreen                        text    html    latex   example
** building package indices ...
* DONE (splots)
* creating vignettes ... OK
* removing junk files
* checking for LF line-endings in source and make files
* checking for empty or unneeded directories
* building 'splots_1.5.3.tar.gz'