| Back to the "Multiple platform build/check report" | A B C D E [F] G H I J K L M N O P Q R S T U V W X Y Z | 
| Package 81/264 | Hostname | OS / Arch | BUILD | CHECK | BUILD BIN | ||||
| flowUtils 0.99.1 Florian Hahne 
  | lamb1 | Linux (SUSE 10.1) / x86_64 | OK | OK | |||||
| wilson2 | Linux (openSUSE 10.3) / x86_64 | OK | OK | ||||||
| wellington | Linux (openSUSE 10.3) / i686 | OK | OK | ||||||
| liverpool | Windows Server 2003 R2 (32-bit) / x64 | [ OK ] | WARNINGS | OK | |||||
| pelham | Mac OS X Leopard (10.5.1) / i386 | OK | OK | OK | 
| Package: flowUtils | 
| Version: 0.99.1 | 
| Command: E:\biocbld\bbs-2.2-bioc\R\bin\R.exe CMD build flowUtils | 
| StartedAt: 2008-04-09 03:52:39 -0700 (Wed, 09 Apr 2008) | 
| EndedAt: 2008-04-09 03:52:42 -0700 (Wed, 09 Apr 2008) | 
| EllapsedTime: 2.8 seconds | 
| RetCode: 0 | 
| Status: OK | 
| PackageFile: flowUtils_0.99.1.tar.gz | 
| PackageFileSize: 15 KiB | 
* checking for file 'flowUtils/DESCRIPTION' ... OK * preparing 'flowUtils': * checking DESCRIPTION meta-information ... OK * removing junk files * checking for LF line-endings in source and make files * checking for empty or unneeded directories * building 'flowUtils_0.99.1.tar.gz'