| LPE 1.13.0 Nitin Jain
 
 | Snapshot Date: 2008-04-09 00:13:10 -0700 (Wed, 09 Apr 2008) |  | URL: https://hedgehog.fhcrc.org/bioconductor/trunk/madman/Rpacks/LPE |  | Last Changed Rev: 30808 / Revision: 30951 |  | Last Changed Date: 2008-04-02 13:45:03 -0700 (Wed, 02 Apr 2008) | 
 | lamb1 | Linux (SUSE 10.1) / x86_64 | OK | OK |  | 
| wilson2 | Linux (openSUSE 10.3) / x86_64 | OK | OK |  | 
| wellington | Linux (openSUSE 10.3) / i686 | OK | OK |  | 
| liverpool | Windows Server 2003 R2 (32-bit) / x64 | OK | OK | [ OK ] | 
| pelham | Mac OS X Leopard (10.5.1) / i386 | OK | OK | OK | 
installing R.css in E:/biocbld/bbs-2.2-bioc/meat/LPE.buildbin-libdir
Using auto-selected zip options 'LPE-ZIPDATA=zip'
---------- Making package LPE ------------
  adding build stamp to DESCRIPTION
  installing R files
  installing inst files
  installing data files
  preparing package LPE for lazy loading
  installing man source files
  installing indices
  zipping data
  installing help
 >>> Building/Updating help pages for package 'LPE'
     Formats: text html latex example chm 
  Ley                               text    html    latex           chm
  am.trans                          text    html    latex   example chm
  baseOlig.error                    text    html    latex   example chm
  baseOlig.error.step1              text    html    latex   example chm
  baseOlig.error.step2              text    html    latex   example chm
  fdr.adjust                        text    html    latex   example chm
  fixbounds.predict.smooth.spline   text    html    latex   example chm
  iqr                               text    html    latex   example chm
  lowess.normalize                  text    html    latex   example chm
  lpe                               text    html    latex   example chm
  mt.rawp2adjp                      text    html    latex   example chm
  n.genes.adaptive.int              text    html    latex   example chm
  permute                           text    html    latex   example chm
  preprocess                        text    html    latex   example chm
  quan.norm                         text    html    latex   example chm
  quartile.normalize                text    html    latex   example chm
  resamp.adj                        text    html    latex   example chm
Microsoft HTML Help Compiler 4.74.8702
Compiling e:\biocbld\bbs-2.2-bioc\meat\R.INSTALL.6112\LPE\chm\LPE.chm
Compile time: 0 minutes, 0 seconds
18	Topics
46	Local links
2	Internet links
1	Graphic
Created e:\biocbld\bbs-2.2-bioc\meat\R.INSTALL.6112\LPE\chm\LPE.chm, 41,516 bytes
Compression decreased file by 30,112 bytes.
  adding MD5 sums
packaged installation of package 'LPE' as LPE_1.13.0.zip
* DONE (LPE)