| safe 2.0.1 William T. Barry
 
 | Snapshot Date: 2008-04-09 00:13:10 -0700 (Wed, 09 Apr 2008) |  | URL: https://hedgehog.fhcrc.org/bioconductor/trunk/madman/Rpacks/safe |  | Last Changed Rev: 30242 / Revision: 30951 |  | Last Changed Date: 2008-02-27 15:00:55 -0800 (Wed, 27 Feb 2008) | 
 | lamb1 | Linux (SUSE 10.1) / x86_64 | OK | OK |  | 
| wilson2 | Linux (openSUSE 10.3) / x86_64 | OK | OK |  | 
| wellington | Linux (openSUSE 10.3) / i686 | OK | OK |  | 
| liverpool | Windows Server 2003 R2 (32-bit) / x64 | [ OK ] | OK | OK | 
| pelham | Mac OS X Leopard (10.5.1) / i386 | OK | OK | OK | 
* checking for file 'safe/DESCRIPTION' ... OK
* preparing 'safe':
* checking DESCRIPTION meta-information ... OK
* installing the package to re-build vignettes
installing R.css in E:/biocbld/bbs-2.2-bioc/tmpdir/Rinst144405737
---------- Making package safe ------------
  adding build stamp to DESCRIPTION
  installing R files
  installing inst files
  preparing package safe for lazy loading
Loading required package: SparseM
Loading required package: GO
Loading required package: annotate
Loading required package: Biobase
Loading required package: tools
Welcome to Bioconductor
  Vignettes contain introductory material. To view, type
  'openVignette()'. To cite Bioconductor, see
  'citation("Biobase")' and for packages 'citation(pkgname)'.
Loading required package: AnnotationDbi
Loading required package: DBI
Loading required package: RSQLite
Loading required package: xtable
  installing man source files
  installing indices
  installing help
 >>> Building/Updating help pages for package 'safe'
     Formats: text html latex example chm 
  SAFE-class                        text    html    latex           chm
  gene.results                      text    html    latex           chm
  getCmatrix                        text    html    latex   example chm
  safe-internal                     text    html    latex           chm
  safe                              text    html    latex   example chm
  safedag                           text    html    latex           chm
  safeplot                          text    html    latex   example chm
Microsoft HTML Help Compiler 4.74.8702
Compiling e:\biocbld\bbs-2.2-bioc\meat\safe\chm\safe.chm
Compile time: 0 minutes, 0 seconds
8	Topics
29	Local links
0	Internet links
1	Graphic
Created e:\biocbld\bbs-2.2-bioc\meat\safe\chm\safe.chm, 30,717 bytes
Compression decreased file by 8,810 bytes.
  adding MD5 sums
* DONE (safe)
* creating vignettes ... OK
* removing junk files
* checking for LF line-endings in source and make files
* checking for empty or unneeded directories
* building 'safe_2.0.1.tar.gz'