| GOstats 2.5.2 Robert Gentleman
 
 | Snapshot Date: 2008-04-09 00:13:10 -0700 (Wed, 09 Apr 2008) |  | URL: https://hedgehog.fhcrc.org/bioconductor/trunk/madman/Rpacks/GOstats |  | Last Changed Rev: 30342 / Revision: 30951 |  | Last Changed Date: 2008-03-03 15:32:41 -0800 (Mon, 03 Mar 2008) | 
 | lamb1 | Linux (SUSE 10.1) / x86_64 | OK | OK |  | 
| wilson2 | Linux (openSUSE 10.3) / x86_64 | [ OK ] | OK |  | 
| wellington | Linux (openSUSE 10.3) / i686 | OK | OK |  | 
| liverpool | Windows Server 2003 R2 (32-bit) / x64 | OK | OK | OK | 
| pelham | Mac OS X Leopard (10.5.1) / i386 | OK | OK | OK | 
* checking for file 'GOstats/DESCRIPTION' ... OK
* preparing 'GOstats':
* checking DESCRIPTION meta-information ... OK
* installing the package to re-build vignettes
* Installing *source* package 'GOstats' ...
** R
** data
** inst
** preparing package for lazy loading
Loading required package: graph
Loading required package: GO.db
Loading required package: AnnotationDbi
Loading required package: Biobase
Loading required package: tools
Welcome to Bioconductor
  Vignettes contain introductory material. To view, type
  'openVignette()'. To cite Bioconductor, see
  'citation("Biobase")' and for packages 'citation(pkgname)'.
Loading required package: DBI
Loading required package: RSQLite
Loading required package: annotate
Loading required package: xtable
Loading required package: RBGL
Loading required package: Category
Loading required package: genefilter
Loading required package: survival
Loading required package: splines
** help
 >>> Building/Updating help pages for package 'GOstats'
     Formats: text html latex example 
  GOHyperG                          text    html    latex   example
  GOHyperGResult-class              text    html    latex
  GOLeaves                          text    html    latex   example
  GOstats-defunct                   text    html    latex
  GOstats-package                   text    html    latex
  Ndists                            text    html    latex   example
  compCorrGraph                     text    html    latex   example
  compGdist                         text    html    latex   example
  hyperGTest                        text    html    latex
  idx2dimnames                      text    html    latex   example
  makeGOGraph                       text    html    latex   example
  notConn                           text    html    latex   example
  oneGOGraph                        text    html    latex   example
  probeSetSummary                   text    html    latex   example
  shortestPath                      text    html    latex   example
  simLL                             text    html    latex   example
  termGraphs                        text    html    latex
  triadCensus                       text    html    latex   example
** building package indices ...
* DONE (GOstats)
* creating vignettes ... OK
* removing junk files
* checking for LF line-endings in source and make files
* checking for empty or unneeded directories
* building 'GOstats_2.5.2.tar.gz'