gpls 1.11.1 Biocore Team c/o BioC user list
 | Snapshot Date: 2008-04-09 00:13:10 -0700 (Wed, 09 Apr 2008) |  | URL: https://hedgehog.fhcrc.org/bioconductor/trunk/madman/Rpacks/gpls |  | Last Changed Rev: 30639 / Revision: 30951 |  | Last Changed Date: 2008-03-24 10:46:05 -0700 (Mon, 24 Mar 2008) |  
  | lamb1  | Linux (SUSE 10.1) / x86_64  |  OK  |  OK  |  | 
| wilson2  | Linux (openSUSE 10.3) / x86_64  |  OK  |  OK  |  | 
| wellington  | Linux (openSUSE 10.3) / i686  |  OK  |  OK  |  | 
| liverpool  | Windows Server 2003 R2 (32-bit) / x64  |  OK  |  OK  | [ OK ] | 
| pelham  | Mac OS X Leopard (10.5.1) / i386  |  OK  |  OK  |  OK  | 
installing R.css in E:/biocbld/bbs-2.2-bioc/meat/gpls.buildbin-libdir
Using auto-selected zip options ''
---------- Making package gpls ------------
  adding build stamp to DESCRIPTION
  installing NAMESPACE file and metadata
  installing R files
  installing inst files
  installing man source files
  installing indices
  installing help
Note: removing empty section \details
Note: removing empty section \note
Note: removing empty section \details
Note: removing empty section \note
Note: removing empty section \details
Note: removing empty section \note
Note: removing empty section \details
Note: removing empty section \note
Note: removing empty section \details
Note: removing empty section \note
Note: removing empty section \details
Note: removing empty section \note
Note: removing empty section \details
Note: removing empty section \note
Note: removing empty section \details
Note: removing empty section \note
Note: removing empty section \details
Note: removing empty section \note
Note: removing empty section \details
Note: removing empty section \note
Note: removing empty section \details
Note: removing empty section \note
Note: removing empty section \details
Note: removing empty section \note
 >>> Building/Updating help pages for package 'gpls'
     Formats: text html latex example chm 
  glpls1a                           text    html    latex   example chm
  glpls1a.cv.error                  text    html    latex   example chm
  glpls1a.logit.all                 text    html    latex   example chm
  glpls1a.mlogit                    text    html    latex   example chm
  glpls1a.mlogit.cv.error           text    html    latex   example chm
  glpls1a.train.test.error          text    html    latex   example chm
  gpls                              text    html    latex   example chm
  predict.gpls                      text    html    latex   example chm
Microsoft HTML Help Compiler 4.74.8702
Compiling e:\biocbld\bbs-2.2-bioc\meat\R.INSTALL.3104\gpls\chm\gpls.chm
Compile time: 0 minutes, 0 seconds
9	Topics
52	Local links
0	Internet links
1	Graphic
Created e:\biocbld\bbs-2.2-bioc\meat\R.INSTALL.3104\gpls\chm\gpls.chm, 25,583 bytes
Compression decreased file by 13,101 bytes.
  adding MD5 sums
packaged installation of package 'gpls' as gpls_1.11.1.zip
* DONE (gpls)