| spotSegmentation 1.13.0 Chris Fraley
 
 | Snapshot Date: 2008-04-09 00:13:10 -0700 (Wed, 09 Apr 2008) |  | URL: https://hedgehog.fhcrc.org/bioconductor/trunk/madman/Rpacks/spotSegmentation |  | Last Changed Rev: 30639 / Revision: 30951 |  | Last Changed Date: 2008-03-24 10:46:05 -0700 (Mon, 24 Mar 2008) | 
 | lamb1 | Linux (SUSE 10.1) / x86_64 | OK | OK |  | 
| wilson2 | Linux (openSUSE 10.3) / x86_64 | OK | OK |  | 
| wellington | Linux (openSUSE 10.3) / i686 | OK | OK |  | 
| liverpool | Windows Server 2003 R2 (32-bit) / x64 | OK | [ OK ] | OK | 
| pelham | Mac OS X Leopard (10.5.1) / i386 | OK | OK | OK | 
* checking for working pdflatex ... OK
* using log directory 'E:/biocbld/bbs-2.2-bioc/meat/spotSegmentation.Rcheck'
* using R version 2.7.0 Under development (unstable) (2008-03-10 r44730)
* using session charset: ISO8859-1
* checking for file 'spotSegmentation/DESCRIPTION' ... OK
* this is package 'spotSegmentation' version '1.13.0'
* checking package dependencies ... OK
* checking if this is a source package ... OK
* checking whether package 'spotSegmentation' can be installed ... OK
* checking package directory ... OK
* checking for portable file names ... OK
* checking DESCRIPTION meta-information ... OK
* checking top-level files ... OK
* checking index information ... OK
* checking package subdirectories ... OK
* checking R files for non-ASCII characters ... OK
* checking R files for syntax errors ... OK
* checking whether the package can be loaded ... OK
* checking whether the package can be loaded with stated dependencies ... OK
* checking for unstated dependencies in R code ... OK
* checking S3 generic/method consistency ... OK
* checking replacement functions ... OK
* checking foreign function calls ... OK
* checking R code for possible problems ... OK
* checking Rd files ... OK
* checking Rd cross-references ... OK
* checking for missing documentation entries ... OK
* checking for code/documentation mismatches ... OK
* checking Rd \usage sections ... OK
* checking data for non-ASCII characters ... OK
* creating spotSegmentation-Ex.R ... OK
* checking examples ... OK
* creating spotSegmentation-manual.tex ... OK
* checking spotSegmentation-manual.tex using pdflatex ... OK
 
installing R.css in E:/biocbld/bbs-2.2-bioc/meat/spotSegmentation.Rcheck
---------- Making package spotSegmentation ------------
  adding build stamp to DESCRIPTION
  installing R files
  installing inst files
  installing data files
  installing man source files
  installing indices
  not zipping data
  installing help
Note: removing empty section \author
Note: removing empty section \author
Note: removing empty section \author
Note: removing empty section \author
Note: removing empty section \author
Note: removing empty section \details
Note: removing empty section \note
Note: removing empty section \author
Note: removing empty section \details
Note: removing empty section \note
Note: removing empty section \author
Note: removing empty section \author
Note: removing empty section \author
Note: removing empty section \author
 >>> Building/Updating help pages for package 'spotSegmentation'
     Formats: text html latex example chm 
  plot.spotseg                      text    html    latex   example chm
  plotBlockImage                    text    html    latex   example chm
  spotSegTest                       text    html    latex           chm
  spotgrid                          text    html    latex   example chm
  spotseg                           text    html    latex   example chm
  summary.spotseg                   text    html    latex   example chm
Microsoft HTML Help Compiler 4.74.8702
Compiling e:\biocbld\bbs-2.2-bioc\meat\spotSegmentation.Rcheck\00_pkg_src\spotSegmentation\chm\spotSegmentation.chm
Compile time: 0 minutes, 0 seconds
7	Topics
19	Local links
1	Internet link
1	Graphic
Created e:\biocbld\bbs-2.2-bioc\meat\spotSegmentation.Rcheck\00_pkg_src\spotSegmentation\chm\spotSegmentation.chm, 24,079 bytes
Compression decreased file by 874 bytes.
  adding MD5 sums
* DONE (spotSegmentation)