| SAGElyzer 1.17.0 Jianhua Zhang
 
 | Snapshot Date: 2008-04-09 00:13:10 -0700 (Wed, 09 Apr 2008) |  | URL: https://hedgehog.fhcrc.org/bioconductor/trunk/madman/Rpacks/SAGElyzer |  | Last Changed Rev: 27716 / Revision: 30951 |  | Last Changed Date: 2007-10-02 18:16:39 -0700 (Tue, 02 Oct 2007) | 
 | lamb1 | Linux (SUSE 10.1) / x86_64 | OK | WARNINGS |  | 
| wilson2 | Linux (openSUSE 10.3) / x86_64 | OK | WARNINGS |  | 
| wellington | Linux (openSUSE 10.3) / i686 | OK | WARNINGS |  | 
| liverpool | Windows Server 2003 R2 (32-bit) / x64 | [ OK ] | WARNINGS | OK | 
| pelham | Mac OS X Leopard (10.5.1) / i386 | OK | WARNINGS | OK | 
* checking for file 'SAGElyzer/DESCRIPTION' ... OK
* preparing 'SAGElyzer':
* checking DESCRIPTION meta-information ... OK
* installing the package to re-build vignettes
installing R.css in E:/biocbld/bbs-2.2-bioc/tmpdir/Rinst150410891
---------- Making package SAGElyzer ------------
  adding build stamp to DESCRIPTION
  installing NAMESPACE file and metadata
  installing R files
  installing exec files
  installing inst files
  installing data files
  preparing package SAGElyzer for lazy loading
Loading required package: AnnBuilder
Loading required package: Biobase
Loading required package: tools
Welcome to Bioconductor
  Vignettes contain introductory material. To view, type
  'openVignette()'. To cite Bioconductor, see
  'citation("Biobase")' and for packages 'citation(pkgname)'.
Loading required package: XML
Loading required package: annotate
Loading required package: AnnotationDbi
Loading required package: DBI
Loading required package: RSQLite
Loading required package: xtable
Loading required package: tkWidgets
Loading required package: widgetTools
Loading required package: tcltk
Loading Tcl/Tk interface ... done
Attaching package: 'widgetTools'
	The following object(s) are masked from package:xtable :
	 label 
Loading required package: DynDoc
Loading required package: genefilter
Loading required package: survival
Loading required package: splines
  installing man source files
  installing indices
  not zipping data
  installing help
 >>> Building/Updating help pages for package 'SAGElyzer'
     Formats: text html latex example chm 
  SAGELyzer                         text    html    latex   example chm
  SAGEMapper                        text    html    latex   example chm
  SAGEToolTips                      text    html    latex   example chm
  SAGEWidget                        text    html    latex   example chm
  con4Win                           text    html    latex   example chm
  getGEOSAGE                        text    html    latex   example chm
  getNormFactor                     text    html    latex   example chm
  getTargetRow                      text    html    latex   example chm
  mergeSAGE                         text    html    latex   example chm
  mergeSAGEWidget                   text    html    latex   example chm
  querySAGE                         text    html    latex   example chm
  support                           text    html    latex   example chm
Microsoft HTML Help Compiler 4.74.8702
Compiling e:\biocbld\bbs-2.2-bioc\meat\SAGElyzer\chm\SAGElyzer.chm
Compile time: 0 minutes, 1 second
13	Topics
144	Local links
5	Internet links
1	Graphic
Created e:\biocbld\bbs-2.2-bioc\meat\SAGElyzer\chm\SAGElyzer.chm, 38,294 bytes
Compression decreased file by 35,560 bytes.
  adding MD5 sums
* DONE (SAGElyzer)
* creating vignettes ... OK
* removing junk files
* checking for LF line-endings in source and make files
* checking for empty or unneeded directories
* building 'SAGElyzer_1.17.0.tar.gz'