PCpheno 1.1.7 Nolwenn Le Meur
 | Snapshot Date: 2008-04-09 00:13:10 -0700 (Wed, 09 Apr 2008) |  | URL: https://hedgehog.fhcrc.org/bioconductor/trunk/madman/Rpacks/PCpheno |  | Last Changed Rev: 30475 / Revision: 30951 |  | Last Changed Date: 2008-03-12 02:42:41 -0700 (Wed, 12 Mar 2008) |  
  | lamb1  | Linux (SUSE 10.1) / x86_64  | [ OK ] |  OK  |  | 
| wilson2  | Linux (openSUSE 10.3) / x86_64  |  OK  |  OK  |  | 
| wellington  | Linux (openSUSE 10.3) / i686  |  OK  |  OK  |  | 
| liverpool  | Windows Server 2003 R2 (32-bit) / x64  |  OK  |  OK  |  OK  | 
| pelham  | Mac OS X Leopard (10.5.1) / i386  |  OK  |  OK  |  OK  | 
* checking for file 'PCpheno/DESCRIPTION' ... OK
* preparing 'PCpheno':
* checking DESCRIPTION meta-information ... OK
* installing the package to re-build vignettes
* Installing *source* package 'PCpheno' ...
** R
** data
** inst
** help
 >>> Building/Updating help pages for package 'PCpheno'
     Formats: text html latex example 
  CoHyperGParams-class              text    html    latex
  CoHyperGResult-class              text    html    latex   example
  Dudley                            text    html    latex   example
  Giaever                           text    html    latex   example
  HI                                text    html    latex   example
  KEGG2SCISI                        text    html    latex   example
  Kastenmayer                       text    html    latex   example
  Lesage                            text    html    latex   example
  Osterberg                         text    html    latex   example
  PCpheno.package                   text    html    latex
  SGDphenoL                         text    html    latex   example
  YEASTOHNOLOG                      text    html    latex   example
  buildFDMat                        text    html    latex   example
  categoryToEntrezBuilder           text    html    latex   example
  complexStatus                     text    html    latex   example
  deResult-class                    text    html    latex   example
  densityEstimate                   text    html    latex   example
  getDescr                          text    html    latex   example
  getFDgene                         text    html    latex   example
  graphTheory                       text    html    latex   example
  gtResult-class                    text    html    latex   example
  overlap                           text    html    latex   example
  plot                              text    html    latex   example
  ppiInteraction                    text    html    latex   example
  reduceM                           text    html    latex   example
  testResult-class                  text    html    latex
  truncName                         text    html    latex   example
** building package indices ...
* DONE (PCpheno)
* creating vignettes ... OK
* removing junk files
* checking for LF line-endings in source and make files
* checking for empty or unneeded directories
* building 'PCpheno_1.1.7.tar.gz'