| convert 1.15.1 Yee Hwa (Jean) Yang
 
 | Snapshot Date: 2008-04-09 00:13:10 -0700 (Wed, 09 Apr 2008) |  | URL: https://hedgehog.fhcrc.org/bioconductor/trunk/madman/Rpacks/convert |  | Last Changed Rev: 30235 / Revision: 30951 |  | Last Changed Date: 2008-02-27 11:46:09 -0800 (Wed, 27 Feb 2008) | 
 | lamb1 | Linux (SUSE 10.1) / x86_64 | OK | OK |  | 
| wilson2 | Linux (openSUSE 10.3) / x86_64 | [ OK ] | OK |  | 
| wellington | Linux (openSUSE 10.3) / i686 | OK | OK |  | 
| liverpool | Windows Server 2003 R2 (32-bit) / x64 | OK | OK | OK | 
| pelham | Mac OS X Leopard (10.5.1) / i386 | OK | OK | OK | 
* checking for file 'convert/DESCRIPTION' ... OK
* preparing 'convert':
* checking DESCRIPTION meta-information ... OK
* installing the package to re-build vignettes
* Installing *source* package 'convert' ...
** R
** inst
** help
 >>> Building/Updating help pages for package 'convert'
     Formats: text html latex example 
  coerce                            text    html    latex   example
** building package indices ...
* DONE (convert)
* creating vignettes ... OK
* removing junk files
* checking for LF line-endings in source and make files
* checking for empty or unneeded directories
* building 'convert_1.15.1.tar.gz'