| pdInfoBuilder 1.3.18 Vince Carey
 
 | Snapshot Date: 2008-04-09 00:13:10 -0700 (Wed, 09 Apr 2008) |  | URL: https://hedgehog.fhcrc.org/bioconductor/trunk/madman/Rpacks/pdInfoBuilder |  | Last Changed Rev: 30606 / Revision: 30951 |  | Last Changed Date: 2008-03-21 01:53:31 -0700 (Fri, 21 Mar 2008) | 
 | lamb1 | Linux (SUSE 10.1) / x86_64 | OK | WARNINGS |  | 
| wilson2 | Linux (openSUSE 10.3) / x86_64 | OK | WARNINGS |  | 
| wellington | Linux (openSUSE 10.3) / i686 | OK | WARNINGS |  | 
| liverpool | Windows Server 2003 R2 (32-bit) / x64 | [ OK ] | WARNINGS | OK | 
| pelham | Mac OS X Leopard (10.5.1) / i386 | OK | WARNINGS | OK | 
* checking for file 'pdInfoBuilder/DESCRIPTION' ... OK
* preparing 'pdInfoBuilder':
* checking DESCRIPTION meta-information ... OK
* cleaning src
* installing the package to re-build vignettes
installing R.css in E:/biocbld/bbs-2.2-bioc/tmpdir/Rinst394097537
---------- Making package pdInfoBuilder ------------
  adding build stamp to DESCRIPTION
  installing NAMESPACE file and metadata
  making DLL ...
making pdInfoBuilder.d from pdInfoBuilder.c
gcc  -std=gnu99  -Ie:/biocbld/bbs-2.2-bioc/R/include     -O3 -Wall  -c pdInfoBuilder.c -o pdInfoBuilder.o
windres --preprocessor="gcc -E -xc -DRC_INVOKED" -I e:/biocbld/bbs-2.2-bioc/R/include  -i pdInfoBuilder_res.rc -o pdInfoBuilder_res.o
gcc  -std=gnu99  -shared -s  -o pdInfoBuilder.dll pdInfoBuilder.def pdInfoBuilder.o pdInfoBuilder_res.o  -Le:/biocbld/bbs-2.2-bioc/R/bin    -lR
  ... DLL made
  installing DLL
  installing R files
  installing inst files
  preparing package pdInfoBuilder for lazy loading
Loading required package: Biobase
Loading required package: tools
Welcome to Bioconductor
  Vignettes contain introductory material. To view, type
  'openVignette()'. To cite Bioconductor, see
  'citation("Biobase")' and for packages 'citation(pkgname)'.
Loading required package: RSQLite
Loading required package: DBI
Loading required package: affxparser
Loading required package: oligo
Loading required package: splines
Loading required package: preprocessCore
Loading required package: AnnotationDbi
Loading required package: oligoClasses
This is the oligo package
  installing man source files
  installing indices
  installing help
Note: unmatched right brace in 'AffyTilingPDInfoPkgSeed-class' on or after line 41
Note: unmatched right brace in 'AffyTilingPDInfoPkgSeed-class.Rd' on or after line 41
 >>> Building/Updating help pages for package 'pdInfoBuilder'
     Formats: text html latex example chm 
  AffyExpressionPDInfoPkgSeed-class text    html    latex   example chm
  AffySNPCNVPDInfoPkgSeed-class     text    html    latex   example chm
  AffySNPPDInfoPkgSeed-class        text    html    latex   example chm
  AffyTilingPDInfoPkgSeed-class     text    html    latex   example chm
  NgsPDInfoPkgSeed-class            text    html    latex   example chm
  PDInfoPkgSeed-class               text    html    latex   example chm
  PkgSeed-class                     text    html    latex   example chm
  chipName                          text    html    latex           chm
  makePdInfoPackage                 text    html    latex   example chm
Microsoft HTML Help Compiler 4.74.8702
Compiling e:\biocbld\bbs-2.2-bioc\meat\pdInfoBuilder\chm\pdInfoBuilder.chm
Compile time: 0 minutes, 0 seconds
10	Topics
49	Local links
0	Internet links
1	Graphic
Created e:\biocbld\bbs-2.2-bioc\meat\pdInfoBuilder\chm\pdInfoBuilder.chm, 25,164 bytes
Compression decreased file by 16,574 bytes.
  adding MD5 sums
* DONE (pdInfoBuilder)
* creating vignettes ... OK
* cleaning src
* removing junk files
* checking for LF line-endings in source and make files
* checking for empty or unneeded directories
* building 'pdInfoBuilder_1.3.18.tar.gz'