| yaqcaffy 0.99.2 Laurent Gatto
 
 | Snapshot Date: 2008-04-09 00:13:10 -0700 (Wed, 09 Apr 2008) |  | URL: https://hedgehog.fhcrc.org/bioconductor/trunk/madman/Rpacks/yaqcaffy |  | Last Changed Rev: 30820 / Revision: 30951 |  | Last Changed Date: 2008-04-03 08:12:45 -0700 (Thu, 03 Apr 2008) | 
 | lamb1 | Linux (SUSE 10.1) / x86_64 | OK | ERROR |  | 
| wilson2 | Linux (openSUSE 10.3) / x86_64 | [ OK ] | ERROR |  | 
| wellington | Linux (openSUSE 10.3) / i686 | OK | ERROR |  | 
| liverpool | Windows Server 2003 R2 (32-bit) / x64 | OK | OK | OK | 
| pelham | Mac OS X Leopard (10.5.1) / i386 | OK | ERROR | OK | 
* checking for file 'yaqcaffy/DESCRIPTION' ... OK
* preparing 'yaqcaffy':
* checking DESCRIPTION meta-information ... OK
* installing the package to re-build vignettes
* Installing *source* package 'yaqcaffy' ...
** R
** data
** inst
** preparing package for lazy loading
Loading required package: simpleaffy
Loading required package: affy
Loading required package: Biobase
Loading required package: tools
Welcome to Bioconductor
  Vignettes contain introductory material. To view, type
  'openVignette()'. To cite Bioconductor, see
  'citation("Biobase")' and for packages 'citation(pkgname)'.
Loading required package: affyio
Loading required package: preprocessCore
Loading required package: genefilter
Loading required package: survival
Loading required package: splines
Loading required package: gcrma
Loading required package: matchprobes
KernSmooth 2.22 installed
Copyright M. P. Wand 1997
Creating a new generic function for "merge" in "yaqcaffy"
** help
 >>> Building/Updating help pages for package 'yaqcaffy'
     Formats: text html latex example 
  YAQCStats-accessor                text    html    latex
  YAQCStats-class                   text    html    latex
  getAllInt                         text    html    latex   example
  getBioProbes                      text    html    latex   example
  getOutliers                       text    html    latex   example
  getQCRatios                       text    html    latex   example
  getRatioProbes                    text    html    latex   example
  getSpikeProbes                    text    html    latex   example
  morespikes                        text    html    latex
  reprodPlot                        text    html    latex   example
  yaqc-methods                      text    html    latex
  yaqc.affy                         text    html    latex   example
  yaqc.plot                         text    html    latex   example
** building package indices ...
* DONE (yaqcaffy)
* creating vignettes ... OK
* removing junk files
* checking for LF line-endings in source and make files
* checking for empty or unneeded directories
* building 'yaqcaffy_0.99.2.tar.gz'