| tkWidgets 1.17.1 J. Zhang
 
 | Snapshot Date: 2008-04-09 00:13:10 -0700 (Wed, 09 Apr 2008) |  | URL: https://hedgehog.fhcrc.org/bioconductor/trunk/madman/Rpacks/tkWidgets |  | Last Changed Rev: 30622 / Revision: 30951 |  | Last Changed Date: 2008-03-21 16:44:02 -0700 (Fri, 21 Mar 2008) | 
 | lamb1 | Linux (SUSE 10.1) / x86_64 | OK | OK |  | 
| wilson2 | Linux (openSUSE 10.3) / x86_64 | OK | OK |  | 
| wellington | Linux (openSUSE 10.3) / i686 | OK | OK |  | 
| liverpool | Windows Server 2003 R2 (32-bit) / x64 | OK | OK | [ OK ] | 
| pelham | Mac OS X Leopard (10.5.1) / i386 | OK | OK | OK | 
installing R.css in E:/biocbld/bbs-2.2-bioc/meat/tkWidgets.buildbin-libdir
Using auto-selected zip options ' tkWidgets-HELP=ziponly'
---------- Making package tkWidgets ------------
  adding build stamp to DESCRIPTION
  installing NAMESPACE file and metadata
  installing R files
  installing inst files
  preparing package tkWidgets for lazy loading
Loading required package: widgetTools
Loading required package: tcltk
Loading Tcl/Tk interface ... done
Loading required package: Biobase
Loading required package: tools
Welcome to Bioconductor
  Vignettes contain introductory material. To view, type
  'openVignette()'. To cite Bioconductor, see
  'citation("Biobase")' and for packages 'citation(pkgname)'.
Loading required package: DynDoc
  installing man source files
  installing indices
  installing help
 >>> Building/Updating help pages for package 'tkWidgets'
     Formats: text html latex example chm 
  DPExplorer                        text    html    latex   example chm
  WName                             text    html    latex   example chm
  appendSepDir                      text    html    latex   example chm
  args2XML                          text    html    latex   example chm
  argsWidget                        text    html    latex   example chm
  colInfo-class                     text    html    latex   example chm
  dataViewer                        text    html    latex   example chm
  dbArgsWidget                      text    html    latex   example chm
  eExplorer                         text    html    latex   example chm
  fileBrowser                       text    html    latex   example chm
  fileWizard                        text    html    latex   example chm
  getLightTW                        text    html    latex   example chm
  getWvalues                        text    html    latex   example chm
  guess.sep                         text    html    latex   example chm
  hasChar                           text    html    latex   example chm
  importPhenoData                   text    html    latex   example chm
  importWizard                      text    html    latex   example chm
  listSelect                        text    html    latex   example chm
  objNameToList                     text    html    latex   example chm
  objViewer                         text    html    latex   example chm
  objectBrowser                     text    html    latex   example chm
  pExplorer                         text    html    latex   example chm
  pickFiles                         text    html    latex   example chm
  pickItems                         text    html    latex   example chm
  pickObjs                          text    html    latex   example chm
  setArgsList                       text    html    latex   example chm
  stdType                           text    html    latex   example chm
  tkMIAME                           text    html    latex           chm
  tkSampleNames                     text    html    latex           chm
  tkphenoData                       text    html    latex           chm
  vExplorer                         text    html    latex   example chm
  values.Widget                     text    html    latex   example chm
  widgetRender                      text    html    latex   example chm
  zipping help files
Microsoft HTML Help Compiler 4.74.8702
Compiling e:\biocbld\bbs-2.2-bioc\meat\R.INSTALL.2460\tkWidgets\chm\tkWidgets.chm
Compile time: 0 minutes, 1 second
34	Topics
322	Local links
4	Internet links
1	Graphic
Created e:\biocbld\bbs-2.2-bioc\meat\R.INSTALL.2460\tkWidgets\chm\tkWidgets.chm, 71,510 bytes
Compression decreased file by 104,347 bytes.
  adding MD5 sums
packaged installation of package 'tkWidgets' as tkWidgets_1.17.1.zip
* DONE (tkWidgets)