explorase 1.3.6 Michael Lawrence
 | Snapshot Date: 2008-04-09 00:13:10 -0700 (Wed, 09 Apr 2008) |  | URL: https://hedgehog.fhcrc.org/bioconductor/trunk/madman/Rpacks/explorase |  | Last Changed Rev: 30664 / Revision: 30951 |  | Last Changed Date: 2008-03-25 10:40:39 -0700 (Tue, 25 Mar 2008) |  
  | lamb1  | Linux (SUSE 10.1) / x86_64  |  OK  |  OK  |  | 
| wilson2  | Linux (openSUSE 10.3) / x86_64  |  OK  |  OK  |  | 
| wellington  | Linux (openSUSE 10.3) / i686  |  OK  |  OK  |  | 
| liverpool  | Windows Server 2003 R2 (32-bit) / x64  |  OK  |  OK  |  OK  | 
| pelham  | Mac OS X Leopard (10.5.1) / i386  | [ ERROR ] |  skipped  |  skipped  | 
* checking for file 'explorase/DESCRIPTION' ... OK
* preparing 'explorase':
* checking DESCRIPTION meta-information ... OK
* installing the package to re-build vignettes
* Installing *source* package 'explorase' ...
** R
** inst
** preparing package for lazy loading
Error in loadNamespace(i, c(lib.loc, .libPaths())) : 
  there is no package called 'rggobi'
Calls: <Anonymous> ... code2LazyLoadDB -> loadNamespace -> namespaceImport -> loadNamespace
Execution halted
ERROR: lazy loading failed for package 'explorase'
** Removing '/tmp/Rinst2034374609/explorase'
 ERROR
Installation failed.
Removing '/tmp/Rinst2034374609'