| sagenhaft 1.9.0 Tim Beissbarth
 
 | Snapshot Date: 2008-04-09 00:13:10 -0700 (Wed, 09 Apr 2008) |  | URL: https://hedgehog.fhcrc.org/bioconductor/trunk/madman/Rpacks/sagenhaft |  | Last Changed Rev: 30639 / Revision: 30951 |  | Last Changed Date: 2008-03-24 10:46:05 -0700 (Mon, 24 Mar 2008) | 
 | lamb1 | Linux (SUSE 10.1) / x86_64 | OK | OK |  | 
| wilson2 | Linux (openSUSE 10.3) / x86_64 | OK | OK |  | 
| wellington | Linux (openSUSE 10.3) / i686 | OK | OK |  | 
| liverpool | Windows Server 2003 R2 (32-bit) / x64 | OK | OK | OK | 
| pelham | Mac OS X Leopard (10.5.1) / i386 | OK | OK | [ OK ] | 
                INSTALLATION WITH 'R CMD INSTALL sagenhaft_1.9.0.tar.gz'
* Installing to library 'sagenhaft.buildbin-libdir'
* Installing *source* package 'sagenhaft' ...
** R
** data
** inst
** preparing package for lazy loading
Loading required package: SparseM
Package SparseM (0.77) loaded.  To cite, see citation("SparseM")
** help
 >>> Building/Updating help pages for package 'sagenhaft'
     Formats: text html latex example 
  error.correction                  text    html    latex   example
  extract.lib                       text    html    latex   example
  sage.library                      text    html    latex   example
  sage.library.comparison           text    html    latex   example
  sage.test                         text    html    latex   example
  sage.utilities                    text    html    latex   example
  sagelibrary.simulate              text    html    latex   example
** building package indices ...
* DONE (sagenhaft)