GeneticsDesign 1.5.0 Weiliang Qiu
 | Snapshot Date: 2008-04-09 00:13:10 -0700 (Wed, 09 Apr 2008) |  | URL: https://hedgehog.fhcrc.org/bioconductor/trunk/madman/Rpacks/GeneticsDesign |  | Last Changed Rev: 29703 / Revision: 30951 |  | Last Changed Date: 2008-01-25 12:40:16 -0800 (Fri, 25 Jan 2008) |  
  | lamb1  | Linux (SUSE 10.1) / x86_64  | [ OK ] |  ERROR  |  | 
| wilson2  | Linux (openSUSE 10.3) / x86_64  |  OK  |  ERROR  |  | 
| wellington  | Linux (openSUSE 10.3) / i686  |  OK  |  ERROR  |  | 
| liverpool  | Windows Server 2003 R2 (32-bit) / x64  |  OK  |  ERROR  |  OK  | 
| pelham  | Mac OS X Leopard (10.5.1) / i386  |  OK  |  ERROR  |  OK  | 
* checking for file 'GeneticsDesign/DESCRIPTION' ... OK
* preparing 'GeneticsDesign':
* checking DESCRIPTION meta-information ... OK
* installing the package to re-build vignettes
* Installing *source* package 'GeneticsDesign' ...
** R
** inst
** help
Note: removing empty section \details
 >>> Building/Updating help pages for package 'GeneticsDesign'
     Formats: text html latex example 
  GPC                               text    html    latex   example
  gregorius                         text    html    latex   example
  power.casectlr                    text    html    latex   example
  power.genotype.conti              text    html    latex   example
** building package indices ...
* DONE (GeneticsDesign)
* creating vignettes ... OK
* removing junk files
* checking for LF line-endings in source and make files
* checking for empty or unneeded directories
* building 'GeneticsDesign_1.5.0.tar.gz'