hypergraph 1.11.1 Robert Gentleman
 | Snapshot Date: 2008-04-09 00:13:10 -0700 (Wed, 09 Apr 2008) |  | URL: https://hedgehog.fhcrc.org/bioconductor/trunk/madman/Rpacks/hypergraph |  | Last Changed Rev: 30446 / Revision: 30951 |  | Last Changed Date: 2008-03-10 17:05:33 -0700 (Mon, 10 Mar 2008) |  
  | lamb1  | Linux (SUSE 10.1) / x86_64  |  OK  |  OK  |  | 
| wilson2  | Linux (openSUSE 10.3) / x86_64  |  OK  |  OK  |  | 
| wellington  | Linux (openSUSE 10.3) / i686  |  OK  |  OK  |  | 
| liverpool  | Windows Server 2003 R2 (32-bit) / x64  |  OK  |  OK  | [ OK ] | 
| pelham  | Mac OS X Leopard (10.5.1) / i386  |  OK  |  OK  |  OK  | 
installing R.css in E:/biocbld/bbs-2.2-bioc/meat/hypergraph.buildbin-libdir
Using auto-selected zip options ''
---------- Making package hypergraph ------------
  adding build stamp to DESCRIPTION
  installing NAMESPACE file and metadata
  installing R files
  installing inst files
  preparing package hypergraph for lazy loading
Loading required package: graph
  installing man source files
  installing indices
  installing help
Note: removing empty section \seealso
Note: removing empty section \seealso
Note: removing empty section \seealso
Note: removing empty section \seealso
 >>> Building/Updating help pages for package 'hypergraph'
     Formats: text html latex example chm 
  DirectedHyperedge-class           text    html    latex   example chm
  DirectedHyperedge                 text    html    latex           chm
  Hyperedge-class                   text    html    latex   example chm
  Hyperedge                         text    html    latex           chm
  Hypergraph-class                  text    html    latex   example chm
  Hypergraph                        text    html    latex           chm
  kCores                            text    html    latex   example chm
  l2hel                             text    html    latex   example chm
  vCover                            text    html    latex   example chm
Microsoft HTML Help Compiler 4.74.8702
Compiling e:\biocbld\bbs-2.2-bioc\meat\R.INSTALL.4204\hypergraph\chm\hypergraph.chm
Compile time: 0 minutes, 0 seconds
10	Topics
75	Local links
0	Internet links
1	Graphic
Created e:\biocbld\bbs-2.2-bioc\meat\R.INSTALL.4204\hypergraph\chm\hypergraph.chm, 24,589 bytes
Compression decreased file by 14,847 bytes.
  adding MD5 sums
packaged installation of package 'hypergraph' as hypergraph_1.11.1.zip
* DONE (hypergraph)