| SNPchip 1.3.22 Robert Scharpf
 
 | Snapshot Date: 2008-04-09 00:13:10 -0700 (Wed, 09 Apr 2008) |  | URL: https://hedgehog.fhcrc.org/bioconductor/trunk/madman/Rpacks/SNPchip |  | Last Changed Rev: 30868 / Revision: 30951 |  | Last Changed Date: 2008-04-05 10:27:49 -0700 (Sat, 05 Apr 2008) | 
 | lamb1 | Linux (SUSE 10.1) / x86_64 | OK | OK |  | 
| wilson2 | Linux (openSUSE 10.3) / x86_64 | OK | OK |  | 
| wellington | Linux (openSUSE 10.3) / i686 | [ OK ] | OK |  | 
| liverpool | Windows Server 2003 R2 (32-bit) / x64 | OK | WARNINGS | OK | 
| pelham | Mac OS X Leopard (10.5.1) / i386 | OK | OK | OK | 
* checking for file 'SNPchip/DESCRIPTION' ... OK
* preparing 'SNPchip':
* checking DESCRIPTION meta-information ... OK
* installing the package to re-build vignettes
* Installing *source* package 'SNPchip' ...
** R
** data
** inst
** preparing package for lazy loading
Loading required package: Biobase
Loading required package: tools
Welcome to Bioconductor
  Vignettes contain introductory material. To view, type
  'openVignette()'. To cite Bioconductor, see
  'citation("Biobase")' and for packages 'citation(pkgname)'.
Loading required package: oligoClasses
Creating a new generic function for "summary" in "SNPchip"
** help
Note: removing empty section \source
Note: removing empty section \details
Note: removing empty section \references
Note: removing empty section \author
Note: removing empty section \details
Note: removing empty section \note
Note: removing empty section \references
Note: removing empty section \examples
Note: removing empty section \seealso
Note: removing empty section \value
Note: removing empty section \details
Note: removing empty section \note
Note: removing empty section \references
Note: removing empty section \examples
Note: removing empty section \note
Note: removing empty section \references
Note: removing empty section \examples
Note: removing empty section \seealso
 >>> Building/Updating help pages for package 'SNPchip'
     Formats: text html latex example 
  HmmPredict-class                  text    html    latex   example
  ParESet-class                     text    html    latex   example
  ParSnpCallSet-class               text    html    latex   example
  ParSnpCopyNumberSet-class         text    html    latex   example
  ParSnpSet-class                   text    html    latex   example
  RatioSnpSet-class                 text    html    latex   example
  RatioSnpSet-methods               text    html    latex
  addFeatureData-method             text    html    latex
  allPlots-methods                  text    html    latex
  alleleA                           text    html    latex
  alleleB                           text    html    latex
  centromere                        text    html    latex   example
  chromosome2numeric                text    html    latex
  chromosomeAnnotation              text    html    latex   example
  chromosomeSize                    text    html    latex   example
  coerce-methods                    text    html    latex
  crlmmOut                          text    html    latex   example
  cytoband                          text    html    latex   example
  dbSnpId                           text    html    latex   example
  enzyme                            text    html    latex
  featureData-accessors             text    html    latex
  fragmentLength                    text    html    latex
  getPar                            text    html    latex   example
  hapmap                            text    html    latex   example
  initialize-methods                text    html    latex
  plotCytoband                      text    html    latex   example
  plotPredictions                   text    html    latex   example
  plotSnp                           text    html    latex   example
  sample.snpset                     text    html    latex   example
  selectSomeIndex                   text    html    latex
  show-methods                      text    html    latex
  showSummary                       text    html    latex
  smoothSnp                         text    html    latex
  snpPar                            text    html    latex   example
  summary-methods                   text    html    latex
  updateObject-methods              text    html    latex
** building package indices ...
* DONE (SNPchip)
* creating vignettes ... OK
* removing junk files
* excluding invalid files from 'SNPchip'
Subdirectory 'man' contains invalid file names:
  .calculateYlim.Rd
* checking for LF line-endings in source and make files
* checking for empty or unneeded directories
* building 'SNPchip_1.3.22.tar.gz'