| plgem 1.11.2 Mattia Pelizzola
 
 | Snapshot Date: 2008-04-09 00:13:10 -0700 (Wed, 09 Apr 2008) |  | URL: https://hedgehog.fhcrc.org/bioconductor/trunk/madman/Rpacks/plgem |  | Last Changed Rev: 30644 / Revision: 30951 |  | Last Changed Date: 2008-03-24 14:14:44 -0700 (Mon, 24 Mar 2008) | 
 | lamb1 | Linux (SUSE 10.1) / x86_64 | OK | OK |  | 
| wilson2 | Linux (openSUSE 10.3) / x86_64 | OK | OK |  | 
| wellington | Linux (openSUSE 10.3) / i686 | OK | OK |  | 
| liverpool | Windows Server 2003 R2 (32-bit) / x64 | OK | OK | OK | 
| pelham | Mac OS X Leopard (10.5.1) / i386 | OK | OK | [ OK ] | 
                INSTALLATION WITH 'R CMD INSTALL plgem_1.11.2.tar.gz'
* Installing to library 'plgem.buildbin-libdir'
* Installing *source* package 'plgem' ...
** R
** data
** inst
** help
 >>> Building/Updating help pages for package 'plgem'
     Formats: text html latex example 
  LPSeset                           text    html    latex   example
  plgem.deg                         text    html    latex   example
  plgem.fit                         text    html    latex   example
  plgem.obsStn                      text    html    latex   example
  plgem.pValue                      text    html    latex   example
  plgem.write.summary               text    html    latex   example
  run.plgem                         text    html    latex   example
** building package indices ...
* DONE (plgem)