| pcot2 1.7.1 Sarah Song
 
 | Snapshot Date: 2008-04-09 00:13:10 -0700 (Wed, 09 Apr 2008) |  | URL: https://hedgehog.fhcrc.org/bioconductor/trunk/madman/Rpacks/pcot2 |  | Last Changed Rev: 30543 / Revision: 30951 |  | Last Changed Date: 2008-03-16 14:41:25 -0700 (Sun, 16 Mar 2008) | 
 | lamb1 | Linux (SUSE 10.1) / x86_64 | OK | OK |  | 
| wilson2 | Linux (openSUSE 10.3) / x86_64 | OK | OK |  | 
| wellington | Linux (openSUSE 10.3) / i686 | OK | OK |  | 
| liverpool | Windows Server 2003 R2 (32-bit) / x64 | OK | OK | [ OK ] | 
| pelham | Mac OS X Leopard (10.5.1) / i386 | OK | OK | OK | 
installing R.css in E:/biocbld/bbs-2.2-bioc/meat/pcot2.buildbin-libdir
Using auto-selected zip options ''
---------- Making package pcot2 ------------
  adding build stamp to DESCRIPTION
  installing R files
  installing inst files
  installing man source files
  installing indices
  installing help
Note: removing empty section \note
Note: removing empty section \note
 >>> Building/Updating help pages for package 'pcot2'
     Formats: text html latex example chm 
  aveProbe                          text    html    latex   example chm
  corplot                           text    html    latex   example chm
  corplot2                          text    html    latex   example chm
  getImat                           text    html    latex   example chm
  pcot2-internal                    text    html    latex           chm
  pcot2                             text    html    latex   example chm
Microsoft HTML Help Compiler 4.74.8702
Compiling e:\biocbld\bbs-2.2-bioc\meat\R.INSTALL.4452\pcot2\chm\pcot2.chm
Compile time: 0 minutes, 0 seconds
7	Topics
27	Local links
0	Internet links
1	Graphic
Created e:\biocbld\bbs-2.2-bioc\meat\R.INSTALL.4452\pcot2\chm\pcot2.chm, 25,738 bytes
Compression decreased file by 4,172 bytes.
  adding MD5 sums
packaged installation of package 'pcot2' as pcot2_1.7.1.zip
* DONE (pcot2)