| quantsmooth 1.5.4 Jan Oosting
 
 | Snapshot Date: 2008-04-09 00:13:10 -0700 (Wed, 09 Apr 2008) |  | URL: https://hedgehog.fhcrc.org/bioconductor/trunk/madman/Rpacks/quantsmooth |  | Last Changed Rev: 30914 / Revision: 30951 |  | Last Changed Date: 2008-04-08 08:24:36 -0700 (Tue, 08 Apr 2008) | 
 | lamb1 | Linux (SUSE 10.1) / x86_64 | OK | WARNINGS |  | 
| wilson2 | Linux (openSUSE 10.3) / x86_64 | OK | WARNINGS |  | 
| wellington | Linux (openSUSE 10.3) / i686 | [ OK ] | WARNINGS |  | 
| liverpool | Windows Server 2003 R2 (32-bit) / x64 | OK | WARNINGS | OK | 
| pelham | Mac OS X Leopard (10.5.1) / i386 | OK | WARNINGS | OK | 
* checking for file 'quantsmooth/DESCRIPTION' ... OK
* preparing 'quantsmooth':
* checking DESCRIPTION meta-information ... OK
* installing the package to re-build vignettes
* Installing *source* package 'quantsmooth' ...
** R
** data
** inst
** preparing package for lazy loading
Loading required package: quantreg
Loading required package: SparseM
Package SparseM (0.77) loaded.  To cite, see citation("SparseM")
Loading required package: lodplot
Loading required package: grid
** help
Note: removing empty section \value
Note: removing empty section \details
Note: removing empty section \details
Note: removing empty section \details
Note: removing empty section \details
 >>> Building/Updating help pages for package 'quantsmooth'
     Formats: text html latex example 
  Chromosome14                      text    html    latex
  drawSimpleChrom                   text    html    latex   example
  getChangedIdx                     text    html    latex
  getChangedRegions                 text    html    latex   example
  getLambdaMin                      text    html    latex   example
  lengthChromosome                  text    html    latex   example
  numericCHR                        text    html    latex   example
  paintCytobands                    text    html    latex   example
  plotChromosome                    text    html    latex
  plotSmoothed                      text    html    latex   example
  prepareGenomePlot                 text    html    latex
  quantsmooth                       text    html    latex   example
  quantsmooth.cv                    text    html    latex   example
  quantsmooth.seg                   text    html    latex   example
  scaleto                           text    html    latex
** building package indices ...
* DONE (quantsmooth)
* creating vignettes ... OK
* removing junk files
* checking for LF line-endings in source and make files
* checking for empty or unneeded directories
* building 'quantsmooth_1.5.4.tar.gz'