| rama 1.12.0 Raphael Gottardo
 
 | Snapshot Date: 2008-04-09 00:13:10 -0700 (Wed, 09 Apr 2008) |  | URL: https://hedgehog.fhcrc.org/bioconductor/trunk/madman/Rpacks/rama |  | Last Changed Rev: 30639 / Revision: 30951 |  | Last Changed Date: 2008-03-24 10:46:05 -0700 (Mon, 24 Mar 2008) | 
 | lamb1 | Linux (SUSE 10.1) / x86_64 | [ OK ] | OK |  | 
| wilson2 | Linux (openSUSE 10.3) / x86_64 | OK | OK |  | 
| wellington | Linux (openSUSE 10.3) / i686 | OK | OK |  | 
| liverpool | Windows Server 2003 R2 (32-bit) / x64 | OK | OK | OK | 
| pelham | Mac OS X Leopard (10.5.1) / i386 | OK | OK | OK | 
* checking for file 'rama/DESCRIPTION' ... OK
* preparing 'rama':
* checking DESCRIPTION meta-information ... OK
* cleaning src
* installing the package to re-build vignettes
* Installing *source* package 'rama' ...
** libs
gcc -std=gnu99 -I/home/biocbuild/bbs-2.2-bioc/R/include -I/home/biocbuild/bbs-2.2-bioc/R/include  -I/usr/local/include    -fpic  -g -O2 -Wall -c estimation_slice.c -o estimation_slice.o
estimation_slice.c: In function 'mcmc_shift':
estimation_slice.c:122: warning: unused variable 'SSeps_sd_new'
estimation_slice.c:121: warning: unused variable 'SSeps_sd'
estimation_slice.c:117: warning: unused variable 'pi'
estimation_slice.c:116: warning: unused variable 'SS12'
estimation_slice.c:116: warning: unused variable 'SSR2'
estimation_slice.c:116: warning: unused variable 'SSR1'
estimation_slice.c:115: warning: unused variable 'dens_epsilon_new'
estimation_slice.c:115: warning: unused variable 'dens_epsilon'
estimation_slice.c:114: warning: unused variable 'l_epsilon_new'
estimation_slice.c:114: warning: unused variable 'l_epsilon'
estimation_slice.c:113: warning: unused variable 'lambda_eps2_new'
estimation_slice.c:113: warning: unused variable 'lambda_eps1_new'
estimation_slice.c: In function 'slice_sampling_lambda_eps':
estimation_slice.c:484: warning: suggest parentheses around comparison in operand of &
estimation_slice.c:493: warning: suggest parentheses around comparison in operand of &
gcc -std=gnu99 -I/home/biocbuild/bbs-2.2-bioc/R/include -I/home/biocbuild/bbs-2.2-bioc/R/include  -I/usr/local/include    -fpic  -g -O2 -Wall -c ex_estimation_slice.c -o ex_estimation_slice.o
ex_estimation_slice.c: In function 'mcmc':
ex_estimation_slice.c:144: warning: unused variable 'old_a'
ex_estimation_slice.c:143: warning: unused variable 'old_b'
ex_estimation_slice.c:138: warning: unused variable 'sum_res2'
ex_estimation_slice.c:137: warning: unused variable 'sum_res1'
ex_estimation_slice.c:119: warning: unused variable 'dens_t_new'
ex_estimation_slice.c:119: warning: unused variable 'dens_t'
ex_estimation_slice.c:112: warning: unused variable 'pi'
gcc -std=gnu99 -I/home/biocbuild/bbs-2.2-bioc/R/include -I/home/biocbuild/bbs-2.2-bioc/R/include  -I/usr/local/include    -fpic  -g -O2 -Wall -c mean.sd.c -o mean.sd.o
gcc -std=gnu99 -I/home/biocbuild/bbs-2.2-bioc/R/include -I/home/biocbuild/bbs-2.2-bioc/R/include  -I/usr/local/include    -fpic  -g -O2 -Wall -c reorder.c -o reorder.o
gcc -std=gnu99 -I/home/biocbuild/bbs-2.2-bioc/R/include -I/home/biocbuild/bbs-2.2-bioc/R/include  -I/usr/local/include    -fpic  -g -O2 -Wall -c util.c -o util.o
util.c: In function 'product_mat_vec':
util.c:574: warning: unused variable 'k'
util.c: In function 'slice_sampling_a':
util.c:629: warning: suggest parentheses around comparison in operand of |
util.c:629: warning: suggest parentheses around comparison in operand of &
util.c:636: warning: suggest parentheses around comparison in operand of &
util.c:643: warning: suggest parentheses around comparison in operand of &
util.c:613: warning: unused variable 'v'
util.c: In function 'slice_sampling_b':
util.c:703: warning: suggest parentheses around comparison in operand of |
util.c:703: warning: suggest parentheses around comparison in operand of &
util.c:710: warning: suggest parentheses around comparison in operand of &
util.c:717: warning: suggest parentheses around comparison in operand of &
util.c:686: warning: unused variable 'v'
util.c: In function 'slice_sampling_b2':
util.c:767: warning: suggest parentheses around comparison in operand of &
util.c:775: warning: suggest parentheses around comparison in operand of &
util.c: In function 'slice_sampling_a2':
util.c:822: warning: suggest parentheses around comparison in operand of &
util.c:830: warning: suggest parentheses around comparison in operand of &
util.c: In function 'slice_sampling_rho':
util.c:876: warning: suggest parentheses around comparison in operand of |
util.c:876: warning: suggest parentheses around comparison in operand of &
util.c:883: warning: suggest parentheses around comparison in operand of &
util.c:890: warning: suggest parentheses around comparison in operand of &
util.c:860: warning: unused variable 'v'
util.c: In function 'slice_sampling_rho2':
util.c:935: warning: suggest parentheses around comparison in operand of &
util.c:944: warning: suggest parentheses around comparison in operand of &
util.c: In function 'slice_sampling_shift':
util.c:1019: warning: suggest parentheses around comparison in operand of |
util.c:1019: warning: suggest parentheses around comparison in operand of &
util.c:1026: warning: suggest parentheses around comparison in operand of &
util.c:1033: warning: suggest parentheses around comparison in operand of &
util.c:1000: warning: unused variable 'v'
util.c: In function 'slice_sampling_shift2':
util.c:1100: warning: suggest parentheses around comparison in operand of &
util.c:1108: warning: suggest parentheses around comparison in operand of &
util.c:1082: warning: unused variable 'v'
util.c: In function 'slice_sampling_p':
util.c:1248: warning: suggest parentheses around comparison in operand of &
util.c:1256: warning: suggest parentheses around comparison in operand of &
gcc -std=gnu99 -shared -L/usr/local/lib64 -o rama.so estimation_slice.o ex_estimation_slice.o mean.sd.o reorder.o util.o   -L/home/biocbuild/bbs-2.2-bioc/R/lib -lR
** R
** data
** inst
** help
Note: ignoring empty \keyword entries
Note: removing empty section \details
 >>> Building/Updating help pages for package 'rama'
     Formats: text html latex example 
  arrange.row                       text    html    latex   example
  est.shift                         text    html    latex   example
  fit.model                         text    html    latex   example
  hiv                               text    html    latex
  is.row.na                         text    html    latex   example
  ls.effect                         text    html    latex   example
  mat.mean                          text    html    latex   example
  ratio.plot                        text    html    latex   example
  weight.plot                       text    html    latex   example
** building package indices ...
* DONE (rama)
* creating vignettes ... OK
* cleaning src
* removing junk files
* checking for LF line-endings in source and make files
* checking for empty or unneeded directories
* building 'rama_1.12.0.tar.gz'