| rbsurv 1.5.0 Sukwoo Kim
 
 | Snapshot Date: 2008-04-09 00:13:10 -0700 (Wed, 09 Apr 2008) |  | URL: https://hedgehog.fhcrc.org/bioconductor/trunk/madman/Rpacks/rbsurv |  | Last Changed Rev: 30639 / Revision: 30951 |  | Last Changed Date: 2008-03-24 10:46:05 -0700 (Mon, 24 Mar 2008) | 
 | lamb1 | Linux (SUSE 10.1) / x86_64 | OK | OK |  | 
| wilson2 | Linux (openSUSE 10.3) / x86_64 | OK | OK |  | 
| wellington | Linux (openSUSE 10.3) / i686 | OK | OK |  | 
| liverpool | Windows Server 2003 R2 (32-bit) / x64 | OK | OK | OK | 
| pelham | Mac OS X Leopard (10.5.1) / i386 | [ OK ] | OK | OK | 
* checking for file 'rbsurv/DESCRIPTION' ... OK
* preparing 'rbsurv':
* checking DESCRIPTION meta-information ... OK
* installing the package to re-build vignettes
* Installing *source* package 'rbsurv' ...
** R
** data
** inst
** preparing package for lazy loading
Loading required package: Biobase
Loading required package: tools
Welcome to Bioconductor
  Vignettes contain introductory material. To view, type
  'openVignette()'. To cite Bioconductor, see
  'citation("Biobase")' and for packages 'citation(pkgname)'.
Loading required package: survival
Loading required package: splines
** help
 >>> Building/Updating help pages for package 'rbsurv'
     Formats: text html latex example 
  glioma                            text    html    latex
  glioma.cov                        text    html    latex
  glioma.x                          text    html    latex
  glioma.y                          text    html    latex
  rbsurv                            text    html    latex   example
** building package indices ...
* DONE (rbsurv)
* creating vignettes ... OK
* removing junk files
* checking for LF line-endings in source and make files
* checking for empty or unneeded directories
* building 'rbsurv_1.5.0.tar.gz'