| occugene 0.99.0 Oliver Will
 
 | Snapshot Date: 2008-04-09 00:13:10 -0700 (Wed, 09 Apr 2008) |  | URL: https://hedgehog.fhcrc.org/bioconductor/trunk/madman/Rpacks/occugene |  | Last Changed Rev: 30929 / Revision: 30951 |  | Last Changed Date: 2008-04-08 13:08:06 -0700 (Tue, 08 Apr 2008) | 
 | lamb1 | Linux (SUSE 10.1) / x86_64 | OK | OK |  | 
| wilson2 | Linux (openSUSE 10.3) / x86_64 | OK | OK |  | 
| wellington | Linux (openSUSE 10.3) / i686 | OK | OK |  | 
| liverpool | Windows Server 2003 R2 (32-bit) / x64 | OK | OK | OK | 
| pelham | Mac OS X Leopard (10.5.1) / i386 | [ OK ] | OK | OK | 
* checking for file 'occugene/DESCRIPTION' ... OK
* preparing 'occugene':
* checking DESCRIPTION meta-information ... OK
* installing the package to re-build vignettes
* Installing *source* package 'occugene' ...
** R
** data
** inst
** preparing package for lazy loading
** help
 >>> Building/Updating help pages for package 'occugene'
     Formats: text html latex example 
  binHist                           text    html    latex   example
  binInsert                         text    html    latex   example
  binInsertHist                     text    html    latex   example
  checkFormat                       text    html    latex   example
  delta0                            text    html    latex   example
  eMult                             text    html    latex   example
  etDelta                           text    html    latex   example
  fCumul                            text    html    latex   example
  fFit                              text    html    latex   example
  loadAnnotation                    text    html    latex   example
  loadInsertions                    text    html    latex   example
  occup2Negenes                     text    html    latex   example
  sampleAnnotation                  text    html    latex
  sampleInsertions                  text    html    latex
  unbiasB0                          text    html    latex   example
  unbiasDelta0                      text    html    latex   example
  varMult                           text    html    latex   example
** building package indices ...
* DONE (occugene)
* creating vignettes ... OK
* removing junk files
* checking for LF line-endings in source and make files
* checking for empty or unneeded directories
* building 'occugene_0.99.0.tar.gz'