| safe 2.0.1 William T. Barry
 
 | Snapshot Date: 2008-04-09 00:13:10 -0700 (Wed, 09 Apr 2008) |  | URL: https://hedgehog.fhcrc.org/bioconductor/trunk/madman/Rpacks/safe |  | Last Changed Rev: 30242 / Revision: 30951 |  | Last Changed Date: 2008-02-27 15:00:55 -0800 (Wed, 27 Feb 2008) | 
 | lamb1 | Linux (SUSE 10.1) / x86_64 | OK | OK |  | 
| wilson2 | Linux (openSUSE 10.3) / x86_64 | OK | OK |  | 
| wellington | Linux (openSUSE 10.3) / i686 | OK | OK |  | 
| liverpool | Windows Server 2003 R2 (32-bit) / x64 | OK | OK | OK | 
| pelham | Mac OS X Leopard (10.5.1) / i386 | OK | OK | [ OK ] | 
                INSTALLATION WITH 'R CMD INSTALL safe_2.0.1.tar.gz'
* Installing to library 'safe.buildbin-libdir'
* Installing *source* package 'safe' ...
** R
** inst
** preparing package for lazy loading
Loading required package: SparseM
Package SparseM (0.77) loaded.  To cite, see citation("SparseM")
Loading required package: GO
Loading required package: annotate
Loading required package: Biobase
Loading required package: tools
Welcome to Bioconductor
  Vignettes contain introductory material. To view, type
  'openVignette()'. To cite Bioconductor, see
  'citation("Biobase")' and for packages 'citation(pkgname)'.
Loading required package: AnnotationDbi
Loading required package: DBI
Loading required package: RSQLite
Loading required package: xtable
** help
 >>> Building/Updating help pages for package 'safe'
     Formats: text html latex example 
  SAFE-class                        text    html    latex
  gene.results                      text    html    latex
  getCmatrix                        text    html    latex   example
  safe-internal                     text    html    latex
  safe                              text    html    latex   example
  safedag                           text    html    latex
  safeplot                          text    html    latex   example
** building package indices ...
* DONE (safe)