| Back to the "Multiple platform build/check report" | A B C [D] E F G H I J K L M N O P Q R S T U V W X Y Z | 
| Package 63/264 | Hostname | OS / Arch | BUILD | CHECK | BUILD BIN | ||||
| daMA 1.11.0 Jobst Landgrebe 
 | lamb1 | Linux (SUSE 10.1) / x86_64 | OK | OK | |||||
| wilson2 | Linux (openSUSE 10.3) / x86_64 | OK | OK | ||||||
| wellington | Linux (openSUSE 10.3) / i686 | OK | OK | ||||||
| liverpool | Windows Server 2003 R2 (32-bit) / x64 | [ OK ] | OK | OK | |||||
| pelham | Mac OS X Leopard (10.5.1) / i386 | OK | OK | OK | 
| Package: daMA | 
| Version: 1.11.0 | 
| Command: E:\biocbld\bbs-2.2-bioc\R\bin\R.exe CMD build daMA | 
| StartedAt: 2008-04-09 03:06:24 -0700 (Wed, 09 Apr 2008) | 
| EndedAt: 2008-04-09 03:06:28 -0700 (Wed, 09 Apr 2008) | 
| EllapsedTime: 3.8 seconds | 
| RetCode: 0 | 
| Status: OK | 
| PackageFile: daMA_1.11.0.tar.gz | 
| PackageFileSize: 4.097 MiB | 
* checking for file 'daMA/DESCRIPTION' ... OK * preparing 'daMA': * checking DESCRIPTION meta-information ... OK * removing junk files * checking for LF line-endings in source and make files * checking for empty or unneeded directories * building 'daMA_1.11.0.tar.gz'