| plgem 1.11.2 Mattia Pelizzola
 
 | Snapshot Date: 2008-04-09 00:13:10 -0700 (Wed, 09 Apr 2008) |  | URL: https://hedgehog.fhcrc.org/bioconductor/trunk/madman/Rpacks/plgem |  | Last Changed Rev: 30644 / Revision: 30951 |  | Last Changed Date: 2008-03-24 14:14:44 -0700 (Mon, 24 Mar 2008) | 
 | lamb1 | Linux (SUSE 10.1) / x86_64 | OK | OK |  | 
| wilson2 | Linux (openSUSE 10.3) / x86_64 | OK | OK |  | 
| wellington | Linux (openSUSE 10.3) / i686 | OK | OK |  | 
| liverpool | Windows Server 2003 R2 (32-bit) / x64 | [ OK ] | OK | OK | 
| pelham | Mac OS X Leopard (10.5.1) / i386 | OK | OK | OK | 
* checking for file 'plgem/DESCRIPTION' ... OK
* preparing 'plgem':
* checking DESCRIPTION meta-information ... OK
* installing the package to re-build vignettes
installing R.css in E:/biocbld/bbs-2.2-bioc/tmpdir/Rinst170472854
---------- Making package plgem ------------
  adding build stamp to DESCRIPTION
  installing R files
  installing inst files
  installing data files
  installing man source files
  installing indices
  not zipping data
  installing help
 >>> Building/Updating help pages for package 'plgem'
     Formats: text html latex example chm 
  LPSeset                           text    html    latex   example chm
  plgem.deg                         text    html    latex   example chm
  plgem.fit                         text    html    latex   example chm
  plgem.obsStn                      text    html    latex   example chm
  plgem.pValue                      text    html    latex   example chm
  plgem.write.summary               text    html    latex   example chm
  run.plgem                         text    html    latex   example chm
Microsoft HTML Help Compiler 4.74.8702
Compiling e:\biocbld\bbs-2.2-bioc\meat\plgem\chm\plgem.chm
Compile time: 0 minutes, 0 seconds
8	Topics
54	Local links
13	Internet links
1	Graphic
Created e:\biocbld\bbs-2.2-bioc\meat\plgem\chm\plgem.chm, 31,576 bytes
Compression decreased file by 13,448 bytes.
  adding MD5 sums
* DONE (plgem)
* creating vignettes ... OK
* removing junk files
* checking for LF line-endings in source and make files
* checking for empty or unneeded directories
* building 'plgem_1.11.2.tar.gz'