goTools 1.11.1 Agnes Paquet
 | Snapshot Date: 2008-04-09 00:13:10 -0700 (Wed, 09 Apr 2008) |  | URL: https://hedgehog.fhcrc.org/bioconductor/trunk/madman/Rpacks/goTools |  | Last Changed Rev: 30669 / Revision: 30951 |  | Last Changed Date: 2008-03-25 14:23:48 -0700 (Tue, 25 Mar 2008) |  
  | lamb1  | Linux (SUSE 10.1) / x86_64  |  OK  | [ OK ] |  | 
| wilson2  | Linux (openSUSE 10.3) / x86_64  |  OK  |  OK  |  | 
| wellington  | Linux (openSUSE 10.3) / i686  |  OK  |  OK  |  | 
| liverpool  | Windows Server 2003 R2 (32-bit) / x64  |  OK  |  OK  |  OK  | 
| pelham  | Mac OS X Leopard (10.5.1) / i386  |  OK  |  OK  |  OK  | 
* checking for working pdflatex ... OK
* using log directory '/home/biocbuild/bbs-2.2-bioc/meat/goTools.Rcheck'
* using R version 2.7.0 beta (2008-04-07 r45159)
* using session charset: ISO8859-1
* checking for file 'goTools/DESCRIPTION' ... OK
* this is package 'goTools' version '1.11.1'
* checking package dependencies ... OK
* checking if this is a source package ... OK
* checking whether package 'goTools' can be installed ... OK
* checking package directory ... OK
* checking for portable file names ... OK
* checking for sufficient/correct file permissions ... OK
* checking DESCRIPTION meta-information ... OK
* checking top-level files ... OK
* checking index information ... OK
* checking package subdirectories ... OK
* checking R files for non-ASCII characters ... OK
* checking R files for syntax errors ... OK
* checking whether the package can be loaded ... OK
* checking whether the package can be loaded with stated dependencies ... OK
* checking for unstated dependencies in R code ... OK
* checking S3 generic/method consistency ... OK
* checking replacement functions ... OK
* checking foreign function calls ... OK
* checking R code for possible problems ... OK
* checking Rd files ... OK
* checking Rd cross-references ... OK
* checking for missing documentation entries ... OK
* checking for code/documentation mismatches ... OK
* checking Rd \usage sections ... OK
* checking data for non-ASCII characters ... OK
* creating goTools-Ex.R ... OK
* checking examples ... OK
* checking package vignettes in 'inst/doc' ... OK
* creating goTools-manual.tex ... OK
* checking goTools-manual.tex using pdflatex ... OK
 
* Installing *source* package 'goTools' ...
** R
** data
** inst
** preparing package for lazy loading
Loading required package: Biobase
Loading required package: tools
Welcome to Bioconductor
  Vignettes contain introductory material. To view, type
  'openVignette()'. To cite Bioconductor, see
  'citation("Biobase")' and for packages 'citation(pkgname)'.
Loading required package: annotate
Loading required package: AnnotationDbi
Loading required package: DBI
Loading required package: RSQLite
Loading required package: xtable
Loading required package: GO
** help
 >>> Building/Updating help pages for package 'goTools'
     Formats: text html latex example 
  EndNodeList                       text    html    latex   example
  goTools-internal                  text    html    latex
  ontoCompare                       text    html    latex   example
  probeID                           text    html    latex
** building package indices ...
* DONE (goTools)