RefPlus 1.9.0 Kai-Ming Chang
 | Snapshot Date: 2008-04-09 00:13:10 -0700 (Wed, 09 Apr 2008) |  | URL: https://hedgehog.fhcrc.org/bioconductor/trunk/madman/Rpacks/RefPlus |  | Last Changed Rev: 30639 / Revision: 30951 |  | Last Changed Date: 2008-03-24 10:46:05 -0700 (Mon, 24 Mar 2008) |  
  | lamb1  | Linux (SUSE 10.1) / x86_64  |  OK  |  OK  |  | 
| wilson2  | Linux (openSUSE 10.3) / x86_64  |  OK  |  OK  |  | 
| wellington  | Linux (openSUSE 10.3) / i686  | [ OK ] |  OK  |  | 
| liverpool  | Windows Server 2003 R2 (32-bit) / x64  |  OK  |  OK  |  OK  | 
| pelham  | Mac OS X Leopard (10.5.1) / i386  |  OK  |  OK  |  OK  | 
* checking for file 'RefPlus/DESCRIPTION' ... OK
* preparing 'RefPlus':
* checking DESCRIPTION meta-information ... OK
* installing the package to re-build vignettes
* Installing *source* package 'RefPlus' ...
** R
** inst
** help
Note: removing empty section \references
Note: removing empty section \examples
 >>> Building/Updating help pages for package 'RefPlus'
     Formats: text html latex example 
  RefPlus-package                   text    html    latex   example
  colMedians                        text    html    latex   example
  normalize.quantiles2              text    html    latex   example
  rma.para                          text    html    latex   example
  rmaplus                           text    html    latex   example
  rmaref.predict                    text    html    latex
** building package indices ...
* DONE (RefPlus)
* creating vignettes ... OK
* removing junk files
* checking for LF line-endings in source and make files
* checking for empty or unneeded directories
* building 'RefPlus_1.9.0.tar.gz'