gpls 1.11.1 Biocore Team c/o BioC user list
 | Snapshot Date: 2008-04-09 00:13:10 -0700 (Wed, 09 Apr 2008) |  | URL: https://hedgehog.fhcrc.org/bioconductor/trunk/madman/Rpacks/gpls |  | Last Changed Rev: 30639 / Revision: 30951 |  | Last Changed Date: 2008-03-24 10:46:05 -0700 (Mon, 24 Mar 2008) |  
  | lamb1  | Linux (SUSE 10.1) / x86_64  |  OK  |  OK  |  | 
| wilson2  | Linux (openSUSE 10.3) / x86_64  |  OK  |  OK  |  | 
| wellington  | Linux (openSUSE 10.3) / i686  | [ OK ] |  OK  |  | 
| liverpool  | Windows Server 2003 R2 (32-bit) / x64  |  OK  |  OK  |  OK  | 
| pelham  | Mac OS X Leopard (10.5.1) / i386  |  OK  |  OK  |  OK  | 
* checking for file 'gpls/DESCRIPTION' ... OK
* preparing 'gpls':
* checking DESCRIPTION meta-information ... OK
* installing the package to re-build vignettes
* Installing *source* package 'gpls' ...
** R
** inst
** help
Note: removing empty section \details
Note: removing empty section \note
Note: removing empty section \details
Note: removing empty section \note
Note: removing empty section \details
Note: removing empty section \note
Note: removing empty section \details
Note: removing empty section \note
Note: removing empty section \details
Note: removing empty section \note
Note: removing empty section \details
Note: removing empty section \note
 >>> Building/Updating help pages for package 'gpls'
     Formats: text html latex example 
  glpls1a                           text    html    latex   example
  glpls1a.cv.error                  text    html    latex   example
  glpls1a.logit.all                 text    html    latex   example
  glpls1a.mlogit                    text    html    latex   example
  glpls1a.mlogit.cv.error           text    html    latex   example
  glpls1a.train.test.error          text    html    latex   example
  gpls                              text    html    latex   example
  predict.gpls                      text    html    latex   example
** building package indices ...
* DONE (gpls)
* creating vignettes ... OK
* removing junk files
* checking for LF line-endings in source and make files
* checking for empty or unneeded directories
* building 'gpls_1.11.1.tar.gz'