| geneplotter 1.17.7 Biocore Team c/o BioC user list
 
 | Snapshot Date: 2008-04-09 00:13:10 -0700 (Wed, 09 Apr 2008) |  | URL: https://hedgehog.fhcrc.org/bioconductor/trunk/madman/Rpacks/geneplotter |  | Last Changed Rev: 30220 / Revision: 30951 |  | Last Changed Date: 2008-02-26 16:30:27 -0800 (Tue, 26 Feb 2008) | 
 | lamb1 | Linux (SUSE 10.1) / x86_64 | OK | OK |  | 
| wilson2 | Linux (openSUSE 10.3) / x86_64 | OK | OK |  | 
| wellington | Linux (openSUSE 10.3) / i686 | OK | OK |  | 
| liverpool | Windows Server 2003 R2 (32-bit) / x64 | [ OK ] | OK | OK | 
| pelham | Mac OS X Leopard (10.5.1) / i386 | OK | OK | OK | 
* checking for file 'geneplotter/DESCRIPTION' ... OK
* preparing 'geneplotter':
* checking DESCRIPTION meta-information ... OK
* installing the package to re-build vignettes
installing R.css in E:/biocbld/bbs-2.2-bioc/tmpdir/Rinst219252047
---------- Making package geneplotter ------------
  adding build stamp to DESCRIPTION
  installing NAMESPACE file and metadata
  installing R files
  installing inst files
  installing data files
  preparing package geneplotter for lazy loading
Loading required package: annotate
Loading required package: Biobase
Loading required package: tools
Welcome to Bioconductor
  Vignettes contain introductory material. To view, type
  'openVignette()'. To cite Bioconductor, see
  'citation("Biobase")' and for packages 'citation(pkgname)'.
Loading required package: AnnotationDbi
Loading required package: DBI
Loading required package: RSQLite
Loading required package: xtable
Loading required package: lattice
KernSmooth 2.22 installed
Copyright M. P. Wand 1997
  installing man source files
  installing indices
  not zipping data
  installing help
Note: removing empty section \seealso
Note: removing empty section \seealso
 >>> Building/Updating help pages for package 'geneplotter'
     Formats: text html latex example chm 
  GetColor                          text    html    latex   example chm
  Makesense                         text    html    latex   example chm
  alongChrom                        text    html    latex   example chm
  amplicon.plot                     text    html    latex   example chm
  cColor                            text    html    latex   example chm
  cPlot                             text    html    latex   example chm
  cScale                            text    html    latex   example chm
  classes                           text    html    latex           chm
  eset133a                          text    html    latex   example chm
  histStack                         text    html    latex   example chm
  imageMap                          text    html    latex   example chm
  make.chromOrd                     text    html    latex   example chm
  multiecdf                         text    html    latex   example chm
  openHtmlPage                      text    html    latex   example chm
  panel.smoothScatter               text    html    latex   example chm
  plotChr                           text    html    latex   example chm
  plotExpressionGraph               text    html    latex   example chm
  savepng                           text    html    latex   example chm
  smoothscatter                     text    html    latex   example chm
Microsoft HTML Help Compiler 4.74.8702
Compiling e:\biocbld\bbs-2.2-bioc\meat\geneplotter\chm\geneplotter.chm
Compile time: 0 minutes, 1 second
20	Topics
87	Local links
5	Internet links
1	Graphic
Created e:\biocbld\bbs-2.2-bioc\meat\geneplotter\chm\geneplotter.chm, 54,780 bytes
Compression decreased file by 46,363 bytes.
  adding MD5 sums
* DONE (geneplotter)
* creating vignettes ... OK
* removing junk files
* checking for LF line-endings in source and make files
* checking for empty or unneeded directories
* building 'geneplotter_1.17.7.tar.gz'