| stepNorm 1.11.1 Yuanyuan Xiao
 
 | Snapshot Date: 2008-04-09 00:13:10 -0700 (Wed, 09 Apr 2008) |  | URL: https://hedgehog.fhcrc.org/bioconductor/trunk/madman/Rpacks/stepNorm |  | Last Changed Rev: 30535 / Revision: 30951 |  | Last Changed Date: 2008-03-15 22:32:48 -0700 (Sat, 15 Mar 2008) | 
 | lamb1 | Linux (SUSE 10.1) / x86_64 | OK | OK |  | 
| wilson2 | Linux (openSUSE 10.3) / x86_64 | OK | OK |  | 
| wellington | Linux (openSUSE 10.3) / i686 | OK | OK |  | 
| liverpool | Windows Server 2003 R2 (32-bit) / x64 | OK | [ OK ] | OK | 
| pelham | Mac OS X Leopard (10.5.1) / i386 | OK | OK | OK | 
* checking for working pdflatex ... OK
* using log directory 'E:/biocbld/bbs-2.2-bioc/meat/stepNorm.Rcheck'
* using R version 2.7.0 Under development (unstable) (2008-03-10 r44730)
* using session charset: ISO8859-1
* checking for file 'stepNorm/DESCRIPTION' ... OK
* this is package 'stepNorm' version '1.11.1'
* checking package dependencies ... OK
* checking if this is a source package ... OK
* checking whether package 'stepNorm' can be installed ... OK
* checking package directory ... OK
* checking for portable file names ... OK
* checking DESCRIPTION meta-information ... OK
* checking top-level files ... OK
* checking index information ... OK
* checking package subdirectories ... OK
* checking R files for non-ASCII characters ... OK
* checking R files for syntax errors ... OK
* checking whether the package can be loaded ... OK
* checking whether the package can be loaded with stated dependencies ... OK
* checking for unstated dependencies in R code ... OK
* checking S3 generic/method consistency ... OK
* checking replacement functions ... OK
* checking foreign function calls ... OK
* checking R code for possible problems ... OK
* checking Rd files ... OK
* checking Rd cross-references ... OK
* checking for missing documentation entries ... OK
* checking for code/documentation mismatches ... OK
* checking Rd \usage sections ... OK
* creating stepNorm-Ex.R ... OK
* checking examples ... OK
* creating stepNorm-manual.tex ... OK
* checking stepNorm-manual.tex using pdflatex ... OK
 
installing R.css in E:/biocbld/bbs-2.2-bioc/meat/stepNorm.Rcheck
---------- Making package stepNorm ------------
  adding build stamp to DESCRIPTION
  installing R files
  installing inst files
  installing man source files
  installing indices
  installing help
 >>> Building/Updating help pages for package 'stepNorm'
     Formats: text html latex example chm 
  calcAIC                           text    html    latex   example chm
  calcBIC                           text    html    latex   example chm
  fit2DWithin                       text    html    latex   example chm
  fitWithin                         text    html    latex   example chm
  maCompPlate2                      text    html    latex   example chm
  makeStepList                      text    html    latex   example chm
  marrayFitClass                    text    html    latex   example chm
  seqWithinNorm                     text    html    latex   example chm
  stepNorm-internal                 text    html    latex           chm
  stepWithinNorm                    text    html    latex   example chm
  withinNorm                        text    html    latex   example chm
Microsoft HTML Help Compiler 4.74.8702
Compiling e:\biocbld\bbs-2.2-bioc\meat\stepNorm.Rcheck\00_pkg_src\stepNorm\chm\stepNorm.chm
Compile time: 0 minutes, 0 seconds
12	Topics
71	Local links
0	Internet links
1	Graphic
Created e:\biocbld\bbs-2.2-bioc\meat\stepNorm.Rcheck\00_pkg_src\stepNorm\chm\stepNorm.chm, 40,419 bytes
Compression decreased file by 40,688 bytes.
  adding MD5 sums
* DONE (stepNorm)