| GSEAlm 0.99.1 Assaf Oron
 
 | Snapshot Date: 2008-04-09 00:13:10 -0700 (Wed, 09 Apr 2008) |  | URL: https://hedgehog.fhcrc.org/bioconductor/trunk/madman/Rpacks/GSEAlm |  | Last Changed Rev: 30765 / Revision: 30951 |  | Last Changed Date: 2008-03-31 12:21:53 -0700 (Mon, 31 Mar 2008) | 
 | lamb1 | Linux (SUSE 10.1) / x86_64 | OK | OK |  | 
| wilson2 | Linux (openSUSE 10.3) / x86_64 | OK | OK |  | 
| wellington | Linux (openSUSE 10.3) / i686 | OK | OK |  | 
| liverpool | Windows Server 2003 R2 (32-bit) / x64 | OK | OK | [ OK ] | 
| pelham | Mac OS X Leopard (10.5.1) / i386 | OK | OK | OK | 
installing R.css in E:/biocbld/bbs-2.2-bioc/meat/GSEAlm.buildbin-libdir
Using auto-selected zip options ''
---------- Making package GSEAlm ------------
  adding build stamp to DESCRIPTION
  installing NAMESPACE file and metadata
  installing R files
  installing inst files
  installing man source files
  installing indices
  installing help
Note: removing empty section \references
Note: removing empty section \references
 >>> Building/Updating help pages for package 'GSEAlm'
     Formats: text html latex example chm 
  GSNormalize                       text    html    latex   example chm
  dfbetasPerGene                    text    html    latex   example chm
  getResidPerGene                   text    html    latex   example chm
  gsealmPerm                        text    html    latex   example chm
  lmPerGene                         text    html    latex   example chm
  resplot                           text    html    latex   example chm
Microsoft HTML Help Compiler 4.74.8702
Compiling e:\biocbld\bbs-2.2-bioc\meat\R.INSTALL.3472\GSEAlm\chm\GSEAlm.chm
Compile time: 0 minutes, 1 second
7	Topics
35	Local links
0	Internet links
1	Graphic
Created e:\biocbld\bbs-2.2-bioc\meat\R.INSTALL.3472\GSEAlm\chm\GSEAlm.chm, 37,375 bytes
Compression decreased file by 8,474 bytes.
  adding MD5 sums
packaged installation of package 'GSEAlm' as GSEAlm_0.99.1.zip
* DONE (GSEAlm)